{"text_format":"3","workbook":"xlsx","n_sheets":1,"sheets":["Sheet1"],"not_rendered":{"external_links":1,"defined_names":1},"read":"whole","date_system":"1900"}

{"sheet":"Sheet1","index":0,"n_rows":1502,"n_cols":3,"rows_kept":1502,"merged":[[0,0,0,2],[1,0,1,2]]}
["附件"]
["龙华区2025年创新型中小企业公示名单"]
["序号","企业名称","统一社会信用代码"]
[1,"深圳市腾瑞环境科技有限公司",{"$f":"VLOOKUP(B4:B1502,[1]创新型中小企业导出Excel!A$3:O$1946,15,FALSE)","v":"9144030007037960XP"}]
[2,"深圳市远筑建设工程有限公司",{"$f":"VLOOKUP(B5:B1503,[1]创新型中小企业导出Excel!A$3:O$1946,15,FALSE)","v":"91440300MA5FF10M4L"}]
[3,"深圳市凯锐凌峰科技有限公司",{"$f":"VLOOKUP(B6:B1504,[1]创新型中小企业导出Excel!A$3:O$1946,15,FALSE)","v":"91440300574792000L"}]
[4,"深圳市格瑞德智能科技有限公司",{"$f":"VLOOKUP(B7:B1505,[1]创新型中小企业导出Excel!A$3:O$1946,15,FALSE)","v":"91440300088415621X"}]
[5,"深圳拓普泰科科技有限公司",{"$f":"VLOOKUP(B8:B1506,[1]创新型中小企业导出Excel!A$3:O$1946,15,FALSE)","v":"91440300MA5DD9YJ54"}]
[6,"深圳市纬博通科技有限公司",{"$f":"VLOOKUP(B9:B1507,[1]创新型中小企业导出Excel!A$3:O$1946,15,FALSE)","v":"914403005627636599"}]
[7,"深圳市志凌伟业技术股份有限公司",{"$f":"VLOOKUP(B10:B1508,[1]创新型中小企业导出Excel!A$3:O$1946,15,FALSE)","v":"91440300580089098Q"}]
[8,"深圳市麦芽智能设备有限公司",{"$f":"VLOOKUP(B11:B1509,[1]创新型中小企业导出Excel!A$3:O$1946,15,FALSE)","v":"91440300MA5DAR9N11"}]
[9,"深圳市联芯物联科技有限公司",{"$f":"VLOOKUP(B12:B1510,[1]创新型中小企业导出Excel!A$3:O$1946,15,FALSE)","v":"91440300MA5FN7M63T"}]
[10,"深圳市永益鑫包装科技有限公司",{"$f":"VLOOKUP(B13:B1511,[1]创新型中小企业导出Excel!A$3:O$1946,15,FALSE)","v":"9144030068203715XX"}]
[11,"深圳市佳创计算机科技有限公司",{"$f":"VLOOKUP(B14:B1512,[1]创新型中小企业导出Excel!A$3:O$1946,15,FALSE)","v":"91440300MA5H2MCY7C"}]
[12,"深圳市银鑫合金科技有限公司",{"$f":"VLOOKUP(B15:B1513,[1]创新型中小企业导出Excel!A$3:O$1946,15,FALSE)","v":"91440300MA5DLBE01Y"}]
[13,"中利恒科技（深圳）有限公司",{"$f":"VLOOKUP(B16:B1514,[1]创新型中小企业导出Excel!A$3:O$1946,15,FALSE)","v":"91440300MA5G64PC17"}]
[14,"深圳市灵芯微电子科技有限公司",{"$f":"VLOOKUP(B17:B1515,[1]创新型中小企业导出Excel!A$3:O$1946,15,FALSE)","v":"91440300MA5GD2Q37X"}]
[15,"广东鼎志生物科技有限公司",{"$f":"VLOOKUP(B18:B1516,[1]创新型中小企业导出Excel!A$3:O$1946,15,FALSE)","v":"91440300MA5FK08T78"}]
[16,"深圳市景泰来建筑装饰工程有限公司",{"$f":"VLOOKUP(B19:B1517,[1]创新型中小企业导出Excel!A$3:O$1946,15,FALSE)","v":"914403003565080320"}]
[17,"深圳力合报业大数据中心有限公司",{"$f":"VLOOKUP(B20:B1518,[1]创新型中小企业导出Excel!A$3:O$1946,15,FALSE)","v":"91440300MA5FFXDX41"}]
[18,"深圳市硕克思科技有限公司",{"$f":"VLOOKUP(B21:B1519,[1]创新型中小企业导出Excel!A$3:O$1946,15,FALSE)","v":"91440300358250186Q"}]
[19,"深圳市迈连科技有限公司",{"$f":"VLOOKUP(B22:B1520,[1]创新型中小企业导出Excel!A$3:O$1946,15,FALSE)","v":"91440300MA5D82Y89W"}]
[20,"深圳市佳达顺科技有限公司",{"$f":"VLOOKUP(B23:B1521,[1]创新型中小企业导出Excel!A$3:O$1946,15,FALSE)","v":"91440300060278645M"}]
[21,"深圳市亮影科技有限公司",{"$f":"VLOOKUP(B24:B1522,[1]创新型中小企业导出Excel!A$3:O$1946,15,FALSE)","v":"91440300769152222D"}]
[22,"深圳市奔美程科技有限公司",{"$f":"VLOOKUP(B25:B1523,[1]创新型中小企业导出Excel!A$3:O$1946,15,FALSE)","v":"91440300088697630D"}]
[23,"深圳市九天创新科技有限责任公司",{"$f":"VLOOKUP(B26:B1524,[1]创新型中小企业导出Excel!A$3:O$1946,15,FALSE)","v":"91440300359946281T"}]
[24,"深圳市君安宏图技术有限公司",{"$f":"VLOOKUP(B27:B1525,[1]创新型中小企业导出Excel!A$3:O$1946,15,FALSE)","v":"91440300MA5EQ08U7D"}]
[25,"深圳市光瑞实业有限公司",{"$f":"VLOOKUP(B28:B1526,[1]创新型中小企业导出Excel!A$3:O$1946,15,FALSE)","v":"91440300754281726P"}]
[26,"深圳市烨达科技有限公司",{"$f":"VLOOKUP(B29:B1527,[1]创新型中小企业导出Excel!A$3:O$1946,15,FALSE)","v":"91440300083413053P"}]
[27,"深圳市中科电子科技有限公司",{"$f":"VLOOKUP(B30:B1528,[1]创新型中小企业导出Excel!A$3:O$1946,15,FALSE)","v":"914403003592169402"}]
[28,"深圳市漾菲斯科技有限公司",{"$f":"VLOOKUP(B31:B1529,[1]创新型中小企业导出Excel!A$3:O$1946,15,FALSE)","v":"91440300311752103Y"}]
[29,"深圳市鑫诺诚科技有限公司",{"$f":"VLOOKUP(B32:B1530,[1]创新型中小企业导出Excel!A$3:O$1946,15,FALSE)","v":"914403005700304040"}]
[30,"深圳泰豪信息技术有限公司",{"$f":"VLOOKUP(B33:B1531,[1]创新型中小企业导出Excel!A$3:O$1946,15,FALSE)","v":"91440300MA5GBC4X96"}]
[31,"深圳市新红景科技开发有限公司",{"$f":"VLOOKUP(B34:B1532,[1]创新型中小企业导出Excel!A$3:O$1946,15,FALSE)","v":"91440300777171685H"}]
[32,"深圳市德同兴电子股份有限公司",{"$f":"VLOOKUP(B35:B1533,[1]创新型中小企业导出Excel!A$3:O$1946,15,FALSE)","v":"914403007852645070"}]
[33,"深圳市惠康生物科技有限公司",{"$f":"VLOOKUP(B36:B1534,[1]创新型中小企业导出Excel!A$3:O$1946,15,FALSE)","v":"91440300359956738F"}]
[34,"深圳市聚宠实业有限公司",{"$f":"VLOOKUP(B37:B1535,[1]创新型中小企业导出Excel!A$3:O$1946,15,FALSE)","v":"914403003193087444"}]
[35,"深圳轩辕星电子科技有限公司",{"$f":"VLOOKUP(B38:B1536,[1]创新型中小企业导出Excel!A$3:O$1946,15,FALSE)","v":"91440300064959675B"}]
[36,"深圳市兴瑞微科技有限公司",{"$f":"VLOOKUP(B39:B1537,[1]创新型中小企业导出Excel!A$3:O$1946,15,FALSE)","v":"91440300574790195L"}]
[37,"深圳市达远显示技术有限公司",{"$f":"VLOOKUP(B40:B1538,[1]创新型中小企业导出Excel!A$3:O$1946,15,FALSE)","v":"91440300MA5FG0MA9G"}]
[38,"昕海智创（深圳）科技有限公司",{"$f":"VLOOKUP(B41:B1539,[1]创新型中小企业导出Excel!A$3:O$1946,15,FALSE)","v":"91440300MA5DFUWEXG"}]
[39,"深圳市天翼恒科技有限公司",{"$f":"VLOOKUP(B42:B1540,[1]创新型中小企业导出Excel!A$3:O$1946,15,FALSE)","v":"91440300693957904P"}]
[40,"深圳市嘉河天成科技有限公司",{"$f":"VLOOKUP(B43:B1541,[1]创新型中小企业导出Excel!A$3:O$1946,15,FALSE)","v":"9144030056708986XB"}]
[41,"深圳市申梦科技有限公司",{"$f":"VLOOKUP(B44:B1542,[1]创新型中小企业导出Excel!A$3:O$1946,15,FALSE)","v":"91440300359452222M"}]
[42,"深圳市台微影像有限公司",{"$f":"VLOOKUP(B45:B1543,[1]创新型中小企业导出Excel!A$3:O$1946,15,FALSE)","v":"91440300MA5FRTN02P"}]
[43,"深圳星睿数智技术有限公司",{"$f":"VLOOKUP(B46:B1544,[1]创新型中小企业导出Excel!A$3:O$1946,15,FALSE)","v":"91440300MA5H25XY40"}]
[44,"深圳市视宇通科技有限公司",{"$f":"VLOOKUP(B47:B1545,[1]创新型中小企业导出Excel!A$3:O$1946,15,FALSE)","v":"914403000824888034"}]
[45,"广东好佰好实业有限公司",{"$f":"VLOOKUP(B48:B1546,[1]创新型中小企业导出Excel!A$3:O$1946,15,FALSE)","v":"91440300305903921L"}]
[46,"深圳市晟情润物科技有限公司",{"$f":"VLOOKUP(B49:B1547,[1]创新型中小企业导出Excel!A$3:O$1946,15,FALSE)","v":"91440300MA5HF3GDX8"}]
[47,"深圳市凯龙建筑加固技术有限公司",{"$f":"VLOOKUP(B50:B1548,[1]创新型中小企业导出Excel!A$3:O$1946,15,FALSE)","v":"91440300668509528M"}]
[48,"绿诺智能环境（深圳）有限公司",{"$f":"VLOOKUP(B51:B1549,[1]创新型中小企业导出Excel!A$3:O$1946,15,FALSE)","v":"91440300MA5FDBP34D"}]
[49,"深圳飞赛精密钣金技术有限公司",{"$f":"VLOOKUP(B52:B1550,[1]创新型中小企业导出Excel!A$3:O$1946,15,FALSE)","v":"91440300088335349L"}]
[50,"深圳市硕控智能科技有限公司",{"$f":"VLOOKUP(B53:B1551,[1]创新型中小企业导出Excel!A$3:O$1946,15,FALSE)","v":"91440300685395059L"}]
[51,"深圳市云湖电子科技有限公司",{"$f":"VLOOKUP(B54:B1552,[1]创新型中小企业导出Excel!A$3:O$1946,15,FALSE)","v":"914403000883396733"}]
[52,"深圳市鸿达利塑胶制品有限公司",{"$f":"VLOOKUP(B55:B1553,[1]创新型中小企业导出Excel!A$3:O$1946,15,FALSE)","v":"91440300795423487K"}]
[53,"深圳市广和通科技有限公司",{"$f":"VLOOKUP(B56:B1554,[1]创新型中小企业导出Excel!A$3:O$1946,15,FALSE)","v":"91440300MA5HC69X0M"}]
[54,"深圳市向光半导体有限公司",{"$f":"VLOOKUP(B57:B1555,[1]创新型中小企业导出Excel!A$3:O$1946,15,FALSE)","v":"91440300574788060E"}]
[55,"深圳市华磊迅拓科技有限公司",{"$f":"VLOOKUP(B58:B1556,[1]创新型中小企业导出Excel!A$3:O$1946,15,FALSE)","v":"91440300779874026G"}]
[56,"深圳市鑫尼达科技有限公司",{"$f":"VLOOKUP(B59:B1557,[1]创新型中小企业导出Excel!A$3:O$1946,15,FALSE)","v":"9144030057882177XB"}]
[57,"深圳丰电新能源科技有限公司",{"$f":"VLOOKUP(B60:B1558,[1]创新型中小企业导出Excel!A$3:O$1946,15,FALSE)","v":"91440300MA5FYD2K72"}]
[58,"深圳市盛隆科技有限公司",{"$f":"VLOOKUP(B61:B1559,[1]创新型中小企业导出Excel!A$3:O$1946,15,FALSE)","v":"91440300MA5DDRJN1B"}]
[59,"深圳市八达晟电子有限公司",{"$f":"VLOOKUP(B62:B1560,[1]创新型中小企业导出Excel!A$3:O$1946,15,FALSE)","v":"9144030068539219XN"}]
[60,"深圳市华瑞拓科技有限公司",{"$f":"VLOOKUP(B63:B1561,[1]创新型中小企业导出Excel!A$3:O$1946,15,FALSE)","v":"91440300MA5EMF0BXQ"}]
[61,"恩喜村（深圳）食品有限公司",{"$f":"VLOOKUP(B64:B1562,[1]创新型中小企业导出Excel!A$3:O$1946,15,FALSE)","v":"91440300MA5EQDRQ03"}]
[62,"深圳市汇实电子有限公司",{"$f":"VLOOKUP(B65:B1563,[1]创新型中小企业导出Excel!A$3:O$1946,15,FALSE)","v":"91440300574784940J"}]
[63,"深圳市裕安达智能科技有限公司",{"$f":"VLOOKUP(B66:B1564,[1]创新型中小企业导出Excel!A$3:O$1946,15,FALSE)","v":"914403003427444134"}]
[64,"通九州信息（深圳）有限公司",{"$f":"VLOOKUP(B67:B1565,[1]创新型中小企业导出Excel!A$3:O$1946,15,FALSE)","v":"914403003194113621"}]
[65,"深圳市聚友源科技开发有限公司",{"$f":"VLOOKUP(B68:B1566,[1]创新型中小企业导出Excel!A$3:O$1946,15,FALSE)","v":"91440300MA5FGYYR7M"}]
[66,"深圳汐叶科技有限公司",{"$f":"VLOOKUP(B69:B1567,[1]创新型中小企业导出Excel!A$3:O$1946,15,FALSE)","v":"91440300358809373K"}]
[67,"深圳市弘盛优创机电工程设计有限公司",{"$f":"VLOOKUP(B70:B1568,[1]创新型中小企业导出Excel!A$3:O$1946,15,FALSE)","v":"91440300359300165M"}]
[68,"深圳市日昭智能科技有限公司",{"$f":"VLOOKUP(B71:B1569,[1]创新型中小企业导出Excel!A$3:O$1946,15,FALSE)","v":"91440300MA5GJM9J78"}]
[69,"深圳市群晟科技有限公司",{"$f":"VLOOKUP(B72:B1570,[1]创新型中小企业导出Excel!A$3:O$1946,15,FALSE)","v":"91440300576394276A"}]
[70,"深圳市丽景生态环境有限公司",{"$f":"VLOOKUP(B73:B1571,[1]创新型中小企业导出Excel!A$3:O$1946,15,FALSE)","v":"91440300MA5EXX3B8U"}]
[71,"深圳市凌皓科技有限公司",{"$f":"VLOOKUP(B74:B1572,[1]创新型中小企业导出Excel!A$3:O$1946,15,FALSE)","v":"9144030059430588XX"}]
[72,"深圳市唐为电子有限公司",{"$f":"VLOOKUP(B75:B1573,[1]创新型中小企业导出Excel!A$3:O$1946,15,FALSE)","v":"91440300683752075K"}]
[73,"深圳市顺远光学有限责任公司",{"$f":"VLOOKUP(B76:B1574,[1]创新型中小企业导出Excel!A$3:O$1946,15,FALSE)","v":"91440300MA5HF3Q23R"}]
[74,"深圳市华地岩土工程有限公司",{"$f":"VLOOKUP(B77:B1575,[1]创新型中小企业导出Excel!A$3:O$1946,15,FALSE)","v":"91440300MA5F3BHT1C"}]
[75,"深圳市港源微键技术有限公司",{"$f":"VLOOKUP(B78:B1576,[1]创新型中小企业导出Excel!A$3:O$1946,15,FALSE)","v":"91440300578831134F"}]
[76,"深圳市科信网安科技有限公司",{"$f":"VLOOKUP(B79:B1577,[1]创新型中小企业导出Excel!A$3:O$1946,15,FALSE)","v":"91440300MA5DNL8M13"}]
[77,"深圳市微点流体技术有限公司",{"$f":"VLOOKUP(B80:B1578,[1]创新型中小企业导出Excel!A$3:O$1946,15,FALSE)","v":"91440300MA5FQ3JW20"}]
[78,"环融生态数字科技（深圳）有限公司",{"$f":"VLOOKUP(B81:B1579,[1]创新型中小企业导出Excel!A$3:O$1946,15,FALSE)","v":"91440300MA5H1QYM4X"}]
[79,"深圳市科迈思智能设备有限公司",{"$f":"VLOOKUP(B82:B1580,[1]创新型中小企业导出Excel!A$3:O$1946,15,FALSE)","v":"91440300MA5ETU260J"}]
[80,"深圳市众志云海技术有限公司",{"$f":"VLOOKUP(B83:B1581,[1]创新型中小企业导出Excel!A$3:O$1946,15,FALSE)","v":"91440300MA5F06L34K"}]
[81,"深圳市锦读科技有限公司",{"$f":"VLOOKUP(B84:B1582,[1]创新型中小企业导出Excel!A$3:O$1946,15,FALSE)","v":"91440300MA5EDWNX3P"}]
[82,"深圳市设想制造科技有限公司",{"$f":"VLOOKUP(B85:B1583,[1]创新型中小企业导出Excel!A$3:O$1946,15,FALSE)","v":"91440300MA5EWWU36N"}]
[83,"深圳市志美通智能科技有限公司",{"$f":"VLOOKUP(B86:B1584,[1]创新型中小企业导出Excel!A$3:O$1946,15,FALSE)","v":"91440300781380105F"}]
[84,"深圳市卓勤互联科技有限公司",{"$f":"VLOOKUP(B87:B1585,[1]创新型中小企业导出Excel!A$3:O$1946,15,FALSE)","v":"914403003592394649"}]
[85,"深圳市启云数字科技有限公司",{"$f":"VLOOKUP(B88:B1586,[1]创新型中小企业导出Excel!A$3:O$1946,15,FALSE)","v":"91440300MA5G0794XD"}]
[86,"深圳市盛莱普智能科技有限公司",{"$f":"VLOOKUP(B89:B1587,[1]创新型中小企业导出Excel!A$3:O$1946,15,FALSE)","v":"91440300326627452D"}]
[87,"深圳市慧之臻智能科技有限公司",{"$f":"VLOOKUP(B90:B1588,[1]创新型中小企业导出Excel!A$3:O$1946,15,FALSE)","v":"91440300MA5DM3DP35"}]
[88,"深圳市瞳学科技有限公司",{"$f":"VLOOKUP(B91:B1589,[1]创新型中小企业导出Excel!A$3:O$1946,15,FALSE)","v":"91440300MA5F0YGJX7"}]
[89,"深圳市创生达电子有限公司",{"$f":"VLOOKUP(B92:B1590,[1]创新型中小企业导出Excel!A$3:O$1946,15,FALSE)","v":"914403003426276120"}]
[90,"深圳市星地遥感科技有限公司",{"$f":"VLOOKUP(B93:B1591,[1]创新型中小企业导出Excel!A$3:O$1946,15,FALSE)","v":"91441900MA573WJP1G"}]
[91,"深圳市新柯尔科技有限公司",{"$f":"VLOOKUP(B94:B1592,[1]创新型中小企业导出Excel!A$3:O$1946,15,FALSE)","v":"914403007827807922"}]
[92,"深圳市昆鱼科技有限公司",{"$f":"VLOOKUP(B95:B1593,[1]创新型中小企业导出Excel!A$3:O$1946,15,FALSE)","v":"914403003117942234"}]
[93,"深圳市青柠檬网络科技有限公司",{"$f":"VLOOKUP(B96:B1594,[1]创新型中小企业导出Excel!A$3:O$1946,15,FALSE)","v":"91440300359235586A"}]
[94,"深圳市巨扬达科技有限公司",{"$f":"VLOOKUP(B97:B1595,[1]创新型中小企业导出Excel!A$3:O$1946,15,FALSE)","v":"91440300319514505P"}]
[95,"深圳市德山信通电子有限公司",{"$f":"VLOOKUP(B98:B1596,[1]创新型中小企业导出Excel!A$3:O$1946,15,FALSE)","v":"91440300306080816L"}]
[96,"深圳亿成光电科技有限公司",{"$f":"VLOOKUP(B99:B1597,[1]创新型中小企业导出Excel!A$3:O$1946,15,FALSE)","v":"91440300058965411Y"}]
[97,"深圳市博通互联网络科技有限公司",{"$f":"VLOOKUP(B100:B1598,[1]创新型中小企业导出Excel!A$3:O$1946,15,FALSE)","v":"91440300MA5ENG3C5F"}]
[98,"深圳市卓芯微科技有限公司",{"$f":"VLOOKUP(B101:B1599,[1]创新型中小企业导出Excel!A$3:O$1946,15,FALSE)","v":"91440300558660075P"}]
[99,"深圳市珑威盛科电子有限公司",{"$f":"VLOOKUP(B102:B1600,[1]创新型中小企业导出Excel!A$3:O$1946,15,FALSE)","v":"9144030007336469XP"}]
[100,"深圳市北科检测科技有限公司",{"$f":"VLOOKUP(B103:B1601,[1]创新型中小企业导出Excel!A$3:O$1946,15,FALSE)","v":"91440300MA5DJ7JH0P"}]
[101,"深圳市东星制冷机电有限公司",{"$f":"VLOOKUP(B104:B1602,[1]创新型中小企业导出Excel!A$3:O$1946,15,FALSE)","v":"914403006685393724"}]
[102,"深圳市飞思创电子科技有限公司",{"$f":"VLOOKUP(B105:B1603,[1]创新型中小企业导出Excel!A$3:O$1946,15,FALSE)","v":"914403003500424706"}]
[103,"深圳或然科技有限公司",{"$f":"VLOOKUP(B106:B1604,[1]创新型中小企业导出Excel!A$3:O$1946,15,FALSE)","v":"91440300MA5FEKB78B"}]
[104,"深圳市和通赢电子有限公司",{"$f":"VLOOKUP(B107:B1605,[1]创新型中小企业导出Excel!A$3:O$1946,15,FALSE)","v":"91440300MA5G2QPH0T"}]
[105,"深圳市启航测绘科技有限公司",{"$f":"VLOOKUP(B108:B1606,[1]创新型中小企业导出Excel!A$3:O$1946,15,FALSE)","v":"91440300MA5GAABJ89"}]
[106,"深圳雄腾电子科技有限公司",{"$f":"VLOOKUP(B109:B1607,[1]创新型中小企业导出Excel!A$3:O$1946,15,FALSE)","v":"91440300060285474C"}]
[107,"深圳市浩宸创展科技有限公司",{"$f":"VLOOKUP(B110:B1608,[1]创新型中小企业导出Excel!A$3:O$1946,15,FALSE)","v":"91440300356487075H"}]
[108,"深圳市莱润达技术有限公司",{"$f":"VLOOKUP(B111:B1609,[1]创新型中小企业导出Excel!A$3:O$1946,15,FALSE)","v":"91440300MA5H5C4744"}]
[109,"广东巨仁圣环境科技有限公司",{"$f":"VLOOKUP(B112:B1610,[1]创新型中小企业导出Excel!A$3:O$1946,15,FALSE)","v":"91440300597783780T"}]
[110,"深圳市宇创显示科技有限公司",{"$f":"VLOOKUP(B113:B1611,[1]创新型中小企业导出Excel!A$3:O$1946,15,FALSE)","v":"91440300064962807T"}]
[111,"深圳市百盛兴业科技有限公司",{"$f":"VLOOKUP(B114:B1612,[1]创新型中小企业导出Excel!A$3:O$1946,15,FALSE)","v":"91440300790460748X"}]
[112,"深圳联腾达科技有限公司",{"$f":"VLOOKUP(B115:B1613,[1]创新型中小企业导出Excel!A$3:O$1946,15,FALSE)","v":"914403005788191272"}]
[113,"深圳市创立宏科技有限公司",{"$f":"VLOOKUP(B116:B1614,[1]创新型中小企业导出Excel!A$3:O$1946,15,FALSE)","v":"914403007865922707"}]
[114,"深圳市和邦电子有限公司",{"$f":"VLOOKUP(B117:B1615,[1]创新型中小企业导出Excel!A$3:O$1946,15,FALSE)","v":"91440300MA5DAM8F6N"}]
[115,"深圳市绿硕科技有限公司",{"$f":"VLOOKUP(B118:B1616,[1]创新型中小企业导出Excel!A$3:O$1946,15,FALSE)","v":"91440300581562190N"}]
[116,"深圳市臻火科技有限公司",{"$f":"VLOOKUP(B119:B1617,[1]创新型中小企业导出Excel!A$3:O$1946,15,FALSE)","v":"91440300MA5G9PU33B"}]
[117,"深圳市科普菲健康科技有限公司",{"$f":"VLOOKUP(B120:B1618,[1]创新型中小企业导出Excel!A$3:O$1946,15,FALSE)","v":"91350981559587367A"}]
[118,"深圳市图锐精密科技有限公司",{"$f":"VLOOKUP(B121:B1619,[1]创新型中小企业导出Excel!A$3:O$1946,15,FALSE)","v":"914403000614103105"}]
[119,"深圳悦航益科技有限公司",{"$f":"VLOOKUP(B122:B1620,[1]创新型中小企业导出Excel!A$3:O$1946,15,FALSE)","v":"914403000883381792"}]
[120,"深圳市鹏家数字科技有限公司",{"$f":"VLOOKUP(B123:B1621,[1]创新型中小企业导出Excel!A$3:O$1946,15,FALSE)","v":"914403003498557813"}]
[121,"深圳市恩悠新能源技术有限公司",{"$f":"VLOOKUP(B124:B1622,[1]创新型中小企业导出Excel!A$3:O$1946,15,FALSE)","v":"91440300MA5DCUCX17"}]
[122,"深圳市弘城益五金制品有限公司",{"$f":"VLOOKUP(B125:B1623,[1]创新型中小企业导出Excel!A$3:O$1946,15,FALSE)","v":"91440300790456810B"}]
[123,"深圳市车立德科技有限公司",{"$f":"VLOOKUP(B126:B1624,[1]创新型中小企业导出Excel!A$3:O$1946,15,FALSE)","v":"91440300069263095L"}]
[124,"深圳市微智体技术有限公司",{"$f":"VLOOKUP(B127:B1625,[1]创新型中小企业导出Excel!A$3:O$1946,15,FALSE)","v":"914403003582367048"}]
[125,"汇智众通（深圳）科技文化产业有限公司",{"$f":"VLOOKUP(B128:B1626,[1]创新型中小企业导出Excel!A$3:O$1946,15,FALSE)","v":"91440300MA5EK7FD9Q"}]
[126,"深圳市倍苛新能源有限公司",{"$f":"VLOOKUP(B129:B1627,[1]创新型中小企业导出Excel!A$3:O$1946,15,FALSE)","v":"91440300MA5DETYT75"}]
[127,"深圳市润仕达润滑材料有限公司",{"$f":"VLOOKUP(B130:B1628,[1]创新型中小企业导出Excel!A$3:O$1946,15,FALSE)","v":"914403005800524558"}]
[128,"深圳市芯跃智联科技有限公司",{"$f":"VLOOKUP(B131:B1629,[1]创新型中小企业导出Excel!A$3:O$1946,15,FALSE)","v":"91440300MA5ELKMR9M"}]
[129,"深圳市海星智造信息技术有限公司",{"$f":"VLOOKUP(B132:B1630,[1]创新型中小企业导出Excel!A$3:O$1946,15,FALSE)","v":"91440300MA5HDXMB2B"}]
[130,"深圳市鑫标特科技有限公司",{"$f":"VLOOKUP(B133:B1631,[1]创新型中小企业导出Excel!A$3:O$1946,15,FALSE)","v":"91440300594338278N"}]
[131,"深圳市君时达科技有限公司",{"$f":"VLOOKUP(B134:B1632,[1]创新型中小企业导出Excel!A$3:O$1946,15,FALSE)","v":"91440300064963500B"}]
[132,"深圳市时利达科技有限公司",{"$f":"VLOOKUP(B135:B1633,[1]创新型中小企业导出Excel!A$3:O$1946,15,FALSE)","v":"9144030077875644XN"}]
[133,"深圳市正德威视科技有限公司",{"$f":"VLOOKUP(B136:B1634,[1]创新型中小企业导出Excel!A$3:O$1946,15,FALSE)","v":"91440300360034597C"}]
[134,"深圳市鑫雅达机电工程有限公司",{"$f":"VLOOKUP(B137:B1635,[1]创新型中小企业导出Excel!A$3:O$1946,15,FALSE)","v":"914403005538987039"}]
[135,"中科华飞（深圳）科技有限公司",{"$f":"VLOOKUP(B138:B1636,[1]创新型中小企业导出Excel!A$3:O$1946,15,FALSE)","v":"91440300MA5GK62J4J"}]
[136,"深圳市凯德利冷机设备有限公司",{"$f":"VLOOKUP(B139:B1637,[1]创新型中小企业导出Excel!A$3:O$1946,15,FALSE)","v":"91440300591896282F"}]
[137,"银盛支付服务股份有限公司",{"$f":"VLOOKUP(B140:B1638,[1]创新型中小企业导出Excel!A$3:O$1946,15,FALSE)","v":"91440300691195387N"}]
[138,"深圳市东京文洪印刷机械有限公司",{"$f":"VLOOKUP(B141:B1639,[1]创新型中小企业导出Excel!A$3:O$1946,15,FALSE)","v":"914403007741456339"}]
[139,"银盛通信有限公司",{"$f":"VLOOKUP(B142:B1640,[1]创新型中小企业导出Excel!A$3:O$1946,15,FALSE)","v":"91440300738833041E"}]
[140,"深圳与行智能装备有限公司",{"$f":"VLOOKUP(B143:B1641,[1]创新型中小企业导出Excel!A$3:O$1946,15,FALSE)","v":"91440300MA5HD7QR8E"}]
[141,"深圳市创智升科技有限公司",{"$f":"VLOOKUP(B144:B1642,[1]创新型中小企业导出Excel!A$3:O$1946,15,FALSE)","v":"91440300MA5G9TYH4K"}]
[142,"深圳市元和电子材料有限公司",{"$f":"VLOOKUP(B145:B1643,[1]创新型中小企业导出Excel!A$3:O$1946,15,FALSE)","v":"91440300734184785R"}]
[143,"深圳市烨光璇电子科技有限公司",{"$f":"VLOOKUP(B146:B1644,[1]创新型中小企业导出Excel!A$3:O$1946,15,FALSE)","v":"914403006939614361"}]
[144,"中科优辰（深圳）科技有限公司",{"$f":"VLOOKUP(B147:B1645,[1]创新型中小企业导出Excel!A$3:O$1946,15,FALSE)","v":"91330621MA2D7HBE1J"}]
[145,"深圳市芒果松科技有限公司",{"$f":"VLOOKUP(B148:B1646,[1]创新型中小企业导出Excel!A$3:O$1946,15,FALSE)","v":"91440300MA5F58TM3A"}]
[146,"深圳市熹扬科技有限公司",{"$f":"VLOOKUP(B149:B1647,[1]创新型中小企业导出Excel!A$3:O$1946,15,FALSE)","v":"91440300MA5FXRMQ6Y"}]
[147,"深圳中鹏新电气技术有限公司",{"$f":"VLOOKUP(B150:B1648,[1]创新型中小企业导出Excel!A$3:O$1946,15,FALSE)","v":"91440300349623075U"}]
[148,"深圳市金光泰科技有限公司",{"$f":"VLOOKUP(B151:B1649,[1]创新型中小企业导出Excel!A$3:O$1946,15,FALSE)","v":"914403000870457106"}]
[149,"深圳市心意阳光信息科技有限公司",{"$f":"VLOOKUP(B152:B1650,[1]创新型中小企业导出Excel!A$3:O$1946,15,FALSE)","v":"914403000940107009"}]
[150,"深圳车泰斗科技有限公司",{"$f":"VLOOKUP(B153:B1651,[1]创新型中小企业导出Excel!A$3:O$1946,15,FALSE)","v":"91440300305902267C"}]
[151,"深圳市南泉电子科技有限公司",{"$f":"VLOOKUP(B154:B1652,[1]创新型中小企业导出Excel!A$3:O$1946,15,FALSE)","v":"91440300319477492K"}]
[152,"深圳市威宇智通科技有限公司",{"$f":"VLOOKUP(B155:B1653,[1]创新型中小企业导出Excel!A$3:O$1946,15,FALSE)","v":"91440300311906520R"}]
[153,"深圳市因科美通信有限公司",{"$f":"VLOOKUP(B156:B1654,[1]创新型中小企业导出Excel!A$3:O$1946,15,FALSE)","v":"914403005554021691"}]
[154,"深圳市领创智能机器人有限公司",{"$f":"VLOOKUP(B157:B1655,[1]创新型中小企业导出Excel!A$3:O$1946,15,FALSE)","v":"91440300076931282H"}]
[155,"深圳市万卓盛科技有限公司",{"$f":"VLOOKUP(B158:B1656,[1]创新型中小企业导出Excel!A$3:O$1946,15,FALSE)","v":"91440300MA5FXXKE1N"}]
[156,"深圳市鼎诚泰富电子科技有限公司",{"$f":"VLOOKUP(B159:B1657,[1]创新型中小企业导出Excel!A$3:O$1946,15,FALSE)","v":"91440300MA5EMUM6XH"}]
[157,"深圳市瑞凯鸿辰科技有限公司",{"$f":"VLOOKUP(B160:B1658,[1]创新型中小企业导出Excel!A$3:O$1946,15,FALSE)","v":"9144030033539905X3"}]
[158,"深圳市悠悠汇网络科技有限公司",{"$f":"VLOOKUP(B161:B1659,[1]创新型中小企业导出Excel!A$3:O$1946,15,FALSE)","v":"91440300326562783W"}]
[159,"深圳快捷芯半导体有限公司",{"$f":"VLOOKUP(B162:B1660,[1]创新型中小企业导出Excel!A$3:O$1946,15,FALSE)","v":"9144030031937045XX"}]
[160,"齐昀科技(深圳)有限公司",{"$f":"VLOOKUP(B163:B1661,[1]创新型中小企业导出Excel!A$3:O$1946,15,FALSE)","v":"91440300MA5FE5552F"}]
[161,"深圳普捷利科技有限公司",{"$f":"VLOOKUP(B164:B1662,[1]创新型中小企业导出Excel!A$3:O$1946,15,FALSE)","v":"91440300581557818B"}]
[162,"深圳华太芯创有限公司",{"$f":"VLOOKUP(B165:B1663,[1]创新型中小企业导出Excel!A$3:O$1946,15,FALSE)","v":"91440300MA5H8FYB2J"}]
[163,"深圳市卓荦宇精密工具有限公司",{"$f":"VLOOKUP(B166:B1664,[1]创新型中小企业导出Excel!A$3:O$1946,15,FALSE)","v":"914403007938735215"}]
[164,"深圳市熠晟科技有限公司",{"$f":"VLOOKUP(B167:B1665,[1]创新型中小企业导出Excel!A$3:O$1946,15,FALSE)","v":"91440300051518416P"}]
[165,"深圳市新鸿镁医疗器械有限公司",{"$f":"VLOOKUP(B168:B1666,[1]创新型中小企业导出Excel!A$3:O$1946,15,FALSE)","v":"914403007525138375"}]
[166,"深圳市思拓通信系统有限公司",{"$f":"VLOOKUP(B169:B1667,[1]创新型中小企业导出Excel!A$3:O$1946,15,FALSE)","v":"91440300082453299J"}]
[167,"深圳市嘉同达自动化设备有限公司",{"$f":"VLOOKUP(B170:B1668,[1]创新型中小企业导出Excel!A$3:O$1946,15,FALSE)","v":"91440300MA5G1E1867"}]
[168,"深圳市安德联科技有限公司",{"$f":"VLOOKUP(B171:B1669,[1]创新型中小企业导出Excel!A$3:O$1946,15,FALSE)","v":"91440300MA5G2WRJ6N"}]
[169,"深圳市泰量电子有限公司",{"$f":"VLOOKUP(B172:B1670,[1]创新型中小企业导出Excel!A$3:O$1946,15,FALSE)","v":"914403006685124285"}]
[170,"深圳中阳通道科技有限公司",{"$f":"VLOOKUP(B173:B1671,[1]创新型中小企业导出Excel!A$3:O$1946,15,FALSE)","v":"91440300360084383A"}]
[171,"深圳市慧联智盟科技有限公司",{"$f":"VLOOKUP(B174:B1672,[1]创新型中小企业导出Excel!A$3:O$1946,15,FALSE)","v":"914403003426109251"}]
[172,"深圳市格林晟科技股份有限公司",{"$f":"VLOOKUP(B175:B1673,[1]创新型中小企业导出Excel!A$3:O$1946,15,FALSE)","v":"91440300687568996J"}]
[173,"深圳零和壹物联科技有限公司",{"$f":"VLOOKUP(B176:B1674,[1]创新型中小企业导出Excel!A$3:O$1946,15,FALSE)","v":"91440300MA5H5GUX37"}]
[174,"深圳市旺弘科技有限公司",{"$f":"VLOOKUP(B177:B1675,[1]创新型中小企业导出Excel!A$3:O$1946,15,FALSE)","v":"91440300MA5F52L14B"}]
[175,"深圳市信智德科技有限公司",{"$f":"VLOOKUP(B178:B1676,[1]创新型中小企业导出Excel!A$3:O$1946,15,FALSE)","v":"91440300398446335W"}]
[176,"深圳捷渡科技有限公司",{"$f":"VLOOKUP(B179:B1677,[1]创新型中小企业导出Excel!A$3:O$1946,15,FALSE)","v":"91440300582709465K"}]
[177,"深圳市伊波达电子科技有限公司",{"$f":"VLOOKUP(B180:B1678,[1]创新型中小企业导出Excel!A$3:O$1946,15,FALSE)","v":"91440300071129362K"}]
[178,"深圳市元美环保科技有限公司",{"$f":"VLOOKUP(B181:B1679,[1]创新型中小企业导出Excel!A$3:O$1946,15,FALSE)","v":"91440300MA5DQR9K4K"}]
[179,"深圳市盐田港建筑工程检测有限公司",{"$f":"VLOOKUP(B182:B1680,[1]创新型中小企业导出Excel!A$3:O$1946,15,FALSE)","v":"91440300752548124E"}]
[180,"深圳市向宇龙自动化设备有限公司",{"$f":"VLOOKUP(B183:B1681,[1]创新型中小企业导出Excel!A$3:O$1946,15,FALSE)","v":"914403000834278778"}]
[181,"深圳市宏钜精密模具有限公司",{"$f":"VLOOKUP(B184:B1682,[1]创新型中小企业导出Excel!A$3:O$1946,15,FALSE)","v":"91440300797964949H"}]
[182,"深圳市瑞景智造生命科技有限公司",{"$f":"VLOOKUP(B185:B1683,[1]创新型中小企业导出Excel!A$3:O$1946,15,FALSE)","v":"91440300MA5HH6W474"}]
[183,"深圳市视诺祺电子科技有限公司",{"$f":"VLOOKUP(B186:B1684,[1]创新型中小企业导出Excel!A$3:O$1946,15,FALSE)","v":"91440300774111222A"}]
[184,"深圳市永盛旺实业有限公司",{"$f":"VLOOKUP(B187:B1685,[1]创新型中小企业导出Excel!A$3:O$1946,15,FALSE)","v":"91440300715249694U"}]
[185,"深圳市新啟电子科技有限公司",{"$f":"VLOOKUP(B188:B1686,[1]创新型中小企业导出Excel!A$3:O$1946,15,FALSE)","v":"91440300326328356K"}]
[186,"名扬医疗科技（深圳）有限公司",{"$f":"VLOOKUP(B189:B1687,[1]创新型中小企业导出Excel!A$3:O$1946,15,FALSE)","v":"91440300587923321M"}]
[187,"深圳市艾卡威电子有限公司",{"$f":"VLOOKUP(B190:B1688,[1]创新型中小企业导出Excel!A$3:O$1946,15,FALSE)","v":"91440300MA5ER54K9G"}]
[188,"深圳市桉源科技有限公司",{"$f":"VLOOKUP(B191:B1689,[1]创新型中小企业导出Excel!A$3:O$1946,15,FALSE)","v":"91440300MA5EKR423E"}]
[189,"深圳市果丁智能制造有限公司",{"$f":"VLOOKUP(B192:B1690,[1]创新型中小企业导出Excel!A$3:O$1946,15,FALSE)","v":"91440300MA5DT82A21"}]
[190,"深圳市汉起科技有限公司",{"$f":"VLOOKUP(B193:B1691,[1]创新型中小企业导出Excel!A$3:O$1946,15,FALSE)","v":"91440300MA5FD7W89H"}]
[191,"深圳市众诚智能设备有限公司",{"$f":"VLOOKUP(B194:B1692,[1]创新型中小企业导出Excel!A$3:O$1946,15,FALSE)","v":"91440300359609445D"}]
[192,"广东汕湛智慧生态环境科技有限公司",{"$f":"VLOOKUP(B195:B1693,[1]创新型中小企业导出Excel!A$3:O$1946,15,FALSE)","v":"91440300MA5GH74WXD"}]
[193,"深圳市世迈光电有限公司",{"$f":"VLOOKUP(B196:B1694,[1]创新型中小企业导出Excel!A$3:O$1946,15,FALSE)","v":"91440300066334740P"}]
[194,"深圳市海力普科技有限公司",{"$f":"VLOOKUP(B197:B1695,[1]创新型中小企业导出Excel!A$3:O$1946,15,FALSE)","v":"91440300772711208X"}]
[195,"深圳市步频电子有限公司",{"$f":"VLOOKUP(B198:B1696,[1]创新型中小企业导出Excel!A$3:O$1946,15,FALSE)","v":"91440300582713544G"}]
[196,"深圳市本顿科技有限公司",{"$f":"VLOOKUP(B199:B1697,[1]创新型中小企业导出Excel!A$3:O$1946,15,FALSE)","v":"91440300580068342B"}]
[197,"宝德网络安全系统（深圳）有限公司",{"$f":"VLOOKUP(B200:B1698,[1]创新型中小企业导出Excel!A$3:O$1946,15,FALSE)","v":"914403007741156534"}]
[198,"深圳市伍一自动化科技有限公司",{"$f":"VLOOKUP(B201:B1699,[1]创新型中小企业导出Excel!A$3:O$1946,15,FALSE)","v":"91440300335277554H"}]
[199,"深圳市汇美创电子有限公司",{"$f":"VLOOKUP(B202:B1700,[1]创新型中小企业导出Excel!A$3:O$1946,15,FALSE)","v":"91440300553896337K"}]
[200,"合泰盟方电子（深圳）股份有限公司",{"$f":"VLOOKUP(B203:B1701,[1]创新型中小企业导出Excel!A$3:O$1946,15,FALSE)","v":"91440300570009955E"}]
[201,"深圳市德郦达光电技术有限公司",{"$f":"VLOOKUP(B204:B1702,[1]创新型中小企业导出Excel!A$3:O$1946,15,FALSE)","v":"91440300MA5G9L7G2E"}]
[202,"深圳市深科触控技术有限公司",{"$f":"VLOOKUP(B205:B1703,[1]创新型中小企业导出Excel!A$3:O$1946,15,FALSE)","v":"91440300MA5GFHE674"}]
[203,"深圳市鑫熠科技有限公司",{"$f":"VLOOKUP(B206:B1704,[1]创新型中小企业导出Excel!A$3:O$1946,15,FALSE)","v":"91440300MA5DCE3R12"}]
[204,"深圳市雅迪威电子有限公司",{"$f":"VLOOKUP(B207:B1705,[1]创新型中小企业导出Excel!A$3:O$1946,15,FALSE)","v":"91440300736259744E"}]
[205,"深圳市金瑞电子材料有限公司",{"$f":"VLOOKUP(B208:B1706,[1]创新型中小企业导出Excel!A$3:O$1946,15,FALSE)","v":"91440300734184558L"}]
[206,"深圳市综合交通与市政工程设计研究总院有限公司",{"$f":"VLOOKUP(B209:B1707,[1]创新型中小企业导出Excel!A$3:O$1946,15,FALSE)","v":"91440300892220892R"}]
[207,"深圳市德康兴技术有限公司",{"$f":"VLOOKUP(B210:B1708,[1]创新型中小企业导出Excel!A$3:O$1946,15,FALSE)","v":"91440300MA5F03964J"}]
[208,"深圳利亚德光电有限公司",{"$f":"VLOOKUP(B211:B1709,[1]创新型中小企业导出Excel!A$3:O$1946,15,FALSE)","v":"91440300678577305Q"}]
[209,"深圳一苇科技有限公司",{"$f":"VLOOKUP(B212:B1710,[1]创新型中小企业导出Excel!A$3:O$1946,15,FALSE)","v":"91440300305987934R"}]
[210,"深圳博时特科技有限公司",{"$f":"VLOOKUP(B213:B1711,[1]创新型中小企业导出Excel!A$3:O$1946,15,FALSE)","v":"91440300MA5D99F66N"}]
[211,"深圳市众通源科技发展有限公司",{"$f":"VLOOKUP(B214:B1712,[1]创新型中小企业导出Excel!A$3:O$1946,15,FALSE)","v":"91440300774140066F"}]
[212,"深圳市蓝信光电科技有限公司",{"$f":"VLOOKUP(B215:B1713,[1]创新型中小企业导出Excel!A$3:O$1946,15,FALSE)","v":"91440300335179874G"}]
[213,"深圳通源电线电缆有限公司",{"$f":"VLOOKUP(B216:B1714,[1]创新型中小企业导出Excel!A$3:O$1946,15,FALSE)","v":"914403006189288986"}]
[214,"深圳市美松达科技有限公司",{"$f":"VLOOKUP(B217:B1715,[1]创新型中小企业导出Excel!A$3:O$1946,15,FALSE)","v":"91440300MA5FF0E27J"}]
[215,"深圳市宏捷百鑫科技有限公司",{"$f":"VLOOKUP(B218:B1716,[1]创新型中小企业导出Excel!A$3:O$1946,15,FALSE)","v":"91440300066328287A"}]
[216,"深圳市芯辰工控有限公司",{"$f":"VLOOKUP(B219:B1717,[1]创新型中小企业导出Excel!A$3:O$1946,15,FALSE)","v":"91440300MA5EMBML0J"}]
[217,"深圳市弘康国际电子科技有限公司",{"$f":"VLOOKUP(B220:B1718,[1]创新型中小企业导出Excel!A$3:O$1946,15,FALSE)","v":"91440300MA5F984Q92"}]
[218,"深圳市乐数科技有限责任公司",{"$f":"VLOOKUP(B221:B1719,[1]创新型中小企业导出Excel!A$3:O$1946,15,FALSE)","v":"91440300MA5H5MH15U"}]
[219,"深圳市正非检测科技有限公司",{"$f":"VLOOKUP(B222:B1720,[1]创新型中小企业导出Excel!A$3:O$1946,15,FALSE)","v":"91440300553887748X"}]
[220,"深圳市万胜环保科技有限公司",{"$f":"VLOOKUP(B223:B1721,[1]创新型中小企业导出Excel!A$3:O$1946,15,FALSE)","v":"91440300359515828K"}]
[221,"深圳市全洲自动化设备有限公司",{"$f":"VLOOKUP(B224:B1722,[1]创新型中小企业导出Excel!A$3:O$1946,15,FALSE)","v":"91440300326529588L"}]
[222,"众邦优创（深圳）科技有限公司",{"$f":"VLOOKUP(B225:B1723,[1]创新型中小企业导出Excel!A$3:O$1946,15,FALSE)","v":"91440300MA5F1KQG6K"}]
[223,"深圳市丰润达科技有限公司",{"$f":"VLOOKUP(B226:B1724,[1]创新型中小企业导出Excel!A$3:O$1946,15,FALSE)","v":"914403005685289087"}]
[224,"深圳市德普光业科技有限公司",{"$f":"VLOOKUP(B227:B1725,[1]创新型中小企业导出Excel!A$3:O$1946,15,FALSE)","v":"91440300MA5F739C1M"}]
[225,"深圳市创鑫电电子科技有限公司",{"$f":"VLOOKUP(B228:B1726,[1]创新型中小企业导出Excel!A$3:O$1946,15,FALSE)","v":"91440300661046794W"}]
[226,"深圳顺络叠层电子有限公司",{"$f":"VLOOKUP(B229:B1727,[1]创新型中小企业导出Excel!A$3:O$1946,15,FALSE)","v":"91440300MA5G0WYG5E"}]
[227,"深圳市艾雷激光科技有限公司",{"$f":"VLOOKUP(B230:B1728,[1]创新型中小企业导出Excel!A$3:O$1946,15,FALSE)","v":"914403000561711167"}]
[228,"深圳市宏创威科技有限公司",{"$f":"VLOOKUP(B231:B1729,[1]创新型中小企业导出Excel!A$3:O$1946,15,FALSE)","v":"9144030055030114X4"}]
[229,"深圳贝力佳电子科技有限公司",{"$f":"VLOOKUP(B232:B1730,[1]创新型中小企业导出Excel!A$3:O$1946,15,FALSE)","v":"91440300695577083B"}]
[230,"深圳市丰景晟电子科技有限公司",{"$f":"VLOOKUP(B233:B1731,[1]创新型中小企业导出Excel!A$3:O$1946,15,FALSE)","v":"91440300053959688D"}]
[231,"深圳市悦音科技有限公司",{"$f":"VLOOKUP(B234:B1732,[1]创新型中小企业导出Excel!A$3:O$1946,15,FALSE)","v":"91440300057883174M"}]
[232,"深圳市安牛智能创新有限公司",{"$f":"VLOOKUP(B235:B1733,[1]创新型中小企业导出Excel!A$3:O$1946,15,FALSE)","v":"91440300MA5GNMC96U"}]
[233,"深圳市中诺智联科技有限公司",{"$f":"VLOOKUP(B236:B1734,[1]创新型中小企业导出Excel!A$3:O$1946,15,FALSE)","v":"91440300MA5HFJ179B"}]
[234,"深圳市比纳瑞科技有限公司",{"$f":"VLOOKUP(B237:B1735,[1]创新型中小企业导出Excel!A$3:O$1946,15,FALSE)","v":"91440300078983369C"}]
[235,"深圳市宏之泰环保技术有限公司",{"$f":"VLOOKUP(B238:B1736,[1]创新型中小企业导出Excel!A$3:O$1946,15,FALSE)","v":"91440300093832702U"}]
[236,"深圳市本航本技术有限公司",{"$f":"VLOOKUP(B239:B1737,[1]创新型中小企业导出Excel!A$3:O$1946,15,FALSE)","v":"914403003265989460"}]
[237,"深圳市澳湾科技有限公司",{"$f":"VLOOKUP(B240:B1738,[1]创新型中小企业导出Excel!A$3:O$1946,15,FALSE)","v":"91440300MA5GQKF7X3"}]
[238,"深圳市游宝物联网有限公司",{"$f":"VLOOKUP(B241:B1739,[1]创新型中小企业导出Excel!A$3:O$1946,15,FALSE)","v":"91440300MA5G2M7H5R"}]
[239,"深圳嘉洛智能科技有限公司",{"$f":"VLOOKUP(B242:B1740,[1]创新型中小企业导出Excel!A$3:O$1946,15,FALSE)","v":"91440300682042477G"}]
[240,"深圳市尚源科技设备有限公司",{"$f":"VLOOKUP(B243:B1741,[1]创新型中小企业导出Excel!A$3:O$1946,15,FALSE)","v":"91440300MA5FLN6W7M"}]
[241,"深圳市图美电子技术有限公司",{"$f":"VLOOKUP(B244:B1742,[1]创新型中小企业导出Excel!A$3:O$1946,15,FALSE)","v":"91440300736262900E"}]
[242,"深圳深凯硅胶制品有限公司",{"$f":"VLOOKUP(B245:B1743,[1]创新型中小企业导出Excel!A$3:O$1946,15,FALSE)","v":"91440300618811817X"}]
[243,"深圳市云盟智慧科技有限公司",{"$f":"VLOOKUP(B246:B1744,[1]创新型中小企业导出Excel!A$3:O$1946,15,FALSE)","v":"91440300699076737Y"}]
[244,"深圳斯维德科技有限公司",{"$f":"VLOOKUP(B247:B1745,[1]创新型中小企业导出Excel!A$3:O$1946,15,FALSE)","v":"914403006803517353"}]
[245,"深圳吉祥星科技股份有限公司",{"$f":"VLOOKUP(B248:B1746,[1]创新型中小企业导出Excel!A$3:O$1946,15,FALSE)","v":"91440300766373716E"}]
[246,"深圳市富杰龙自动封口胶袋有限公司",{"$f":"VLOOKUP(B249:B1747,[1]创新型中小企业导出Excel!A$3:O$1946,15,FALSE)","v":"91440300732070290B"}]
[247,"深圳市通对科技有限责任公司",{"$f":"VLOOKUP(B250:B1748,[1]创新型中小企业导出Excel!A$3:O$1946,15,FALSE)","v":"91440300335282230M"}]
[248,"深圳市思恩技术有限公司",{"$f":"VLOOKUP(B251:B1749,[1]创新型中小企业导出Excel!A$3:O$1946,15,FALSE)","v":"91440300MA5DCU8W85"}]
[249,"深圳市血之缘计算机软件有限公司",{"$f":"VLOOKUP(B252:B1750,[1]创新型中小企业导出Excel!A$3:O$1946,15,FALSE)","v":"91440300MA5HFNXN47"}]
[250,"深圳市鑫业旺科技有限公司",{"$f":"VLOOKUP(B253:B1751,[1]创新型中小企业导出Excel!A$3:O$1946,15,FALSE)","v":"91440300561523143Y"}]
[251,"深圳市欧博迪通信有限公司",{"$f":"VLOOKUP(B254:B1752,[1]创新型中小企业导出Excel!A$3:O$1946,15,FALSE)","v":"9144030007338149X6"}]
[252,"深圳芯港智能制造有限公司",{"$f":"VLOOKUP(B255:B1753,[1]创新型中小企业导出Excel!A$3:O$1946,15,FALSE)","v":"91440300MA5HEB7C0C"}]
[253,"深圳云亿通数字技术有限公司",{"$f":"VLOOKUP(B256:B1754,[1]创新型中小企业导出Excel!A$3:O$1946,15,FALSE)","v":"91440300MA5GK18G4E"}]
[254,"深圳市展杰文达电子有限公司",{"$f":"VLOOKUP(B257:B1755,[1]创新型中小企业导出Excel!A$3:O$1946,15,FALSE)","v":"91440300580067665G"}]
[255,"深圳市鹏翔运达机械科技有限公司",{"$f":"VLOOKUP(B258:B1756,[1]创新型中小企业导出Excel!A$3:O$1946,15,FALSE)","v":"914403006641623283"}]
[256,"华工新颜（深圳）科技有限公司",{"$f":"VLOOKUP(B259:B1757,[1]创新型中小企业导出Excel!A$3:O$1946,15,FALSE)","v":"91440300MA5H0CF26W"}]
[257,"深圳市正通仁禾科技有限公司",{"$f":"VLOOKUP(B260:B1758,[1]创新型中小企业导出Excel!A$3:O$1946,15,FALSE)","v":"91440300MA5DL4BL5C"}]
[258,"深圳沸石智能技术有限公司",{"$f":"VLOOKUP(B261:B1759,[1]创新型中小企业导出Excel!A$3:O$1946,15,FALSE)","v":"91440300350032723K"}]
[259,"深圳市易峰视觉科技有限公司",{"$f":"VLOOKUP(B262:B1760,[1]创新型中小企业导出Excel!A$3:O$1946,15,FALSE)","v":"91440300MA5FXKRD2J"}]
[260,"广东小霸王实业有限公司",{"$f":"VLOOKUP(B263:B1761,[1]创新型中小企业导出Excel!A$3:O$1946,15,FALSE)","v":"91440300MA5G63GC18"}]
[261,"深圳市磐敏科技有限公司",{"$f":"VLOOKUP(B264:B1762,[1]创新型中小企业导出Excel!A$3:O$1946,15,FALSE)","v":"91440300MA5H0RQJ6E"}]
[262,"深圳市汉研电子科技有限公司",{"$f":"VLOOKUP(B265:B1763,[1]创新型中小企业导出Excel!A$3:O$1946,15,FALSE)","v":"9144030032648421X5"}]
[263,"深圳市大准自动化设备有限公司",{"$f":"VLOOKUP(B266:B1764,[1]创新型中小企业导出Excel!A$3:O$1946,15,FALSE)","v":"91440300MA5GL7CR18"}]
[264,"深圳市中裕达机械有限公司",{"$f":"VLOOKUP(B267:B1765,[1]创新型中小企业导出Excel!A$3:O$1946,15,FALSE)","v":"914403005700301645"}]
[265,"深圳市睿思韦尔电子技术有限公司",{"$f":"VLOOKUP(B268:B1766,[1]创新型中小企业导出Excel!A$3:O$1946,15,FALSE)","v":"91440300MA5EKW11XJ"}]
[266,"深圳鸿泰数能科技有限公司",{"$f":"VLOOKUP(B269:B1767,[1]创新型中小企业导出Excel!A$3:O$1946,15,FALSE)","v":"91440300MA5HEPKQ66"}]
[267,"深圳市欧亿光电技术有限公司",{"$f":"VLOOKUP(B270:B1768,[1]创新型中小企业导出Excel!A$3:O$1946,15,FALSE)","v":"91440300MA5G4TF07F"}]
[268,"深圳市健和医疗科技服务有限公司",{"$f":"VLOOKUP(B271:B1769,[1]创新型中小企业导出Excel!A$3:O$1946,15,FALSE)","v":"91440300772701990E"}]
[269,"深圳市新德昌精密有限公司",{"$f":"VLOOKUP(B272:B1770,[1]创新型中小企业导出Excel!A$3:O$1946,15,FALSE)","v":"91440300667053565Q"}]
[270,"深圳市捷代电子科技有限公司",{"$f":"VLOOKUP(B273:B1771,[1]创新型中小企业导出Excel!A$3:O$1946,15,FALSE)","v":"91440300MA5D96FC7A"}]
[271,"深圳市流数科技有限公司",{"$f":"VLOOKUP(B274:B1772,[1]创新型中小企业导出Excel!A$3:O$1946,15,FALSE)","v":"91440300MA5GMX9G9D"}]
[272,"深圳市美高美包装制品有限公司",{"$f":"VLOOKUP(B275:B1773,[1]创新型中小企业导出Excel!A$3:O$1946,15,FALSE)","v":"91440300565745974E"}]
[273,"深圳欧克曼技术有限公司",{"$f":"VLOOKUP(B276:B1774,[1]创新型中小企业导出Excel!A$3:O$1946,15,FALSE)","v":"91440300MA5DKBKG5G"}]
[274,"深圳市美雅洁技术股份有限公司",{"$f":"VLOOKUP(B277:B1775,[1]创新型中小企业导出Excel!A$3:O$1946,15,FALSE)","v":"914403005943405547"}]
[275,"深圳市唯沃智能电子有限公司",{"$f":"VLOOKUP(B278:B1776,[1]创新型中小企业导出Excel!A$3:O$1946,15,FALSE)","v":"91440300MA5EDJN32H"}]
[276,"深圳世纪百利环保科技有限公司",{"$f":"VLOOKUP(B279:B1777,[1]创新型中小企业导出Excel!A$3:O$1946,15,FALSE)","v":"914403000692679501"}]
[277,"天深达（深圳）科创集团有限公司",{"$f":"VLOOKUP(B280:B1778,[1]创新型中小企业导出Excel!A$3:O$1946,15,FALSE)","v":"91440300MA5GXXTU0B"}]
[278,"深圳市光盛能通科技有限公司",{"$f":"VLOOKUP(B281:B1779,[1]创新型中小企业导出Excel!A$3:O$1946,15,FALSE)","v":"91440300MA5GM065XD"}]
[279,"深圳市富尼数字科技有限公司",{"$f":"VLOOKUP(B282:B1780,[1]创新型中小企业导出Excel!A$3:O$1946,15,FALSE)","v":"914403000551308227"}]
[280,"深圳市中科德睿智能科技有限公司",{"$f":"VLOOKUP(B283:B1781,[1]创新型中小企业导出Excel!A$3:O$1946,15,FALSE)","v":"91440300359510381K"}]
[281,"深圳市皇准科技有限公司",{"$f":"VLOOKUP(B284:B1782,[1]创新型中小企业导出Excel!A$3:O$1946,15,FALSE)","v":"91440300557189592A"}]
[282,"深圳市泽睿五金制品有限公司",{"$f":"VLOOKUP(B285:B1783,[1]创新型中小企业导出Excel!A$3:O$1946,15,FALSE)","v":"91440300MA5DPRYQ7H"}]
[283,"广电计量检测（深圳）有限公司",{"$f":"VLOOKUP(B286:B1784,[1]创新型中小企业导出Excel!A$3:O$1946,15,FALSE)","v":"91440300708444264K"}]
[284,"深圳市朗思照明有限公司",{"$f":"VLOOKUP(B287:B1785,[1]创新型中小企业导出Excel!A$3:O$1946,15,FALSE)","v":"914403005554194386"}]
[285,"纳微朗科技（深圳）有限公司",{"$f":"VLOOKUP(B288:B1786,[1]创新型中小企业导出Excel!A$3:O$1946,15,FALSE)","v":"91440300MA5GWT91XC"}]
[286,"深圳市鑫金泉精密技术有限公司",{"$f":"VLOOKUP(B289:B1787,[1]创新型中小企业导出Excel!A$3:O$1946,15,FALSE)","v":"914403000578556244"}]
[287,"深圳市中安信智能电子科技有限公司",{"$f":"VLOOKUP(B290:B1788,[1]创新型中小企业导出Excel!A$3:O$1946,15,FALSE)","v":"914403000602972053"}]
[288,"深圳市赛福力电子技术开发有限公司",{"$f":"VLOOKUP(B291:B1789,[1]创新型中小企业导出Excel!A$3:O$1946,15,FALSE)","v":"914403007586322399"}]
[289,"深圳市玉沣科技有限公司",{"$f":"VLOOKUP(B292:B1790,[1]创新型中小企业导出Excel!A$3:O$1946,15,FALSE)","v":"914403007755819555"}]
[290,"深圳市科达利实业股份有限公司",{"$f":"VLOOKUP(B293:B1791,[1]创新型中小企业导出Excel!A$3:O$1946,15,FALSE)","v":"914403002792732914"}]
[291,"广东钶锐锶数控技术股份有限公司",{"$f":"VLOOKUP(B294:B1792,[1]创新型中小企业导出Excel!A$3:O$1946,15,FALSE)","v":"91440300MA5D90EL8L"}]
[292,"深圳市精石光掩膜技术有限公司",{"$f":"VLOOKUP(B295:B1793,[1]创新型中小企业导出Excel!A$3:O$1946,15,FALSE)","v":"91440300MA5H2M731H"}]
[293,"深圳市中能泰富科技股份有限公司",{"$f":"VLOOKUP(B296:B1794,[1]创新型中小企业导出Excel!A$3:O$1946,15,FALSE)","v":"91440300553898391M"}]
[294,"深圳市微克科技有限公司",{"$f":"VLOOKUP(B297:B1795,[1]创新型中小企业导出Excel!A$3:O$1946,15,FALSE)","v":"91440300342857418K"}]
[295,"深圳市道格拉斯科技有限公司",{"$f":"VLOOKUP(B298:B1796,[1]创新型中小企业导出Excel!A$3:O$1946,15,FALSE)","v":"914403000703792396"}]
[296,"深圳市优界科技有限公司",{"$f":"VLOOKUP(B299:B1797,[1]创新型中小企业导出Excel!A$3:O$1946,15,FALSE)","v":"9144030039855263XM"}]
[297,"深圳市北泰显示技术有限公司",{"$f":"VLOOKUP(B300:B1798,[1]创新型中小企业导出Excel!A$3:O$1946,15,FALSE)","v":"91440300726188217K"}]
[298,"深圳市盛佳丽电子股份有限公司",{"$f":"VLOOKUP(B301:B1799,[1]创新型中小企业导出Excel!A$3:O$1946,15,FALSE)","v":"91440300788304308E"}]
[299,"深圳东旭达智能制造股份有限公司",{"$f":"VLOOKUP(B302:B1800,[1]创新型中小企业导出Excel!A$3:O$1946,15,FALSE)","v":"914403007703220492"}]
[300,"深圳比瓦特科技有限公司",{"$f":"VLOOKUP(B303:B1801,[1]创新型中小企业导出Excel!A$3:O$1946,15,FALSE)","v":"91440300MA5HJT0K80"}]
[301,"深圳市锐健电子有限公司",{"$f":"VLOOKUP(B304:B1802,[1]创新型中小企业导出Excel!A$3:O$1946,15,FALSE)","v":"91440300755651071Y"}]
[302,"深圳市埃尔法光电科技有限公司",{"$f":"VLOOKUP(B305:B1803,[1]创新型中小企业导出Excel!A$3:O$1946,15,FALSE)","v":"91440300MA5DHFLX51"}]
[303,"深圳线易微电子有限公司",{"$f":"VLOOKUP(B306:B1804,[1]创新型中小企业导出Excel!A$3:O$1946,15,FALSE)","v":"91440300MACRAA0T23"}]
[304,"复星开心购（深圳）科技有限公司",{"$f":"VLOOKUP(B307:B1805,[1]创新型中小企业导出Excel!A$3:O$1946,15,FALSE)","v":"91440300MA5GD7MQ3A"}]
[305,"深圳市定视生物医疗科技有限公司",{"$f":"VLOOKUP(B308:B1806,[1]创新型中小企业导出Excel!A$3:O$1946,15,FALSE)","v":"91440300MA5FT66D97"}]
[306,"深圳秀普医疗科技有限公司",{"$f":"VLOOKUP(B309:B1807,[1]创新型中小企业导出Excel!A$3:O$1946,15,FALSE)","v":"91440300MAD49H8D7D"}]
[307,"深圳科思明德医疗科技有限公司",{"$f":"VLOOKUP(B310:B1808,[1]创新型中小企业导出Excel!A$3:O$1946,15,FALSE)","v":"91440300MA5HGJKK1W"}]
[308,"深圳市钛氪能源科技有限公司",{"$f":"VLOOKUP(B311:B1809,[1]创新型中小企业导出Excel!A$3:O$1946,15,FALSE)","v":"91440300MAD2FD106H"}]
[309,"卓越五金弹簧（深圳）有限公司",{"$f":"VLOOKUP(B312:B1810,[1]创新型中小企业导出Excel!A$3:O$1946,15,FALSE)","v":"914403007586399911"}]
[310,"深圳市库沃科技有限公司",{"$f":"VLOOKUP(B313:B1811,[1]创新型中小企业导出Excel!A$3:O$1946,15,FALSE)","v":"91440300MA5FPME568"}]
[311,"深圳市华天龙电子有限公司",{"$f":"VLOOKUP(B314:B1812,[1]创新型中小企业导出Excel!A$3:O$1946,15,FALSE)","v":"91440300568535059E"}]
[312,"深圳市亿泉电子有限公司",{"$f":"VLOOKUP(B315:B1813,[1]创新型中小企业导出Excel!A$3:O$1946,15,FALSE)","v":"914403003193085094"}]
[313,"深圳市酷彼伴玩具有限公司",{"$f":"VLOOKUP(B316:B1814,[1]创新型中小企业导出Excel!A$3:O$1946,15,FALSE)","v":"914403000846230362"}]
[314,"深圳市鑫旭飞科技有限公司",{"$f":"VLOOKUP(B317:B1815,[1]创新型中小企业导出Excel!A$3:O$1946,15,FALSE)","v":"91440300068564056C"}]
[315,"深圳市康凯威科技有限公司",{"$f":"VLOOKUP(B318:B1816,[1]创新型中小企业导出Excel!A$3:O$1946,15,FALSE)","v":"91440300305975941B"}]
[316,"深圳威肯特科技有限公司",{"$f":"VLOOKUP(B319:B1817,[1]创新型中小企业导出Excel!A$3:O$1946,15,FALSE)","v":"914403000692886631"}]
[317,"冰迪科技（深圳）有限公司",{"$f":"VLOOKUP(B320:B1818,[1]创新型中小企业导出Excel!A$3:O$1946,15,FALSE)","v":"91440300319760626H"}]
[318,"深圳市合盛隆塑胶制品有限公司",{"$f":"VLOOKUP(B321:B1819,[1]创新型中小企业导出Excel!A$3:O$1946,15,FALSE)","v":"91440300777158130K"}]
[319,"深圳市南方新通技术有限公司",{"$f":"VLOOKUP(B322:B1820,[1]创新型中小企业导出Excel!A$3:O$1946,15,FALSE)","v":"9144030057476232XA"}]
[320,"新鼎电子（深圳）有限公司",{"$f":"VLOOKUP(B323:B1821,[1]创新型中小企业导出Excel!A$3:O$1946,15,FALSE)","v":"91440300781398161T"}]
[321,"深圳市深辉电力技术有限公司",{"$f":"VLOOKUP(B324:B1822,[1]创新型中小企业导出Excel!A$3:O$1946,15,FALSE)","v":"91440300MA5DDLBT3R"}]
[322,"深圳高新邦技术服务有限公司",{"$f":"VLOOKUP(B325:B1823,[1]创新型中小企业导出Excel!A$3:O$1946,15,FALSE)","v":"91440300MA5GFU477L"}]
[323,"深圳道可视科技有限公司",{"$f":"VLOOKUP(B326:B1824,[1]创新型中小企业导出Excel!A$3:O$1946,15,FALSE)","v":"9144030055214458XT"}]
[324,"展阳电子（深圳）有限公司",{"$f":"VLOOKUP(B327:B1825,[1]创新型中小企业导出Excel!A$3:O$1946,15,FALSE)","v":"914403000527743664"}]
[325,"深圳市皓阳光电有限公司",{"$f":"VLOOKUP(B328:B1826,[1]创新型中小企业导出Excel!A$3:O$1946,15,FALSE)","v":"91440300MA5ERKG53Q"}]
[326,"深圳市捷龙标签科技有限公司",{"$f":"VLOOKUP(B329:B1827,[1]创新型中小企业导出Excel!A$3:O$1946,15,FALSE)","v":"91440300796611287D"}]
[327,"深圳英飞拓仁用信息有限公司",{"$f":"VLOOKUP(B330:B1828,[1]创新型中小企业导出Excel!A$3:O$1946,15,FALSE)","v":"91440300708496152U"}]
[328,"深圳市嘉洋电池有限公司",{"$f":"VLOOKUP(B331:B1829,[1]创新型中小企业导出Excel!A$3:O$1946,15,FALSE)","v":"914403007917238374"}]
[329,"深圳市益普科技有限公司",{"$f":"VLOOKUP(B332:B1830,[1]创新型中小企业导出Excel!A$3:O$1946,15,FALSE)","v":"91440300056156725U"}]
[330,"深圳市宝莲花光电工程有限公司",{"$f":"VLOOKUP(B333:B1831,[1]创新型中小企业导出Excel!A$3:O$1946,15,FALSE)","v":"914403005977699626"}]
[331,"深圳市华芯云创科技有限公司",{"$f":"VLOOKUP(B334:B1832,[1]创新型中小企业导出Excel!A$3:O$1946,15,FALSE)","v":"91440300MA5G7N204N"}]
[332,"深圳市艾特能科技有限公司",{"$f":"VLOOKUP(B335:B1833,[1]创新型中小企业导出Excel!A$3:O$1946,15,FALSE)","v":"9144030009386179XQ"}]
[333,"深圳市赛弥康电子科技有限公司",{"$f":"VLOOKUP(B336:B1834,[1]创新型中小企业导出Excel!A$3:O$1946,15,FALSE)","v":"91440300692535777E"}]
[334,"深圳市嘉瑞工业自动化有限公司",{"$f":"VLOOKUP(B337:B1835,[1]创新型中小企业导出Excel!A$3:O$1946,15,FALSE)","v":"9144030067189480XM"}]
[335,"深圳市云盾科技有限公司",{"$f":"VLOOKUP(B338:B1836,[1]创新型中小企业导出Excel!A$3:O$1946,15,FALSE)","v":"914403006911645723"}]
[336,"深圳市聚视智能系统有限公司",{"$f":"VLOOKUP(B339:B1837,[1]创新型中小企业导出Excel!A$3:O$1946,15,FALSE)","v":"91440300693992945R"}]
[337,"广东南超电气有限公司",{"$f":"VLOOKUP(B340:B1838,[1]创新型中小企业导出Excel!A$3:O$1946,15,FALSE)","v":"91440300326633342H"}]
[338,"深圳市百酷新能源有限公司",{"$f":"VLOOKUP(B341:B1839,[1]创新型中小企业导出Excel!A$3:O$1946,15,FALSE)","v":"91440300581567223J"}]
[339,"深圳市爵影科技有限公司",{"$f":"VLOOKUP(B342:B1840,[1]创新型中小企业导出Excel!A$3:O$1946,15,FALSE)","v":"91440300693967643F"}]
[340,"艾尔文环境科技（深圳）有限公司",{"$f":"VLOOKUP(B343:B1841,[1]创新型中小企业导出Excel!A$3:O$1946,15,FALSE)","v":"91440300MA5EP2JNXU"}]
[341,"深圳市同跃电子有限公司",{"$f":"VLOOKUP(B344:B1842,[1]创新型中小企业导出Excel!A$3:O$1946,15,FALSE)","v":"91440300593014626P"}]
[342,"深圳市微酷智能科技有限公司",{"$f":"VLOOKUP(B345:B1843,[1]创新型中小企业导出Excel!A$3:O$1946,15,FALSE)","v":"91440300358741233C"}]
[343,"深圳市聚商鼎力网络技术有限公司",{"$f":"VLOOKUP(B346:B1844,[1]创新型中小企业导出Excel!A$3:O$1946,15,FALSE)","v":"914403003427537664"}]
[344,"深圳市多辉电机有限公司",{"$f":"VLOOKUP(B347:B1845,[1]创新型中小企业导出Excel!A$3:O$1946,15,FALSE)","v":"91440300557184900D"}]
[345,"深圳市诚得信电子有限公司",{"$f":"VLOOKUP(B348:B1846,[1]创新型中小企业导出Excel!A$3:O$1946,15,FALSE)","v":"91440300750475881M"}]
[346,"深圳市宏飞兴业电子科技有限公司",{"$f":"VLOOKUP(B349:B1847,[1]创新型中小企业导出Excel!A$3:O$1946,15,FALSE)","v":"91440300750494353L"}]
[347,"深圳市天一泓科技有限公司",{"$f":"VLOOKUP(B350:B1848,[1]创新型中小企业导出Excel!A$3:O$1946,15,FALSE)","v":"91440300661013722J"}]
[348,"深圳市深国电售电有限公司",{"$f":"VLOOKUP(B351:B1849,[1]创新型中小企业导出Excel!A$3:O$1946,15,FALSE)","v":"91440300MA5D88KN98"}]
[349,"深圳市顺利通达科技有限公司",{"$f":"VLOOKUP(B352:B1850,[1]创新型中小企业导出Excel!A$3:O$1946,15,FALSE)","v":"914403003263261318"}]
[350,"深圳市迈讯机电设备有限公司",{"$f":"VLOOKUP(B353:B1851,[1]创新型中小企业导出Excel!A$3:O$1946,15,FALSE)","v":"91440300754289090E"}]
[351,"深圳市玛珂斯科技有限公司",{"$f":"VLOOKUP(B354:B1852,[1]创新型中小企业导出Excel!A$3:O$1946,15,FALSE)","v":"91440300087727391U"}]
[352,"深圳市一品源太阳能科技有限公司",{"$f":"VLOOKUP(B355:B1853,[1]创新型中小企业导出Excel!A$3:O$1946,15,FALSE)","v":"91440300582749192B"}]
[353,"深圳市凯奥模具技术有限公司",{"$f":"VLOOKUP(B356:B1854,[1]创新型中小企业导出Excel!A$3:O$1946,15,FALSE)","v":"914403006990719363"}]
[354,"深圳市风恒泰精密科技有限公司",{"$f":"VLOOKUP(B357:B1855,[1]创新型中小企业导出Excel!A$3:O$1946,15,FALSE)","v":"91440300MA5F931W5L"}]
[355,"深圳市灏仁昕科技有限公司",{"$f":"VLOOKUP(B358:B1856,[1]创新型中小企业导出Excel!A$3:O$1946,15,FALSE)","v":"914403003351795918"}]
[356,"深圳市德润赛尔光电有限公司",{"$f":"VLOOKUP(B359:B1857,[1]创新型中小企业导出Excel!A$3:O$1946,15,FALSE)","v":"91440300574777193H"}]
[357,"深圳市英维克健康环境科技有限公司",{"$f":"VLOOKUP(B360:B1858,[1]创新型中小企业导出Excel!A$3:O$1946,15,FALSE)","v":"91440300MA5FBJ7309"}]
[358,"深圳市锐铂自动化科技有限公司",{"$f":"VLOOKUP(B361:B1859,[1]创新型中小企业导出Excel!A$3:O$1946,15,FALSE)","v":"91440300MA5EER8R0W"}]
[359,"深圳市信拓网络科技有限公司",{"$f":"VLOOKUP(B362:B1860,[1]创新型中小企业导出Excel!A$3:O$1946,15,FALSE)","v":"91440300334931323H"}]
[360,"深圳市华高嘉科技有限公司",{"$f":"VLOOKUP(B363:B1861,[1]创新型中小企业导出Excel!A$3:O$1946,15,FALSE)","v":"914403005657342986"}]
[361,"深圳盛拓信息科技有限公司",{"$f":"VLOOKUP(B364:B1862,[1]创新型中小企业导出Excel!A$3:O$1946,15,FALSE)","v":"9144030058006232XH"}]
[362,"深圳市华链智慧科技有限公司",{"$f":"VLOOKUP(B365:B1863,[1]创新型中小企业导出Excel!A$3:O$1946,15,FALSE)","v":"91440300MA5FEMK46X"}]
[363,"深圳市博纳森光电有限公司",{"$f":"VLOOKUP(B366:B1864,[1]创新型中小企业导出Excel!A$3:O$1946,15,FALSE)","v":"91440300MA5FY2N4XQ"}]
[364,"深圳市彩煌热电科技有限公司",{"$f":"VLOOKUP(B367:B1865,[1]创新型中小企业导出Excel!A$3:O$1946,15,FALSE)","v":"91440300MA5EUM5G5R"}]
[365,"深圳市吉兰特科技有限公司",{"$f":"VLOOKUP(B368:B1866,[1]创新型中小企业导出Excel!A$3:O$1946,15,FALSE)","v":"914403005891790499"}]
[366,"深圳讯智物联科技有限公司",{"$f":"VLOOKUP(B369:B1867,[1]创新型中小企业导出Excel!A$3:O$1946,15,FALSE)","v":"91440300MA5DRBLX9E"}]
[367,"深圳市艺博堂环境艺术工程设计有限公司",{"$f":"VLOOKUP(B370:B1868,[1]创新型中小企业导出Excel!A$3:O$1946,15,FALSE)","v":"91440300777184224Y"}]
[368,"深圳市蒙瑞电子有限公司",{"$f":"VLOOKUP(B371:B1869,[1]创新型中小企业导出Excel!A$3:O$1946,15,FALSE)","v":"91440300758603681C"}]
[369,"深圳市英维克软件技术有限公司",{"$f":"VLOOKUP(B372:B1870,[1]创新型中小企业导出Excel!A$3:O$1946,15,FALSE)","v":"91440300MA5EGJTB2P"}]
[370,"深圳天烁生物科技有限公司",{"$f":"VLOOKUP(B373:B1871,[1]创新型中小企业导出Excel!A$3:O$1946,15,FALSE)","v":"91440300MA5F2QN24F"}]
[371,"深圳聚惠通讯设备有限公司",{"$f":"VLOOKUP(B374:B1872,[1]创新型中小企业导出Excel!A$3:O$1946,15,FALSE)","v":"914403000551355002"}]
[372,"深圳联开生物医疗科技有限公司",{"$f":"VLOOKUP(B375:B1873,[1]创新型中小企业导出Excel!A$3:O$1946,15,FALSE)","v":"914403000882869116"}]
[373,"深圳市盛天商业机器有限公司",{"$f":"VLOOKUP(B376:B1874,[1]创新型中小企业导出Excel!A$3:O$1946,15,FALSE)","v":"91440300306106705T"}]
[374,"深圳市聚力得电子股份有限公司",{"$f":"VLOOKUP(B377:B1875,[1]创新型中小企业导出Excel!A$3:O$1946,15,FALSE)","v":"91440300795417060A"}]
[375,"深圳市科泰新能源车用空调技术有限公司",{"$f":"VLOOKUP(B378:B1876,[1]创新型中小企业导出Excel!A$3:O$1946,15,FALSE)","v":"914403003264816765"}]
[376,"深圳市铭泽智能电力科技有限公司",{"$f":"VLOOKUP(B379:B1877,[1]创新型中小企业导出Excel!A$3:O$1946,15,FALSE)","v":"91440300581584111F"}]
[377,"深圳市吉力电业有限公司",{"$f":"VLOOKUP(B380:B1878,[1]创新型中小企业导出Excel!A$3:O$1946,15,FALSE)","v":"914403007432208990"}]
[378,"深圳航空标准件有限公司",{"$f":"VLOOKUP(B381:B1879,[1]创新型中小企业导出Excel!A$3:O$1946,15,FALSE)","v":"9144030061881126X5"}]
[379,"深圳市幻真科技有限公司",{"$f":"VLOOKUP(B382:B1880,[1]创新型中小企业导出Excel!A$3:O$1946,15,FALSE)","v":"91440300596754267U"}]
[380,"深圳市揽胜科技有限公司",{"$f":"VLOOKUP(B383:B1881,[1]创新型中小企业导出Excel!A$3:O$1946,15,FALSE)","v":"91440300071133505E"}]
[381,"深圳中粤建科集团有限公司",{"$f":"VLOOKUP(B384:B1882,[1]创新型中小企业导出Excel!A$3:O$1946,15,FALSE)","v":"91440300MA5FJDK49C"}]
[382,"深圳市创高科技有限公司",{"$f":"VLOOKUP(B385:B1883,[1]创新型中小企业导出Excel!A$3:O$1946,15,FALSE)","v":"91440300MA5DEWR97M"}]
[383,"百润生科技（深圳）有限公司",{"$f":"VLOOKUP(B386:B1884,[1]创新型中小企业导出Excel!A$3:O$1946,15,FALSE)","v":"91440300MA5GBU5553"}]
[384,"力博新能源（深圳）有限公司",{"$f":"VLOOKUP(B387:B1885,[1]创新型中小企业导出Excel!A$3:O$1946,15,FALSE)","v":"91440300MA5FQX2200"}]
[385,"深圳市瑞劲电子有限公司",{"$f":"VLOOKUP(B388:B1886,[1]创新型中小企业导出Excel!A$3:O$1946,15,FALSE)","v":"91440300754284441Y"}]
[386,"深圳市纽莱特实业有限公司",{"$f":"VLOOKUP(B389:B1887,[1]创新型中小企业导出Excel!A$3:O$1946,15,FALSE)","v":"91440300051515901X"}]
[387,"深圳市睿拓源科技有限公司",{"$f":"VLOOKUP(B390:B1888,[1]创新型中小企业导出Excel!A$3:O$1946,15,FALSE)","v":"91440300070366104G"}]
[388,"深圳卡思科电子有限公司",{"$f":"VLOOKUP(B391:B1889,[1]创新型中小企业导出Excel!A$3:O$1946,15,FALSE)","v":"91440300MA5EC9L105"}]
[389,"深圳市海格森科技有限公司",{"$f":"VLOOKUP(B392:B1890,[1]创新型中小企业导出Excel!A$3:O$1946,15,FALSE)","v":"9144030006929684X4"}]
[390,"深圳波洛斯科技有限公司",{"$f":"VLOOKUP(B393:B1891,[1]创新型中小企业导出Excel!A$3:O$1946,15,FALSE)","v":"91440300MA5F10XW76"}]
[391,"深圳市恒泰诚电子科技有限公司",{"$f":"VLOOKUP(B394:B1892,[1]创新型中小企业导出Excel!A$3:O$1946,15,FALSE)","v":"914403000859873333"}]
[392,"深圳市鸿宇光电有限公司",{"$f":"VLOOKUP(B395:B1893,[1]创新型中小企业导出Excel!A$3:O$1946,15,FALSE)","v":"91440300685380105W"}]
[393,"深圳市奥达电源科技有限公司",{"$f":"VLOOKUP(B396:B1894,[1]创新型中小企业导出Excel!A$3:O$1946,15,FALSE)","v":"91440300358286728D"}]
[394,"深圳市博云创环境科技有限公司",{"$f":"VLOOKUP(B397:B1895,[1]创新型中小企业导出Excel!A$3:O$1946,15,FALSE)","v":"91440300MA5F1G9T3R"}]
[395,"深圳市易容达电子有限公司",{"$f":"VLOOKUP(B398:B1896,[1]创新型中小企业导出Excel!A$3:O$1946,15,FALSE)","v":"914403005840898023"}]
[396,"深圳市永康达电子科技有限公司",{"$f":"VLOOKUP(B399:B1897,[1]创新型中小企业导出Excel!A$3:O$1946,15,FALSE)","v":"914403005521148078"}]
[397,"深圳市彩生活网络服务有限公司",{"$f":"VLOOKUP(B400:B1898,[1]创新型中小企业导出Excel!A$3:O$1946,15,FALSE)","v":"914403006626953824"}]
[398,"深圳民盾安全技术开发有限公司",{"$f":"VLOOKUP(B401:B1899,[1]创新型中小企业导出Excel!A$3:O$1946,15,FALSE)","v":"914403003350246960"}]
[399,"力标精密设备（深圳）有限公司",{"$f":"VLOOKUP(B402:B1900,[1]创新型中小企业导出Excel!A$3:O$1946,15,FALSE)","v":"91440300MA5FCCP58B"}]
[400,"深圳市鑫辉彩光电技术有限公司",{"$f":"VLOOKUP(B403:B1901,[1]创新型中小企业导出Excel!A$3:O$1946,15,FALSE)","v":"91440300581577640R"}]
[401,"深圳市英维克智能连接技术有限公司",{"$f":"VLOOKUP(B404:B1902,[1]创新型中小企业导出Excel!A$3:O$1946,15,FALSE)","v":"91440300MA5GDDWC9K"}]
[402,"深圳市车葫芦科技有限公司",{"$f":"VLOOKUP(B405:B1903,[1]创新型中小企业导出Excel!A$3:O$1946,15,FALSE)","v":"9144030034284641XM"}]
[403,"深圳市众联拓自动化有限责任公司",{"$f":"VLOOKUP(B406:B1904,[1]创新型中小企业导出Excel!A$3:O$1946,15,FALSE)","v":"91440300311921659R"}]
[404,"深圳市海蓝智能科技有限公司",{"$f":"VLOOKUP(B407:B1905,[1]创新型中小企业导出Excel!A$3:O$1946,15,FALSE)","v":"91440300MA5FXB632J"}]
[405,"深圳市兴泰达科技有限公司",{"$f":"VLOOKUP(B408:B1906,[1]创新型中小企业导出Excel!A$3:O$1946,15,FALSE)","v":"9144030008387356XE"}]
[406,"深圳市荣士海精密工业有限公司",{"$f":"VLOOKUP(B409:B1907,[1]创新型中小企业导出Excel!A$3:O$1946,15,FALSE)","v":"91440300665881359R"}]
[407,"深圳市欧洁照明科技有限公司",{"$f":"VLOOKUP(B410:B1908,[1]创新型中小企业导出Excel!A$3:O$1946,15,FALSE)","v":"91440300MA5ELD834A"}]
[408,"深圳市同昇光电有限公司",{"$f":"VLOOKUP(B411:B1909,[1]创新型中小企业导出Excel!A$3:O$1946,15,FALSE)","v":"91440300MA5FP22T11"}]
[409,"深圳市越芯电子有限责任公司",{"$f":"VLOOKUP(B412:B1910,[1]创新型中小企业导出Excel!A$3:O$1946,15,FALSE)","v":"914403005800663557"}]
[410,"深圳市广通远驰科技有限公司",{"$f":"VLOOKUP(B413:B1911,[1]创新型中小企业导出Excel!A$3:O$1946,15,FALSE)","v":"91440300MA5F9N5W5L"}]
[411,"深圳市万全智能技术有限公司",{"$f":"VLOOKUP(B414:B1912,[1]创新型中小企业导出Excel!A$3:O$1946,15,FALSE)","v":"91440300793898622H"}]
[412,"深圳市章誉物联技术有限公司",{"$f":"VLOOKUP(B415:B1913,[1]创新型中小企业导出Excel!A$3:O$1946,15,FALSE)","v":"91440300MA5EWK6M61"}]
[413,"深圳市优序科技有限公司",{"$f":"VLOOKUP(B416:B1914,[1]创新型中小企业导出Excel!A$3:O$1946,15,FALSE)","v":"91440300MA5FEE8EXE"}]
[414,"高点（深圳）科技有限公司",{"$f":"VLOOKUP(B417:B1915,[1]创新型中小企业导出Excel!A$3:O$1946,15,FALSE)","v":"91440300MA5EPQGY6G"}]
[415,"深圳市鹏杰精密仪器有限公司",{"$f":"VLOOKUP(B418:B1916,[1]创新型中小企业导出Excel!A$3:O$1946,15,FALSE)","v":"914403007883109430"}]
[416,"深圳市泰视朗科技有限公司",{"$f":"VLOOKUP(B419:B1917,[1]创新型中小企业导出Excel!A$3:O$1946,15,FALSE)","v":"91440300079816183K"}]
[417,"深圳市协美科技有限公司",{"$f":"VLOOKUP(B420:B1918,[1]创新型中小企业导出Excel!A$3:O$1946,15,FALSE)","v":"914403006700068310"}]
[418,"深圳市三正自动化有限公司",{"$f":"VLOOKUP(B421:B1919,[1]创新型中小企业导出Excel!A$3:O$1946,15,FALSE)","v":"91440300571998337C"}]
[419,"深圳市龙方自动化科技有限公司",{"$f":"VLOOKUP(B422:B1920,[1]创新型中小企业导出Excel!A$3:O$1946,15,FALSE)","v":"914403006658835065"}]
[420,"广东天跃新材料股份有限公司",{"$f":"VLOOKUP(B423:B1921,[1]创新型中小企业导出Excel!A$3:O$1946,15,FALSE)","v":"91441900MA515KQJX3"}]
[421,"深圳市星禾宏泰自动化设备有限公司",{"$f":"VLOOKUP(B424:B1922,[1]创新型中小企业导出Excel!A$3:O$1946,15,FALSE)","v":"91440300342936810D"}]
[422,"深圳市汇凌信息技术有限公司",{"$f":"VLOOKUP(B425:B1923,[1]创新型中小企业导出Excel!A$3:O$1946,15,FALSE)","v":"91440300359492064K"}]
[423,"深圳市松盛科技有限公司",{"$f":"VLOOKUP(B426:B1924,[1]创新型中小企业导出Excel!A$3:O$1946,15,FALSE)","v":"91440300576372659A"}]
[424,"深圳市环宇鼎鑫科技有限公司",{"$f":"VLOOKUP(B427:B1925,[1]创新型中小企业导出Excel!A$3:O$1946,15,FALSE)","v":"914403006853624099"}]
[425,"深圳市瑞达兴科技有限公司",{"$f":"VLOOKUP(B428:B1926,[1]创新型中小企业导出Excel!A$3:O$1946,15,FALSE)","v":"91440300359525911A"}]
[426,"深圳市芯斐电子有限公司",{"$f":"VLOOKUP(B429:B1927,[1]创新型中小企业导出Excel!A$3:O$1946,15,FALSE)","v":"91440105581878339G"}]
[427,"深圳市卡格尔数码科技有限公司",{"$f":"VLOOKUP(B430:B1928,[1]创新型中小企业导出Excel!A$3:O$1946,15,FALSE)","v":"91440300770341944X"}]
[428,"深圳玛丝菲尔噢姆服饰有限公司",{"$f":"VLOOKUP(B431:B1929,[1]创新型中小企业导出Excel!A$3:O$1946,15,FALSE)","v":"91440300068597528Q"}]
[429,"深圳市恒辉达电子有限公司",{"$f":"VLOOKUP(B432:B1930,[1]创新型中小企业导出Excel!A$3:O$1946,15,FALSE)","v":"91440300789206507Q"}]
[430,"深圳中科闻歌科技有限公司",{"$f":"VLOOKUP(B433:B1931,[1]创新型中小企业导出Excel!A$3:O$1946,15,FALSE)","v":"91440300MA5F4AKR7R"}]
[431,"深圳科宏健半导体照明有限公司",{"$f":"VLOOKUP(B434:B1932,[1]创新型中小企业导出Excel!A$3:O$1946,15,FALSE)","v":"91440300550339703J"}]
[432,"深圳市翔洲宏科技有限公司",{"$f":"VLOOKUP(B435:B1933,[1]创新型中小企业导出Excel!A$3:O$1946,15,FALSE)","v":"914403005747891785"}]
[433,"深圳科宏健科技有限公司",{"$f":"VLOOKUP(B436:B1934,[1]创新型中小企业导出Excel!A$3:O$1946,15,FALSE)","v":"91440300670037283P"}]
[434,"深圳市迪庆实业有限公司",{"$f":"VLOOKUP(B437:B1935,[1]创新型中小企业导出Excel!A$3:O$1946,15,FALSE)","v":"914403007152475681"}]
[435,"深圳市台钲精密机械有限公司",{"$f":"VLOOKUP(B438:B1936,[1]创新型中小企业导出Excel!A$3:O$1946,15,FALSE)","v":"9144030055717688XG"}]
[436,"深圳市鑫中鑫塑胶五金有限公司",{"$f":"VLOOKUP(B439:B1937,[1]创新型中小企业导出Excel!A$3:O$1946,15,FALSE)","v":"91440300671864512T"}]
[437,"深圳市润泽机器人有限公司",{"$f":"VLOOKUP(B440:B1938,[1]创新型中小企业导出Excel!A$3:O$1946,15,FALSE)","v":"91440300068677819Y"}]
[438,"深圳市双祥智创精密塑胶有限公司",{"$f":"VLOOKUP(B441:B1939,[1]创新型中小企业导出Excel!A$3:O$1946,15,FALSE)","v":"91440300MA5F8RN030"}]
[439,"深圳亿博尔电子科技有限公司",{"$f":"VLOOKUP(B442:B1940,[1]创新型中小企业导出Excel!A$3:O$1946,15,FALSE)","v":"9144030006141563X6"}]
[440,"深圳海天力电子商务有限公司",{"$f":"VLOOKUP(B443:B1941,[1]创新型中小企业导出Excel!A$3:O$1946,15,FALSE)","v":"9144030005046628XA"}]
[441,"深圳市远鑫实业股份有限公司",{"$f":"VLOOKUP(B444:B1942,[1]创新型中小企业导出Excel!A$3:O$1946,15,FALSE)","v":"914403006894170088"}]
[442,"深圳市普晟传感技术有限公司",{"$f":"VLOOKUP(B445:B1943,[1]创新型中小企业导出Excel!A$3:O$1946,15,FALSE)","v":"91440300357868080B"}]
[443,"深圳市喜悦智慧数据有限公司",{"$f":"VLOOKUP(B446:B1944,[1]创新型中小企业导出Excel!A$3:O$1946,15,FALSE)","v":"91440300319512147W"}]
[444,"深圳特思嘉工业电子有限公司",{"$f":"VLOOKUP(B447:B1945,[1]创新型中小企业导出Excel!A$3:O$1946,15,FALSE)","v":"91440300777187046H"}]
[445,"深圳市新浦自动化设备有限公司",{"$f":"VLOOKUP(B448:B1946,[1]创新型中小企业导出Excel!A$3:O$1946,15,FALSE)","v":"9144030005277362X1"}]
[446,"深圳汉卓科技股份有限公司",{"$f":"VLOOKUP(B449:B1947,[1]创新型中小企业导出Excel!A$3:O$1946,15,FALSE)","v":"91440300MA5DGPX54A"}]
[447,"深圳市鸿富邦科技有限公司",{"$f":"VLOOKUP(B450:B1948,[1]创新型中小企业导出Excel!A$3:O$1946,15,FALSE)","v":"91440300699082192E"}]
[448,"深圳大洲微系统技术有限公司",{"$f":"VLOOKUP(B451:B1949,[1]创新型中小企业导出Excel!A$3:O$1946,15,FALSE)","v":"91440300MA5EFBDDX9"}]
[449,"深圳市力美拓科技有限公司",{"$f":"VLOOKUP(B452:B1950,[1]创新型中小企业导出Excel!A$3:O$1946,15,FALSE)","v":"91440300MA5EQDBE09"}]
[450,"深圳市中科南光科技有限公司",{"$f":"VLOOKUP(B453:B1951,[1]创新型中小企业导出Excel!A$3:O$1946,15,FALSE)","v":"91440300359887664C"}]
[451,"深圳市亨泰建筑工程有限公司",{"$f":"VLOOKUP(B454:B1952,[1]创新型中小企业导出Excel!A$3:O$1946,15,FALSE)","v":"914403006718620234"}]
[452,"深圳市飞思腾科技有限公司",{"$f":"VLOOKUP(B455:B1953,[1]创新型中小企业导出Excel!A$3:O$1946,15,FALSE)","v":"91440300398424443F"}]
[453,"深圳市亚鹰科技有限公司",{"$f":"VLOOKUP(B456:B1954,[1]创新型中小企业导出Excel!A$3:O$1946,15,FALSE)","v":"914403007634737627"}]
[454,"深圳市时纬机器人有限公司",{"$f":"VLOOKUP(B457:B1955,[1]创新型中小企业导出Excel!A$3:O$1946,15,FALSE)","v":"91440300064979756H"}]
[455,"平方（深圳）数字创意科技有限公司",{"$f":"VLOOKUP(B458:B1956,[1]创新型中小企业导出Excel!A$3:O$1946,15,FALSE)","v":"91440300MA5DFL8WXT"}]
[456,"深圳市时纬自动化有限公司",{"$f":"VLOOKUP(B459:B1957,[1]创新型中小企业导出Excel!A$3:O$1946,15,FALSE)","v":"91440300786590363N"}]
[457,"深圳市遨游通讯设备有限公司",{"$f":"VLOOKUP(B460:B1958,[1]创新型中小企业导出Excel!A$3:O$1946,15,FALSE)","v":"91440300MA5DDTC711"}]
[458,"优普士电子（深圳）有限公司",{"$f":"VLOOKUP(B461:B1959,[1]创新型中小企业导出Excel!A$3:O$1946,15,FALSE)","v":"914403005670550613"}]
[459,"深圳市奥星澳科技有限公司",{"$f":"VLOOKUP(B462:B1960,[1]创新型中小企业导出Excel!A$3:O$1946,15,FALSE)","v":"91440300685354476X"}]
[460,"深圳众为氢能科技有限公司",{"$f":"VLOOKUP(B463:B1961,[1]创新型中小企业导出Excel!A$3:O$1946,15,FALSE)","v":"91440300788332958E"}]
[461,"深圳市原动力运控技术有限公司",{"$f":"VLOOKUP(B464:B1962,[1]创新型中小企业导出Excel!A$3:O$1946,15,FALSE)","v":"914403003597976504"}]
[462,"深圳泰华互联技术有限公司",{"$f":"VLOOKUP(B465:B1963,[1]创新型中小企业导出Excel!A$3:O$1946,15,FALSE)","v":"91440300MA5G2J61X8"}]
[463,"深圳市博来美电子有限公司",{"$f":"VLOOKUP(B466:B1964,[1]创新型中小企业导出Excel!A$3:O$1946,15,FALSE)","v":"9144030076917849XE"}]
[464,"深圳市锦上嘉科技有限公司",{"$f":"VLOOKUP(B467:B1965,[1]创新型中小企业导出Excel!A$3:O$1946,15,FALSE)","v":"91440300670021409A"}]
[465,"深圳市精视睿电子科技有限公司",{"$f":"VLOOKUP(B468:B1966,[1]创新型中小企业导出Excel!A$3:O$1946,15,FALSE)","v":"914403005840787674"}]
[466,"深圳市哈烁实业有限公司",{"$f":"VLOOKUP(B469:B1967,[1]创新型中小企业导出Excel!A$3:O$1946,15,FALSE)","v":"91440300073353974A"}]
[467,"深圳市网策网络技术有限公司",{"$f":"VLOOKUP(B470:B1968,[1]创新型中小企业导出Excel!A$3:O$1946,15,FALSE)","v":"914403000941847517"}]
[468,"深圳市弘业自动化技术有限公司",{"$f":"VLOOKUP(B471:B1969,[1]创新型中小企业导出Excel!A$3:O$1946,15,FALSE)","v":"91440300085970128U"}]
[469,"深圳绿达环境工程技术有限公司",{"$f":"VLOOKUP(B472:B1970,[1]创新型中小企业导出Excel!A$3:O$1946,15,FALSE)","v":"91440300MA5EW92X0P"}]
[470,"深圳市鹏源电气有限公司",{"$f":"VLOOKUP(B473:B1971,[1]创新型中小企业导出Excel!A$3:O$1946,15,FALSE)","v":"91440300319549169Y"}]
[471,"美达牙科技术（深圳）有限公司",{"$f":"VLOOKUP(B474:B1972,[1]创新型中小企业导出Excel!A$3:O$1946,15,FALSE)","v":"91440300MA5FLTJA61"}]
[472,"深圳智慧光迅信息技术有限公司",{"$f":"VLOOKUP(B475:B1973,[1]创新型中小企业导出Excel!A$3:O$1946,15,FALSE)","v":"91440300306021517F"}]
[473,"深圳市金印达科技有限公司",{"$f":"VLOOKUP(B476:B1974,[1]创新型中小企业导出Excel!A$3:O$1946,15,FALSE)","v":"91440300786594946W"}]
[474,"深圳市宇创实业有限公司",{"$f":"VLOOKUP(B477:B1975,[1]创新型中小企业导出Excel!A$3:O$1946,15,FALSE)","v":"91440300766384562T"}]
[475,"深圳市强禾科技有限公司",{"$f":"VLOOKUP(B478:B1976,[1]创新型中小企业导出Excel!A$3:O$1946,15,FALSE)","v":"91440300585635385A"}]
[476,"深圳市维普医疗科技有限公司",{"$f":"VLOOKUP(B479:B1977,[1]创新型中小企业导出Excel!A$3:O$1946,15,FALSE)","v":"91440300MA5GCFHG6N"}]
[477,"深圳市奥金瑞科技有限公司",{"$f":"VLOOKUP(B480:B1978,[1]创新型中小企业导出Excel!A$3:O$1946,15,FALSE)","v":"914403007691563549"}]
[478,"深圳辰泽科技有限公司",{"$f":"VLOOKUP(B481:B1979,[1]创新型中小企业导出Excel!A$3:O$1946,15,FALSE)","v":"91440300695565525H"}]
[479,"联航（深圳）实业发展有限公司",{"$f":"VLOOKUP(B482:B1980,[1]创新型中小企业导出Excel!A$3:O$1946,15,FALSE)","v":"91440300359303710Q"}]
[480,"深圳市容泰丰科技有限公司",{"$f":"VLOOKUP(B483:B1981,[1]创新型中小企业导出Excel!A$3:O$1946,15,FALSE)","v":"91440300793858786T"}]
[481,"深圳市中电高能电源科技有限公司",{"$f":"VLOOKUP(B484:B1982,[1]创新型中小企业导出Excel!A$3:O$1946,15,FALSE)","v":"914403006837741278"}]
[482,"深圳市神州线缆有限公司",{"$f":"VLOOKUP(B485:B1983,[1]创新型中小企业导出Excel!A$3:O$1946,15,FALSE)","v":"91440300767557015C"}]
[483,"深圳市铁军智能科技有限公司",{"$f":"VLOOKUP(B486:B1984,[1]创新型中小企业导出Excel!A$3:O$1946,15,FALSE)","v":"914403000939588159"}]
[484,"深圳市锐力电子技术有限公司",{"$f":"VLOOKUP(B487:B1985,[1]创新型中小企业导出Excel!A$3:O$1946,15,FALSE)","v":"914403007741323654"}]
[485,"深圳市瀚达美电子股份有限公司",{"$f":"VLOOKUP(B488:B1986,[1]创新型中小企业导出Excel!A$3:O$1946,15,FALSE)","v":"91440300695563220J"}]
[486,"深圳市春秋云计算信息技术有限公司",{"$f":"VLOOKUP(B489:B1987,[1]创新型中小企业导出Excel!A$3:O$1946,15,FALSE)","v":"914403005763704189"}]
[487,"深圳市迅豹聚能科技有限公司",{"$f":"VLOOKUP(B490:B1988,[1]创新型中小企业导出Excel!A$3:O$1946,15,FALSE)","v":"91440300685376069D"}]
[488,"深圳市芯悦动科技有限公司",{"$f":"VLOOKUP(B491:B1989,[1]创新型中小企业导出Excel!A$3:O$1946,15,FALSE)","v":"91440300359769991K"}]
[489,"深圳市海之源电子有限公司",{"$f":"VLOOKUP(B492:B1990,[1]创新型中小企业导出Excel!A$3:O$1946,15,FALSE)","v":"91440300MA5DNLT72X"}]
[490,"深圳市维谱科技有限公司",{"$f":"VLOOKUP(B493:B1991,[1]创新型中小企业导出Excel!A$3:O$1946,15,FALSE)","v":"914403003582242952"}]
[491,"深圳市泰视特测控技术有限公司",{"$f":"VLOOKUP(B494:B1992,[1]创新型中小企业导出Excel!A$3:O$1946,15,FALSE)","v":"91440300MA5DNG2P4F"}]
[492,"深圳市思商科技有限公司",{"$f":"VLOOKUP(B495:B1993,[1]创新型中小企业导出Excel!A$3:O$1946,15,FALSE)","v":"91440300689415512L"}]
[493,"深圳市越宏五金塑胶技术有限公司",{"$f":"VLOOKUP(B496:B1994,[1]创新型中小企业导出Excel!A$3:O$1946,15,FALSE)","v":"91440300789203015H"}]
[494,"深圳市博控科技有限公司",{"$f":"VLOOKUP(B497:B1995,[1]创新型中小企业导出Excel!A$3:O$1946,15,FALSE)","v":"91440300064965338A"}]
[495,"深圳市君诺达科技有限公司",{"$f":"VLOOKUP(B498:B1996,[1]创新型中小企业导出Excel!A$3:O$1946,15,FALSE)","v":"914403005627557041"}]
[496,"深圳市绿色千田锡业科技有限公司",{"$f":"VLOOKUP(B499:B1997,[1]创新型中小企业导出Excel!A$3:O$1946,15,FALSE)","v":"914403005700018650"}]
[497,"深圳市优力特技术有限公司",{"$f":"VLOOKUP(B500:B1998,[1]创新型中小企业导出Excel!A$3:O$1946,15,FALSE)","v":"91440300MA5DBUT39W"}]
[498,"深圳市海特奈德光电科技有限公司",{"$f":"VLOOKUP(B501:B1999,[1]创新型中小企业导出Excel!A$3:O$1946,15,FALSE)","v":"91440300576371269D"}]
[499,"深圳市通展精密科技有限公司",{"$f":"VLOOKUP(B502:B2000,[1]创新型中小企业导出Excel!A$3:O$1946,15,FALSE)","v":"91440300306037201X"}]
[500,"深圳市土地公网络科技有限公司",{"$f":"VLOOKUP(B503:B2001,[1]创新型中小企业导出Excel!A$3:O$1946,15,FALSE)","v":"914403003499626913"}]
[501,"深圳市网通兴技术发展有限公司",{"$f":"VLOOKUP(B504:B2002,[1]创新型中小企业导出Excel!A$3:O$1946,15,FALSE)","v":"91440300715220832A"}]
[502,"深圳市康士达科技有限公司",{"$f":"VLOOKUP(B505:B2003,[1]创新型中小企业导出Excel!A$3:O$1946,15,FALSE)","v":"914403006925406642"}]
[503,"深圳市力通威电子科技有限公司",{"$f":"VLOOKUP(B506:B2004,[1]创新型中小企业导出Excel!A$3:O$1946,15,FALSE)","v":"91440300779899389L"}]
[504,"深圳华望技术有限公司",{"$f":"VLOOKUP(B507:B2005,[1]创新型中小企业导出Excel!A$3:O$1946,15,FALSE)","v":"91440300085722300Y"}]
[505,"深圳市网商天下科技开发有限公司",{"$f":"VLOOKUP(B508:B2006,[1]创新型中小企业导出Excel!A$3:O$1946,15,FALSE)","v":"914403000884505907"}]
[506,"深圳市圆融精密电子有限公司",{"$f":"VLOOKUP(B509:B2007,[1]创新型中小企业导出Excel!A$3:O$1946,15,FALSE)","v":"91440300557197293M"}]
[507,"深圳亿播网视科技有限公司",{"$f":"VLOOKUP(B510:B2008,[1]创新型中小企业导出Excel!A$3:O$1946,15,FALSE)","v":"91440300349907270W"}]
[508,"深圳市中选科技有限公司",{"$f":"VLOOKUP(B511:B2009,[1]创新型中小企业导出Excel!A$3:O$1946,15,FALSE)","v":"914403006685421920"}]
[509,"深圳市创裕达电子有限公司",{"$f":"VLOOKUP(B512:B2010,[1]创新型中小企业导出Excel!A$3:O$1946,15,FALSE)","v":"91440300754282198A"}]
[510,"深圳市烨兴智能空间技术有限公司",{"$f":"VLOOKUP(B513:B2011,[1]创新型中小企业导出Excel!A$3:O$1946,15,FALSE)","v":"91440300678589672X"}]
[511,"深圳市江胜科技有限公司",{"$f":"VLOOKUP(B514:B2012,[1]创新型中小企业导出Excel!A$3:O$1946,15,FALSE)","v":"91440300587929109C"}]
[512,"深圳市阿赛姆电子有限公司",{"$f":"VLOOKUP(B515:B2013,[1]创新型中小企业导出Excel!A$3:O$1946,15,FALSE)","v":"91440300MA5ETYLG45"}]
[513,"深圳市鑫东泰电子有限公司",{"$f":"VLOOKUP(B516:B2014,[1]创新型中小企业导出Excel!A$3:O$1946,15,FALSE)","v":"91440300570010358C"}]
[514,"深圳核子华曦医学检验实验室",{"$f":"VLOOKUP(B517:B2015,[1]创新型中小企业导出Excel!A$3:O$1946,15,FALSE)","v":"91440300349765233W"}]
[515,"深圳富沐智能设备有限公司",{"$f":"VLOOKUP(B518:B2016,[1]创新型中小企业导出Excel!A$3:O$1946,15,FALSE)","v":"91440300311886275Q"}]
[516,"深圳瑞科曼环保科技有限公司",{"$f":"VLOOKUP(B519:B2017,[1]创新型中小企业导出Excel!A$3:O$1946,15,FALSE)","v":"91440300MA5DMTB58W"}]
[517,"深圳市嘉荣华科技有限公司",{"$f":"VLOOKUP(B520:B2018,[1]创新型中小企业导出Excel!A$3:O$1946,15,FALSE)","v":"91440300558659621H"}]
[518,"广东震仪智能装备股份有限公司",{"$f":"VLOOKUP(B521:B2019,[1]创新型中小企业导出Excel!A$3:O$1946,15,FALSE)","v":"91440300MA5EW70X24"}]
[519,"一鎏科技股份有限公司",{"$f":"VLOOKUP(B522:B2020,[1]创新型中小企业导出Excel!A$3:O$1946,15,FALSE)","v":"91440300766369768D"}]
[520,"深圳市厚德世家科技有限公司",{"$f":"VLOOKUP(B523:B2021,[1]创新型中小企业导出Excel!A$3:O$1946,15,FALSE)","v":"914403003588072719"}]
[521,"深圳市迈斯泰克电子有限公司",{"$f":"VLOOKUP(B524:B2022,[1]创新型中小企业导出Excel!A$3:O$1946,15,FALSE)","v":"91440300306184850M"}]
[522,"深圳市盛浜泰科技有限公司",{"$f":"VLOOKUP(B525:B2023,[1]创新型中小企业导出Excel!A$3:O$1946,15,FALSE)","v":"91440300087972848G"}]
[523,"深圳亚锐光电科技有限公司",{"$f":"VLOOKUP(B526:B2024,[1]创新型中小企业导出Excel!A$3:O$1946,15,FALSE)","v":"91440300568525918J"}]
[524,"深圳市欧普索科技有限公司",{"$f":"VLOOKUP(B527:B2025,[1]创新型中小企业导出Excel!A$3:O$1946,15,FALSE)","v":"91440300573122339Q"}]
[525,"深圳市瑞达检测技术有限公司",{"$f":"VLOOKUP(B528:B2026,[1]创新型中小企业导出Excel!A$3:O$1946,15,FALSE)","v":"91440300074380587M"}]
[526,"深圳市鸿昕瑞科技有限公司",{"$f":"VLOOKUP(B529:B2027,[1]创新型中小企业导出Excel!A$3:O$1946,15,FALSE)","v":"91440300MA5D8MA48D"}]
[527,"深圳市谷林动力科技有限公司",{"$f":"VLOOKUP(B530:B2028,[1]创新型中小企业导出Excel!A$3:O$1946,15,FALSE)","v":"914403003194352097"}]
[528,"深圳安邦科技有限公司",{"$f":"VLOOKUP(B531:B2029,[1]创新型中小企业导出Excel!A$3:O$1946,15,FALSE)","v":"91440300073369271C"}]
[529,"深圳市博一环境建设工程有限公司",{"$f":"VLOOKUP(B532:B2030,[1]创新型中小企业导出Excel!A$3:O$1946,15,FALSE)","v":"91440300599059796W"}]
[530,"深圳市燚磊实业有限公司",{"$f":"VLOOKUP(B533:B2031,[1]创新型中小企业导出Excel!A$3:O$1946,15,FALSE)","v":"91440300326303837D"}]
[531,"深圳市晚晴科技有限公司",{"$f":"VLOOKUP(B534:B2032,[1]创新型中小企业导出Excel!A$3:O$1946,15,FALSE)","v":"91440300MA5DT0AG0L"}]
[532,"深圳市伟勤自动化设备有限公司",{"$f":"VLOOKUP(B535:B2033,[1]创新型中小企业导出Excel!A$3:O$1946,15,FALSE)","v":"91440300555423250G"}]
[533,"深圳市浩海昌实业有限公司",{"$f":"VLOOKUP(B536:B2034,[1]创新型中小企业导出Excel!A$3:O$1946,15,FALSE)","v":"91440300732056667G"}]
[534,"深圳市欣旭塑胶五金有限公司",{"$f":"VLOOKUP(B537:B2035,[1]创新型中小企业导出Excel!A$3:O$1946,15,FALSE)","v":"91440300792555636C"}]
[535,"深圳固尔琦包装机械有限公司",{"$f":"VLOOKUP(B538:B2036,[1]创新型中小企业导出Excel!A$3:O$1946,15,FALSE)","v":"9144030077558016XU"}]
[536,"深圳市郎搏万先进材料有限公司",{"$f":"VLOOKUP(B539:B2037,[1]创新型中小企业导出Excel!A$3:O$1946,15,FALSE)","v":"914403007865811097"}]
[537,"深圳市巨匠激光器械有限公司",{"$f":"VLOOKUP(B540:B2038,[1]创新型中小企业导出Excel!A$3:O$1946,15,FALSE)","v":"91440300695559272H"}]
[538,"深圳市兴业邦电子科技有限公司",{"$f":"VLOOKUP(B541:B2039,[1]创新型中小企业导出Excel!A$3:O$1946,15,FALSE)","v":"914403003060490345"}]
[539,"深圳汉德霍尔科技有限公司",{"$f":"VLOOKUP(B542:B2040,[1]创新型中小企业导出Excel!A$3:O$1946,15,FALSE)","v":"91440300558656631W"}]
[540,"深圳市天海检测技术有限公司",{"$f":"VLOOKUP(B543:B2041,[1]创新型中小企业导出Excel!A$3:O$1946,15,FALSE)","v":"914403006971001234"}]
[541,"深圳市禾启智能科技有限公司",{"$f":"VLOOKUP(B544:B2042,[1]创新型中小企业导出Excel!A$3:O$1946,15,FALSE)","v":"91440300MA5FGX3F91"}]
[542,"深圳市普奥视实业有限公司",{"$f":"VLOOKUP(B545:B2043,[1]创新型中小企业导出Excel!A$3:O$1946,15,FALSE)","v":"914403003120253620"}]
[543,"深圳市同方电子新材料有限公司",{"$f":"VLOOKUP(B546:B2044,[1]创新型中小企业导出Excel!A$3:O$1946,15,FALSE)","v":"91440300279352299Q"}]
[544,"深圳市奥缘科技有限公司",{"$f":"VLOOKUP(B547:B2045,[1]创新型中小企业导出Excel!A$3:O$1946,15,FALSE)","v":"91440300MA5EUNJJ1G"}]
[545,"佳兴精密模具塑胶（深圳）有限公司",{"$f":"VLOOKUP(B548:B2046,[1]创新型中小企业导出Excel!A$3:O$1946,15,FALSE)","v":"914403007649915532"}]
[546,"深圳市丰禾原电子科技有限公司",{"$f":"VLOOKUP(B549:B2047,[1]创新型中小企业导出Excel!A$3:O$1946,15,FALSE)","v":"91440300661016405E"}]
[547,"一见塑胶制品（深圳）有限公司",{"$f":"VLOOKUP(B550:B2048,[1]创新型中小企业导出Excel!A$3:O$1946,15,FALSE)","v":"914403007992153197"}]
[548,"深圳市安保医疗感控科技股份有限公司",{"$f":"VLOOKUP(B551:B2049,[1]创新型中小企业导出Excel!A$3:O$1946,15,FALSE)","v":"91440300752549848U"}]
[549,"深圳市深拓光电有限公司",{"$f":"VLOOKUP(B552:B2050,[1]创新型中小企业导出Excel!A$3:O$1946,15,FALSE)","v":"91440300083415112L"}]
[550,"深圳市欧阳麦乐科技有限公司",{"$f":"VLOOKUP(B553:B2051,[1]创新型中小企业导出Excel!A$3:O$1946,15,FALSE)","v":"91440300080121960H"}]
[551,"深圳恒升应急科技有限公司",{"$f":"VLOOKUP(B554:B2052,[1]创新型中小企业导出Excel!A$3:O$1946,15,FALSE)","v":"91440300596786330E"}]
[552,"深圳市魅佧芬科技有限公司",{"$f":"VLOOKUP(B555:B2053,[1]创新型中小企业导出Excel!A$3:O$1946,15,FALSE)","v":"91440300MA5EFNJ39W"}]
[553,"深圳市联合创造科技有限公司",{"$f":"VLOOKUP(B556:B2054,[1]创新型中小企业导出Excel!A$3:O$1946,15,FALSE)","v":"91440300359527909G"}]
[554,"深圳市比尔光电有限公司",{"$f":"VLOOKUP(B557:B2055,[1]创新型中小企业导出Excel!A$3:O$1946,15,FALSE)","v":"91440300MA5FJC217B"}]
[555,"深圳市绿意雅科技有限公司",{"$f":"VLOOKUP(B558:B2056,[1]创新型中小企业导出Excel!A$3:O$1946,15,FALSE)","v":"914403002793684694"}]
[556,"深圳市科驰自动化设备有限公司",{"$f":"VLOOKUP(B559:B2057,[1]创新型中小企业导出Excel!A$3:O$1946,15,FALSE)","v":"91440300682011670P"}]
[557,"深圳市旭艺光电科技有限公司",{"$f":"VLOOKUP(B560:B2058,[1]创新型中小企业导出Excel!A$3:O$1946,15,FALSE)","v":"91440300MA5EJQRK9T"}]
[558,"深圳市天下房仓科技有限公司",{"$f":"VLOOKUP(B561:B2059,[1]创新型中小企业导出Excel!A$3:O$1946,15,FALSE)","v":"914403000703783169"}]
[559,"深圳市泰智科技有限公司",{"$f":"VLOOKUP(B562:B2060,[1]创新型中小企业导出Excel!A$3:O$1946,15,FALSE)","v":"91440300778772482R"}]
[560,"深圳市伽蓝特科技有限公司",{"$f":"VLOOKUP(B563:B2061,[1]创新型中小企业导出Excel!A$3:O$1946,15,FALSE)","v":"91440300682021596E"}]
[561,"达文恒业科技（深圳）有限公司",{"$f":"VLOOKUP(B564:B2062,[1]创新型中小企业导出Excel!A$3:O$1946,15,FALSE)","v":"914403006658815784"}]
[562,"深圳市研创科技有限公司",{"$f":"VLOOKUP(B565:B2063,[1]创新型中小企业导出Excel!A$3:O$1946,15,FALSE)","v":"914403007388009288"}]
[563,"深圳市联得自动化装备股份有限公司",{"$f":"VLOOKUP(B566:B2064,[1]创新型中小企业导出Excel!A$3:O$1946,15,FALSE)","v":"91440300738806748A"}]
[564,"深圳市瓦特源检测研究有限公司",{"$f":"VLOOKUP(B567:B2065,[1]创新型中小企业导出Excel!A$3:O$1946,15,FALSE)","v":"91440300342969479M"}]
[565,"深圳市佳得设备科技有限公司",{"$f":"VLOOKUP(B568:B2066,[1]创新型中小企业导出Excel!A$3:O$1946,15,FALSE)","v":"91440300MA5DLY611U"}]
[566,"深圳市宝国电子科技有限公司",{"$f":"VLOOKUP(B569:B2067,[1]创新型中小企业导出Excel!A$3:O$1946,15,FALSE)","v":"914403003498025404"}]
[567,"深圳市瀚力科技有限公司",{"$f":"VLOOKUP(B570:B2068,[1]创新型中小企业导出Excel!A$3:O$1946,15,FALSE)","v":"91440300MA5ENW7M69"}]
[568,"深圳市格瑞斯通自控设备有限公司",{"$f":"VLOOKUP(B571:B2069,[1]创新型中小企业导出Excel!A$3:O$1946,15,FALSE)","v":"91440300766396678A"}]
[569,"深圳市诺赛德精密科技有限公司",{"$f":"VLOOKUP(B572:B2070,[1]创新型中小企业导出Excel!A$3:O$1946,15,FALSE)","v":"91440300562771499B"}]
[570,"深圳市鑫达能电子有限责任公司",{"$f":"VLOOKUP(B573:B2071,[1]创新型中小企业导出Excel!A$3:O$1946,15,FALSE)","v":"91440300359694184Y"}]
[571,"深圳鑫想科技有限责任公司",{"$f":"VLOOKUP(B574:B2072,[1]创新型中小企业导出Excel!A$3:O$1946,15,FALSE)","v":"91440300MA5EMDUU0A"}]
[572,"深圳伊卡普科技有限公司",{"$f":"VLOOKUP(B575:B2073,[1]创新型中小企业导出Excel!A$3:O$1946,15,FALSE)","v":"91440300587934274D"}]
[573,"深圳市纵横通信息技术有限公司",{"$f":"VLOOKUP(B576:B2074,[1]创新型中小企业导出Excel!A$3:O$1946,15,FALSE)","v":"91440300790499319F"}]
[574,"深圳市弘盛科技有限公司",{"$f":"VLOOKUP(B577:B2075,[1]创新型中小企业导出Excel!A$3:O$1946,15,FALSE)","v":"91440300MA5D90KX4X"}]
[575,"深圳芯耀科技有限公司",{"$f":"VLOOKUP(B578:B2076,[1]创新型中小企业导出Excel!A$3:O$1946,15,FALSE)","v":"914403003497081406"}]
[576,"深圳市恒捷光通讯技术有限公司",{"$f":"VLOOKUP(B579:B2077,[1]创新型中小企业导出Excel!A$3:O$1946,15,FALSE)","v":"9144030079664242X5"}]
[577,"深圳市方昕科技有限公司",{"$f":"VLOOKUP(B580:B2078,[1]创新型中小企业导出Excel!A$3:O$1946,15,FALSE)","v":"91440300052785268K"}]
[578,"深圳市高捷机械设备有限公司",{"$f":"VLOOKUP(B581:B2079,[1]创新型中小企业导出Excel!A$3:O$1946,15,FALSE)","v":"91440300050474466M"}]
[579,"深圳市易展鸿业科技有限公司",{"$f":"VLOOKUP(B582:B2080,[1]创新型中小企业导出Excel!A$3:O$1946,15,FALSE)","v":"91440300319586613W"}]
[580,"深圳市东华计量检测技术有限公司",{"$f":"VLOOKUP(B583:B2081,[1]创新型中小企业导出Excel!A$3:O$1946,15,FALSE)","v":"91440300050486539P"}]
[581,"深圳市莱法照明通信科技有限公司",{"$f":"VLOOKUP(B584:B2082,[1]创新型中小企业导出Excel!A$3:O$1946,15,FALSE)","v":"91440300MA5F8TK0XN"}]
[582,"深圳市博科顺精密设备有限公司",{"$f":"VLOOKUP(B585:B2083,[1]创新型中小企业导出Excel!A$3:O$1946,15,FALSE)","v":"914403006853806828"}]
[583,"倍利得电子科技（深圳）有限公司",{"$f":"VLOOKUP(B586:B2084,[1]创新型中小企业导出Excel!A$3:O$1946,15,FALSE)","v":"914403007504568593"}]
[584,"深圳市艾礼安安防设备有限公司",{"$f":"VLOOKUP(B587:B2085,[1]创新型中小企业导出Excel!A$3:O$1946,15,FALSE)","v":"91440300564211161F"}]
[585,"深圳市鸿普森科技股份有限公司",{"$f":"VLOOKUP(B588:B2086,[1]创新型中小企业导出Excel!A$3:O$1946,15,FALSE)","v":"91440300192460975B"}]
[586,"深圳市齐泰自动化设备有限公司",{"$f":"VLOOKUP(B589:B2087,[1]创新型中小企业导出Excel!A$3:O$1946,15,FALSE)","v":"91440300MA5DNMFH8K"}]
[587,"凌龙智能（深圳）科技有限公司",{"$f":"VLOOKUP(B590:B2088,[1]创新型中小企业导出Excel!A$3:O$1946,15,FALSE)","v":"91440300MA5EM5XF5Y"}]
[588,"深圳市齐泰科技有限公司",{"$f":"VLOOKUP(B591:B2089,[1]创新型中小企业导出Excel!A$3:O$1946,15,FALSE)","v":"9144030033527234XE"}]
[589,"深圳市森通电力科技有限公司",{"$f":"VLOOKUP(B592:B2090,[1]创新型中小企业导出Excel!A$3:O$1946,15,FALSE)","v":"91440300MA5ERYKB6Q"}]
[590,"深圳市裕欣源电子科技有限公司",{"$f":"VLOOKUP(B593:B2091,[1]创新型中小企业导出Excel!A$3:O$1946,15,FALSE)","v":"91440300577660513M"}]
[591,"深圳市汉胜恒五金科技有限公司",{"$f":"VLOOKUP(B594:B2092,[1]创新型中小企业导出Excel!A$3:O$1946,15,FALSE)","v":"91440300MA5F0F9D4G"}]
[592,"爱能科科技（深圳）有限公司",{"$f":"VLOOKUP(B595:B2093,[1]创新型中小企业导出Excel!A$3:O$1946,15,FALSE)","v":"91440300555448001N"}]
[593,"深圳玖合精工科技有限公司",{"$f":"VLOOKUP(B596:B2094,[1]创新型中小企业导出Excel!A$3:O$1946,15,FALSE)","v":"91440300MA5DRDRU84"}]
[594,"深圳市国华光电科技有限公司",{"$f":"VLOOKUP(B597:B2095,[1]创新型中小企业导出Excel!A$3:O$1946,15,FALSE)","v":"914403000638814907"}]
[595,"深圳市腾阁机电实业有限公司",{"$f":"VLOOKUP(B598:B2096,[1]创新型中小企业导出Excel!A$3:O$1946,15,FALSE)","v":"91440300MA5DQXGB1N"}]
[596,"深电能科技集团有限公司",{"$f":"VLOOKUP(B599:B2097,[1]创新型中小企业导出Excel!A$3:O$1946,15,FALSE)","v":"91440300326555452K"}]
[597,"深圳市永顺通印刷包装有限公司",{"$f":"VLOOKUP(B600:B2098,[1]创新型中小企业导出Excel!A$3:O$1946,15,FALSE)","v":"914403003598036517"}]
[598,"深圳市元鼎科技有限公司",{"$f":"VLOOKUP(B601:B2099,[1]创新型中小企业导出Excel!A$3:O$1946,15,FALSE)","v":"91440300576379762X"}]
[599,"深圳海诚锡元科技有限公司",{"$f":"VLOOKUP(B602:B2100,[1]创新型中小企业导出Excel!A$3:O$1946,15,FALSE)","v":"91440300597791051C"}]
[600,"深圳市安卓微科技（集团）有限公司",{"$f":"VLOOKUP(B603:B2101,[1]创新型中小企业导出Excel!A$3:O$1946,15,FALSE)","v":"91440300567083265K"}]
[601,"深圳市明鸿五金制品有限公司",{"$f":"VLOOKUP(B604:B2102,[1]创新型中小企业导出Excel!A$3:O$1946,15,FALSE)","v":"91440300738830596R"}]
[602,"深圳市晶泓达光电工程技术有限公司",{"$f":"VLOOKUP(B605:B2103,[1]创新型中小企业导出Excel!A$3:O$1946,15,FALSE)","v":"91440300078044177W"}]
[603,"广东高普达集团股份有限公司",{"$f":"VLOOKUP(B606:B2104,[1]创新型中小企业导出Excel!A$3:O$1946,15,FALSE)","v":"91440300797960235F"}]
[604,"深圳市科雷特电子科技有限公司",{"$f":"VLOOKUP(B607:B2105,[1]创新型中小企业导出Excel!A$3:O$1946,15,FALSE)","v":"91440300559880467E"}]
[605,"深圳为胜智控技术有限公司",{"$f":"VLOOKUP(B608:B2106,[1]创新型中小企业导出Excel!A$3:O$1946,15,FALSE)","v":"9144030059566370XX"}]
[606,"深圳市晓风科建工程有限公司",{"$f":"VLOOKUP(B609:B2107,[1]创新型中小企业导出Excel!A$3:O$1946,15,FALSE)","v":"91440300695562615G"}]
[607,"深圳启奥朗程科技有限公司",{"$f":"VLOOKUP(B610:B2108,[1]创新型中小企业导出Excel!A$3:O$1946,15,FALSE)","v":"91440300MA5EE4T43Y"}]
[608,"深圳市因特格机器人有限公司",{"$f":"VLOOKUP(B611:B2109,[1]创新型中小企业导出Excel!A$3:O$1946,15,FALSE)","v":"91440300062722017X"}]
[609,"深圳市海凌科电子有限公司",{"$f":"VLOOKUP(B612:B2110,[1]创新型中小企业导出Excel!A$3:O$1946,15,FALSE)","v":"91440300695567483A"}]
[610,"深圳丰汇汽车电子有限公司",{"$f":"VLOOKUP(B613:B2111,[1]创新型中小企业导出Excel!A$3:O$1946,15,FALSE)","v":"91440300062719328X"}]
[611,"深圳新锐芯科技有限公司",{"$f":"VLOOKUP(B614:B2112,[1]创新型中小企业导出Excel!A$3:O$1946,15,FALSE)","v":"9144030008829425XJ"}]
[612,"深圳市蓝精灵通讯科技有限公司",{"$f":"VLOOKUP(B615:B2113,[1]创新型中小企业导出Excel!A$3:O$1946,15,FALSE)","v":"91440300MA5FYJ0077"}]
[613,"深圳市国晨光电科技有限公司",{"$f":"VLOOKUP(B616:B2114,[1]创新型中小企业导出Excel!A$3:O$1946,15,FALSE)","v":"91440300071102493D"}]
[614,"深圳市中创卓越科技有限公司",{"$f":"VLOOKUP(B617:B2115,[1]创新型中小企业导出Excel!A$3:O$1946,15,FALSE)","v":"91440300553877734Q"}]
[615,"深圳市中天和自动化设备有限公司",{"$f":"VLOOKUP(B618:B2116,[1]创新型中小企业导出Excel!A$3:O$1946,15,FALSE)","v":"91440300552146139F"}]
[616,"深圳市富思源科技有限公司",{"$f":"VLOOKUP(B619:B2117,[1]创新型中小企业导出Excel!A$3:O$1946,15,FALSE)","v":"91440300584088172B"}]
[617,"杰达实业（深圳）有限公司",{"$f":"VLOOKUP(B620:B2118,[1]创新型中小企业导出Excel!A$3:O$1946,15,FALSE)","v":"91440300MA5DPPJG4D"}]
[618,"深圳金源恒业科技有限公司",{"$f":"VLOOKUP(B621:B2119,[1]创新型中小企业导出Excel!A$3:O$1946,15,FALSE)","v":"91110111746741817T"}]
[619,"深圳市通达智科技有限公司",{"$f":"VLOOKUP(B622:B2120,[1]创新型中小企业导出Excel!A$3:O$1946,15,FALSE)","v":"914403006939818758"}]
[620,"深圳斯多福新材料科技有限公司",{"$f":"VLOOKUP(B623:B2121,[1]创新型中小企业导出Excel!A$3:O$1946,15,FALSE)","v":"91440300MA5DCAKU38"}]
[621,"深圳市玛雅通讯设备有限公司",{"$f":"VLOOKUP(B624:B2122,[1]创新型中小企业导出Excel!A$3:O$1946,15,FALSE)","v":"914403007925868542"}]
[622,"深圳市基运机电设备有限公司",{"$f":"VLOOKUP(B625:B2123,[1]创新型中小企业导出Excel!A$3:O$1946,15,FALSE)","v":"91440300767583416G"}]
[623,"恒洁智能卫浴（深圳）有限公司",{"$f":"VLOOKUP(B626:B2124,[1]创新型中小企业导出Excel!A$3:O$1946,15,FALSE)","v":"9144030072858263XU"}]
[624,"深圳市励骏光电有限公司",{"$f":"VLOOKUP(B627:B2125,[1]创新型中小企业导出Excel!A$3:O$1946,15,FALSE)","v":"9144030077559991XW"}]
[625,"深圳市海吉源科技有限公司",{"$f":"VLOOKUP(B628:B2126,[1]创新型中小企业导出Excel!A$3:O$1946,15,FALSE)","v":"91440300692513201A"}]
[626,"深圳达人高科电子有限公司",{"$f":"VLOOKUP(B629:B2127,[1]创新型中小企业导出Excel!A$3:O$1946,15,FALSE)","v":"91440300577666229K"}]
[627,"深圳沃新智创科技有限公司",{"$f":"VLOOKUP(B630:B2128,[1]创新型中小企业导出Excel!A$3:O$1946,15,FALSE)","v":"91440300MA5F61FHXD"}]
[628,"深圳市旭日东自动化设备工程有限公司",{"$f":"VLOOKUP(B631:B2129,[1]创新型中小企业导出Excel!A$3:O$1946,15,FALSE)","v":"91440300775598378Q"}]
[629,"深圳市无线道科技有限公司",{"$f":"VLOOKUP(B632:B2130,[1]创新型中小企业导出Excel!A$3:O$1946,15,FALSE)","v":"914403000539660287"}]
[630,"优尔材料工业（深圳）有限公司",{"$f":"VLOOKUP(B633:B2131,[1]创新型中小企业导出Excel!A$3:O$1946,15,FALSE)","v":"914403003415411712"}]
[631,"深圳光泰通信设备有限公司",{"$f":"VLOOKUP(B634:B2132,[1]创新型中小企业导出Excel!A$3:O$1946,15,FALSE)","v":"91440300053964516X"}]
[632,"希美实业（深圳）有限公司",{"$f":"VLOOKUP(B635:B2133,[1]创新型中小企业导出Excel!A$3:O$1946,15,FALSE)","v":"91440300359198527Q"}]
[633,"深圳市捷普瑞科技有限公司",{"$f":"VLOOKUP(B636:B2134,[1]创新型中小企业导出Excel!A$3:O$1946,15,FALSE)","v":"914403006641889583"}]
[634,"深圳市奥晏科技发展有限公司",{"$f":"VLOOKUP(B637:B2135,[1]创新型中小企业导出Excel!A$3:O$1946,15,FALSE)","v":"91440300682030767A"}]
[635,"深圳市金晓时代科技有限公司",{"$f":"VLOOKUP(B638:B2136,[1]创新型中小企业导出Excel!A$3:O$1946,15,FALSE)","v":"91440300064962129B"}]
[636,"深圳市彭氏宏电子有限公司",{"$f":"VLOOKUP(B639:B2137,[1]创新型中小企业导出Excel!A$3:O$1946,15,FALSE)","v":"914403006955817604"}]
[637,"深圳市互通创新科技有限公司",{"$f":"VLOOKUP(B640:B2138,[1]创新型中小企业导出Excel!A$3:O$1946,15,FALSE)","v":"91440300MA5F68KF47"}]
[638,"深圳市鑫亚泰机械设备有限公司",{"$f":"VLOOKUP(B641:B2139,[1]创新型中小企业导出Excel!A$3:O$1946,15,FALSE)","v":"9144030055213404XJ"}]
[639,"深圳市创通智能设备有限公司",{"$f":"VLOOKUP(B642:B2140,[1]创新型中小企业导出Excel!A$3:O$1946,15,FALSE)","v":"91440300764974032N"}]
[640,"深圳奥图美特技术有限公司",{"$f":"VLOOKUP(B643:B2141,[1]创新型中小企业导出Excel!A$3:O$1946,15,FALSE)","v":"91440300MA5F6R0E0Q"}]
[641,"深圳市腾智创展科技有限公司",{"$f":"VLOOKUP(B644:B2142,[1]创新型中小企业导出Excel!A$3:O$1946,15,FALSE)","v":"914403000504500424"}]
[642,"深圳市大工创新技术有限公司",{"$f":"VLOOKUP(B645:B2143,[1]创新型中小企业导出Excel!A$3:O$1946,15,FALSE)","v":"91440300MA5ENAQQX2"}]
[643,"深圳市诺峰光电设备有限公司",{"$f":"VLOOKUP(B646:B2144,[1]创新型中小企业导出Excel!A$3:O$1946,15,FALSE)","v":"914403000725145888"}]
[644,"深圳市健信工业有限公司",{"$f":"VLOOKUP(B647:B2145,[1]创新型中小企业导出Excel!A$3:O$1946,15,FALSE)","v":"91440300788304762Q"}]
[645,"深圳市锐特尔精密模具有限公司",{"$f":"VLOOKUP(B648:B2146,[1]创新型中小企业导出Excel!A$3:O$1946,15,FALSE)","v":"91440300788320279M"}]
[646,"深圳圆融达微电子技术有限公司",{"$f":"VLOOKUP(B649:B2147,[1]创新型中小企业导出Excel!A$3:O$1946,15,FALSE)","v":"91440300568543067J"}]
[647,"深圳市力为电气有限公司",{"$f":"VLOOKUP(B650:B2148,[1]创新型中小企业导出Excel!A$3:O$1946,15,FALSE)","v":"91440300MA5D8FU97L"}]
[648,"深圳芯佰特微电子有限公司",{"$f":"VLOOKUP(B651:B2149,[1]创新型中小企业导出Excel!A$3:O$1946,15,FALSE)","v":"91440300MA5FWW757W"}]
[649,"深圳市天鼎自动化科技有限公司",{"$f":"VLOOKUP(B652:B2150,[1]创新型中小企业导出Excel!A$3:O$1946,15,FALSE)","v":"914403000882846847"}]
[650,"深圳市永葆利光学有限公司",{"$f":"VLOOKUP(B653:B2151,[1]创新型中小企业导出Excel!A$3:O$1946,15,FALSE)","v":"91440300MA5FQW5Y9J"}]
[651,"深圳市美怡雅化妆用具有限公司",{"$f":"VLOOKUP(B654:B2152,[1]创新型中小企业导出Excel!A$3:O$1946,15,FALSE)","v":"91440300667056969H"}]
[652,"深圳市元特科技有限公司",{"$f":"VLOOKUP(B655:B2153,[1]创新型中小企业导出Excel!A$3:O$1946,15,FALSE)","v":"91440300562759537Y"}]
[653,"深圳市久大轻工机械有限公司",{"$f":"VLOOKUP(B656:B2154,[1]创新型中小企业导出Excel!A$3:O$1946,15,FALSE)","v":"91440300758637363K"}]
[654,"深圳市裕源欣电子科技有限公司",{"$f":"VLOOKUP(B657:B2155,[1]创新型中小企业导出Excel!A$3:O$1946,15,FALSE)","v":"91440300668500283A"}]
[655,"麒麟电子(深圳)有限公司",{"$f":"VLOOKUP(B658:B2156,[1]创新型中小企业导出Excel!A$3:O$1946,15,FALSE)","v":"91440300618902487G"}]
[656,"深圳市景立科技有限公司",{"$f":"VLOOKUP(B659:B2157,[1]创新型中小企业导出Excel!A$3:O$1946,15,FALSE)","v":"914403000743880018"}]
[657,"深圳市洋明达科技有限公司",{"$f":"VLOOKUP(B660:B2158,[1]创新型中小企业导出Excel!A$3:O$1946,15,FALSE)","v":"914403005907371677"}]
[658,"深圳市美泽电源技术有限公司",{"$f":"VLOOKUP(B661:B2159,[1]创新型中小企业导出Excel!A$3:O$1946,15,FALSE)","v":"91440300685372770D"}]
[659,"塑云科技（深圳）有限公司",{"$f":"VLOOKUP(B662:B2160,[1]创新型中小企业导出Excel!A$3:O$1946,15,FALSE)","v":"91440300MA5DHQ0W39"}]
[660,"深圳市金豪彩色印刷有限公司",{"$f":"VLOOKUP(B663:B2161,[1]创新型中小企业导出Excel!A$3:O$1946,15,FALSE)","v":"91440300589163354Q"}]
[661,"深圳市益善行科技有限公司",{"$f":"VLOOKUP(B664:B2162,[1]创新型中小企业导出Excel!A$3:O$1946,15,FALSE)","v":"914403006911579979"}]
[662,"深圳市巨领智能装备有限公司",{"$f":"VLOOKUP(B665:B2163,[1]创新型中小企业导出Excel!A$3:O$1946,15,FALSE)","v":"91440300MA5D8FB539"}]
[663,"深圳市安达信通讯设备有限公司",{"$f":"VLOOKUP(B666:B2164,[1]创新型中小企业导出Excel!A$3:O$1946,15,FALSE)","v":"91440300678599408M"}]
[664,"深圳市迪科贝科技有限公司",{"$f":"VLOOKUP(B667:B2165,[1]创新型中小企业导出Excel!A$3:O$1946,15,FALSE)","v":"9144030067484113X7"}]
[665,"深圳耀东安全科技有限公司",{"$f":"VLOOKUP(B668:B2166,[1]创新型中小企业导出Excel!A$3:O$1946,15,FALSE)","v":"91440300087908192G"}]
[666,"华开电建技术（深圳）有限公司",{"$f":"VLOOKUP(B669:B2167,[1]创新型中小企业导出Excel!A$3:O$1946,15,FALSE)","v":"91440300670024909C"}]
[667,"深圳市鑫中岩工业设备有限公司",{"$f":"VLOOKUP(B670:B2168,[1]创新型中小企业导出Excel!A$3:O$1946,15,FALSE)","v":"91441900053745890J"}]
[668,"深圳市汇亿丰印刷科技有限公司",{"$f":"VLOOKUP(B671:B2169,[1]创新型中小企业导出Excel!A$3:O$1946,15,FALSE)","v":"91440300192464909D"}]
[669,"深圳市同创环保科技有限公司",{"$f":"VLOOKUP(B672:B2170,[1]创新型中小企业导出Excel!A$3:O$1946,15,FALSE)","v":"91440300359784147Y"}]
[670,"深圳爱多科传感技术有限公司",{"$f":"VLOOKUP(B673:B2171,[1]创新型中小企业导出Excel!A$3:O$1946,15,FALSE)","v":"91440300582724294K"}]
[671,"利华时尚服饰（深圳）有限公司",{"$f":"VLOOKUP(B674:B2172,[1]创新型中小企业导出Excel!A$3:O$1946,15,FALSE)","v":"91440300743239063M"}]
[672,"深圳市亿佳光电有限公司",{"$f":"VLOOKUP(B675:B2173,[1]创新型中小企业导出Excel!A$3:O$1946,15,FALSE)","v":"91440300770349540L"}]
[673,"深圳市优顺达电气有限公司",{"$f":"VLOOKUP(B676:B2174,[1]创新型中小企业导出Excel!A$3:O$1946,15,FALSE)","v":"91440300715289514W"}]
[674,"深圳市源铭科技有限公司",{"$f":"VLOOKUP(B677:B2175,[1]创新型中小企业导出Excel!A$3:O$1946,15,FALSE)","v":"914403003265747921"}]
[675,"深圳市海裕机电设备有限公司",{"$f":"VLOOKUP(B678:B2176,[1]创新型中小企业导出Excel!A$3:O$1946,15,FALSE)","v":"91440300342862874P"}]
[676,"深圳市云海麒麟计算机系统有限公司",{"$f":"VLOOKUP(B679:B2177,[1]创新型中小企业导出Excel!A$3:O$1946,15,FALSE)","v":"914403000812609628"}]
[677,"深圳市速应科技有限公司",{"$f":"VLOOKUP(B680:B2178,[1]创新型中小企业导出Excel!A$3:O$1946,15,FALSE)","v":"91440300MA5FEEN94B"}]
[678,"深圳市新昊青科技有限公司",{"$f":"VLOOKUP(B681:B2179,[1]创新型中小企业导出Excel!A$3:O$1946,15,FALSE)","v":"9144030056709508XT"}]
[679,"深圳市兴顺安科技有限公司",{"$f":"VLOOKUP(B682:B2180,[1]创新型中小企业导出Excel!A$3:O$1946,15,FALSE)","v":"914403005856307798"}]
[680,"深圳市翰锐光电有限公司",{"$f":"VLOOKUP(B683:B2181,[1]创新型中小企业导出Excel!A$3:O$1946,15,FALSE)","v":"91440300MA5FJM3967"}]
[681,"深圳市术天自动化设备有限公司",{"$f":"VLOOKUP(B684:B2182,[1]创新型中小企业导出Excel!A$3:O$1946,15,FALSE)","v":"914403003352070464"}]
[682,"深圳宇翊技术股份有限公司",{"$f":"VLOOKUP(B685:B2183,[1]创新型中小企业导出Excel!A$3:O$1946,15,FALSE)","v":"9144030069726083XE"}]
[683,"一浦莱斯精密技术（深圳）有限公司",{"$f":"VLOOKUP(B686:B2184,[1]创新型中小企业导出Excel!A$3:O$1946,15,FALSE)","v":"91440300746608813C"}]
[684,"深圳市宇华设备有限公司",{"$f":"VLOOKUP(B687:B2185,[1]创新型中小企业导出Excel!A$3:O$1946,15,FALSE)","v":"91440300MA5DND1L7A"}]
[685,"深圳市富恒通科技有限公司",{"$f":"VLOOKUP(B688:B2186,[1]创新型中小企业导出Excel!A$3:O$1946,15,FALSE)","v":"91440300769197746B"}]
[686,"深圳百步印社科技有限公司",{"$f":"VLOOKUP(B689:B2187,[1]创新型中小企业导出Excel!A$3:O$1946,15,FALSE)","v":"91440300MA5EDF4A8F"}]
[687,"深圳马士佳顺通电子有限公司",{"$f":"VLOOKUP(B690:B2188,[1]创新型中小企业导出Excel!A$3:O$1946,15,FALSE)","v":"91440300088335330P"}]
[688,"深圳市永鼎宏科技有限公司",{"$f":"VLOOKUP(B691:B2189,[1]创新型中小企业导出Excel!A$3:O$1946,15,FALSE)","v":"91440300555427366N"}]
[689,"深圳市风云电池有限公司",{"$f":"VLOOKUP(B692:B2190,[1]创新型中小企业导出Excel!A$3:O$1946,15,FALSE)","v":"914403005907196636"}]
[690,"深圳市图敏智能视频股份有限公司",{"$f":"VLOOKUP(B693:B2191,[1]创新型中小企业导出Excel!A$3:O$1946,15,FALSE)","v":"91440300732069150T"}]
[691,"深圳市丰润电子材料有限公司",{"$f":"VLOOKUP(B694:B2192,[1]创新型中小企业导出Excel!A$3:O$1946,15,FALSE)","v":"91440300MA5D80TU1J"}]
[692,"深圳市晟达真空钎焊技术有限公司",{"$f":"VLOOKUP(B695:B2193,[1]创新型中小企业导出Excel!A$3:O$1946,15,FALSE)","v":"91440300593022490A"}]
[693,"深圳市中鼎检测技术有限公司",{"$f":"VLOOKUP(B696:B2194,[1]创新型中小企业导出Excel!A$3:O$1946,15,FALSE)","v":"9144030072619705X1"}]
[694,"深圳琪乐科技有限公司",{"$f":"VLOOKUP(B697:B2195,[1]创新型中小企业导出Excel!A$3:O$1946,15,FALSE)","v":"914403003587525490"}]
[695,"深圳艾史比特电机有限公司",{"$f":"VLOOKUP(B698:B2196,[1]创新型中小企业导出Excel!A$3:O$1946,15,FALSE)","v":"914403006785506472"}]
[696,"深圳市华夏准测检测技术有限公司",{"$f":"VLOOKUP(B699:B2197,[1]创新型中小企业导出Excel!A$3:O$1946,15,FALSE)","v":"91440300349796136Y"}]
[697,"深圳市锐界科技有限公司",{"$f":"VLOOKUP(B700:B2198,[1]创新型中小企业导出Excel!A$3:O$1946,15,FALSE)","v":"91440300MA5DN0JL6R"}]
[698,"深圳市新益技术有限公司",{"$f":"VLOOKUP(B701:B2199,[1]创新型中小企业导出Excel!A$3:O$1946,15,FALSE)","v":"91440300578803707Y"}]
[699,"深圳市鑫源凯达科技有限公司",{"$f":"VLOOKUP(B702:B2200,[1]创新型中小企业导出Excel!A$3:O$1946,15,FALSE)","v":"91440300058965673N"}]
[700,"深圳市环讯通科技有限公司",{"$f":"VLOOKUP(B703:B2201,[1]创新型中小企业导出Excel!A$3:O$1946,15,FALSE)","v":"914403006820418884"}]
[701,"深圳骏信环境科技有限公司",{"$f":"VLOOKUP(B704:B2202,[1]创新型中小企业导出Excel!A$3:O$1946,15,FALSE)","v":"91440300MA5FY24T3Q"}]
[702,"深圳市力特实业发展有限公司",{"$f":"VLOOKUP(B705:B2203,[1]创新型中小企业导出Excel!A$3:O$1946,15,FALSE)","v":"914403007320685961"}]
[703,"深圳市瑞尔时代科技有限公司",{"$f":"VLOOKUP(B706:B2204,[1]创新型中小企业导出Excel!A$3:O$1946,15,FALSE)","v":"91440300573129418U"}]
[704,"深圳市欧乐风科技有限公司",{"$f":"VLOOKUP(B707:B2205,[1]创新型中小企业导出Excel!A$3:O$1946,15,FALSE)","v":"91440300342509923H"}]
[705,"深圳奥睿哲信息技术有限公司",{"$f":"VLOOKUP(B708:B2206,[1]创新型中小企业导出Excel!A$3:O$1946,15,FALSE)","v":"91440300326583218F"}]
[706,"全球泊（深圳）技术有限责任公司",{"$f":"VLOOKUP(B709:B2207,[1]创新型中小企业导出Excel!A$3:O$1946,15,FALSE)","v":"91440300088388512K"}]
[707,"深圳市小龙电器有限公司",{"$f":"VLOOKUP(B710:B2208,[1]创新型中小企业导出Excel!A$3:O$1946,15,FALSE)","v":"91440300678593698Y"}]
[708,"深圳乐融软件技术有限公司",{"$f":"VLOOKUP(B711:B2209,[1]创新型中小企业导出Excel!A$3:O$1946,15,FALSE)","v":"91440300MA5DAC4L2P"}]
[709,"深圳市华胄科技有限公司",{"$f":"VLOOKUP(B712:B2210,[1]创新型中小企业导出Excel!A$3:O$1946,15,FALSE)","v":"91440300732069863W"}]
[710,"深圳普迈仕精密制造技术开发有限公司",{"$f":"VLOOKUP(B713:B2211,[1]创新型中小企业导出Excel!A$3:O$1946,15,FALSE)","v":"91440300599066267J"}]
[711,"深圳市鸿科绿能科技有限公司",{"$f":"VLOOKUP(B714:B2212,[1]创新型中小企业导出Excel!A$3:O$1946,15,FALSE)","v":"91440300MA5DHMKT5K"}]
[712,"深圳市兴华源实业有限公司",{"$f":"VLOOKUP(B715:B2213,[1]创新型中小企业导出Excel!A$3:O$1946,15,FALSE)","v":"914403007542930657"}]
[713,"深圳市广百思科技有限公司",{"$f":"VLOOKUP(B716:B2214,[1]创新型中小企业导出Excel!A$3:O$1946,15,FALSE)","v":"91440300671877153Q"}]
[714,"深圳市神武传感器有限公司",{"$f":"VLOOKUP(B717:B2215,[1]创新型中小企业导出Excel!A$3:O$1946,15,FALSE)","v":"91440300078011105J"}]
[715,"蒙奇数字技术（深圳）有限公司",{"$f":"VLOOKUP(B718:B2216,[1]创新型中小企业导出Excel!A$3:O$1946,15,FALSE)","v":"91440300MA5FXJD98M"}]
[716,"深圳市奇泓福科技有限公司",{"$f":"VLOOKUP(B719:B2217,[1]创新型中小企业导出Excel!A$3:O$1946,15,FALSE)","v":"91440300083884066R"}]
[717,"深圳市国王科技有限公司",{"$f":"VLOOKUP(B720:B2218,[1]创新型中小企业导出Excel!A$3:O$1946,15,FALSE)","v":"91440300771635717U"}]
[718,"深圳市新泰盈电子材料有限公司",{"$f":"VLOOKUP(B721:B2219,[1]创新型中小企业导出Excel!A$3:O$1946,15,FALSE)","v":"91440300MA5EG8R775"}]
[719,"深圳市盛康泰有机硅材料有限公司",{"$f":"VLOOKUP(B722:B2220,[1]创新型中小企业导出Excel!A$3:O$1946,15,FALSE)","v":"91440300559882614R"}]
[720,"深圳市欣睿达环保工程有限公司",{"$f":"VLOOKUP(B723:B2221,[1]创新型中小企业导出Excel!A$3:O$1946,15,FALSE)","v":"91440300311835187C"}]
[721,"深圳市星迈科技有限公司",{"$f":"VLOOKUP(B724:B2222,[1]创新型中小企业导出Excel!A$3:O$1946,15,FALSE)","v":"91440300349880952H"}]
[722,"深圳市星启源机电有限公司",{"$f":"VLOOKUP(B725:B2223,[1]创新型中小企业导出Excel!A$3:O$1946,15,FALSE)","v":"91440300MA5G69TM2Q"}]
[723,"深圳市华澜环保科技有限公司",{"$f":"VLOOKUP(B726:B2224,[1]创新型中小企业导出Excel!A$3:O$1946,15,FALSE)","v":"914403003595825889"}]
[724,"深圳市立尔讯科技有限公司",{"$f":"VLOOKUP(B727:B2225,[1]创新型中小企业导出Excel!A$3:O$1946,15,FALSE)","v":"91440300561526424N"}]
[725,"深圳市鸿昊升电子有限公司",{"$f":"VLOOKUP(B728:B2226,[1]创新型中小企业导出Excel!A$3:O$1946,15,FALSE)","v":"91440300562771771H"}]
[726,"深圳市海创光通信技术有限公司",{"$f":"VLOOKUP(B729:B2227,[1]创新型中小企业导出Excel!A$3:O$1946,15,FALSE)","v":"914403000769368688"}]
[727,"深圳市西格派科技有限公司",{"$f":"VLOOKUP(B730:B2228,[1]创新型中小企业导出Excel!A$3:O$1946,15,FALSE)","v":"91440300342516656Y"}]
[728,"索立得（深圳）智能科技有限公司",{"$f":"VLOOKUP(B731:B2229,[1]创新型中小企业导出Excel!A$3:O$1946,15,FALSE)","v":"91440300MA5F6BTB7R"}]
[729,"深圳市元诺智能系统有限公司",{"$f":"VLOOKUP(B732:B2230,[1]创新型中小企业导出Excel!A$3:O$1946,15,FALSE)","v":"91440300685374653D"}]
[730,"深圳市科凌制冷设备有限公司",{"$f":"VLOOKUP(B733:B2231,[1]创新型中小企业导出Excel!A$3:O$1946,15,FALSE)","v":"914403003352248748"}]
[731,"深圳鼎泰展览服务有限公司",{"$f":"VLOOKUP(B734:B2232,[1]创新型中小企业导出Excel!A$3:O$1946,15,FALSE)","v":"91440300574753095M"}]
[732,"深圳安盾海洋新材料有限公司",{"$f":"VLOOKUP(B735:B2233,[1]创新型中小企业导出Excel!A$3:O$1946,15,FALSE)","v":"91440300MA5EM5BM2M"}]
[733,"飞霸科技（深圳）有限公司",{"$f":"VLOOKUP(B736:B2234,[1]创新型中小企业导出Excel!A$3:O$1946,15,FALSE)","v":"91440300672959302K"}]
[734,"深圳市圆周检测技术有限公司",{"$f":"VLOOKUP(B737:B2235,[1]创新型中小企业导出Excel!A$3:O$1946,15,FALSE)","v":"91440300MA5EQ07D1N"}]
[735,"深圳市淐樾科技有限公司",{"$f":"VLOOKUP(B738:B2236,[1]创新型中小企业导出Excel!A$3:O$1946,15,FALSE)","v":"91440300342556690F"}]
[736,"深圳市博诺技术有限公司",{"$f":"VLOOKUP(B739:B2237,[1]创新型中小企业导出Excel!A$3:O$1946,15,FALSE)","v":"91440300MA5DN1GWX5"}]
[737,"深圳市鼎为通信有限公司",{"$f":"VLOOKUP(B740:B2238,[1]创新型中小企业导出Excel!A$3:O$1946,15,FALSE)","v":"91440300699074627R"}]
[738,"深圳市福浪电子有限公司",{"$f":"VLOOKUP(B741:B2239,[1]创新型中小企业导出Excel!A$3:O$1946,15,FALSE)","v":"914403007271472225"}]
[739,"深圳市鹏诚通电子有限公司",{"$f":"VLOOKUP(B742:B2240,[1]创新型中小企业导出Excel!A$3:O$1946,15,FALSE)","v":"9144030058563936XF"}]
[740,"深圳市明达电子有限公司",{"$f":"VLOOKUP(B743:B2241,[1]创新型中小企业导出Excel!A$3:O$1946,15,FALSE)","v":"91440300761986337T"}]
[741,"深圳市凯石精密模具有限公司",{"$f":"VLOOKUP(B744:B2242,[1]创新型中小企业导出Excel!A$3:O$1946,15,FALSE)","v":"91440300319786789H"}]
[742,"深圳市德天泰科技有限公司",{"$f":"VLOOKUP(B745:B2243,[1]创新型中小企业导出Excel!A$3:O$1946,15,FALSE)","v":"914403005598748768"}]
[743,"天时地理（深圳）智能科技有限公司",{"$f":"VLOOKUP(B746:B2244,[1]创新型中小企业导出Excel!A$3:O$1946,15,FALSE)","v":"91440300MA5G0P48XQ"}]
[744,"深圳市风采新材料科技有限公司",{"$f":"VLOOKUP(B747:B2245,[1]创新型中小企业导出Excel!A$3:O$1946,15,FALSE)","v":"914403007542570642"}]
[745,"深圳市锦城胶粘制品有限公司",{"$f":"VLOOKUP(B748:B2246,[1]创新型中小企业导出Excel!A$3:O$1946,15,FALSE)","v":"914403006785800376"}]
[746,"深圳市天天佑安防科技有限公司",{"$f":"VLOOKUP(B749:B2247,[1]创新型中小企业导出Excel!A$3:O$1946,15,FALSE)","v":"914403005627704618"}]
[747,"深圳市炬烜科技有限公司",{"$f":"VLOOKUP(B750:B2248,[1]创新型中小企业导出Excel!A$3:O$1946,15,FALSE)","v":"91440300326519515C"}]
[748,"深圳市塘鸿森电子有限公司",{"$f":"VLOOKUP(B751:B2249,[1]创新型中小企业导出Excel!A$3:O$1946,15,FALSE)","v":"91440300676668545X"}]
[749,"深圳市紫峰通讯有限公司",{"$f":"VLOOKUP(B752:B2250,[1]创新型中小企业导出Excel!A$3:O$1946,15,FALSE)","v":"91440300335308680H"}]
[750,"深圳市超晋达超声工程设备有限公司",{"$f":"VLOOKUP(B753:B2251,[1]创新型中小企业导出Excel!A$3:O$1946,15,FALSE)","v":"914403007152643252"}]
[751,"深圳市安邦信电子有限公司",{"$f":"VLOOKUP(B754:B2252,[1]创新型中小企业导出Excel!A$3:O$1946,15,FALSE)","v":"914403007084562572"}]
[752,"深圳市可为锡业有限公司",{"$f":"VLOOKUP(B755:B2253,[1]创新型中小企业导出Excel!A$3:O$1946,15,FALSE)","v":"91440300586709411T"}]
[753,"深圳市健云互联科技有限公司",{"$f":"VLOOKUP(B756:B2254,[1]创新型中小企业导出Excel!A$3:O$1946,15,FALSE)","v":"91440300319592001E"}]
[754,"深圳抛物线科技有限公司",{"$f":"VLOOKUP(B757:B2255,[1]创新型中小企业导出Excel!A$3:O$1946,15,FALSE)","v":"91440300342532517T"}]
[755,"深圳市瑞升华科技股份有限公司",{"$f":"VLOOKUP(B758:B2256,[1]创新型中小企业导出Excel!A$3:O$1946,15,FALSE)","v":"91440300789246517Q"}]
[756,"德科勒电子（深圳）有限公司",{"$f":"VLOOKUP(B759:B2257,[1]创新型中小企业导出Excel!A$3:O$1946,15,FALSE)","v":"914403000775118455"}]
[757,"深圳市三丰机电设备有限公司",{"$f":"VLOOKUP(B760:B2258,[1]创新型中小企业导出Excel!A$3:O$1946,15,FALSE)","v":"91440300752501676L"}]
[758,"深圳市智连众康科技有限公司",{"$f":"VLOOKUP(B761:B2259,[1]创新型中小企业导出Excel!A$3:O$1946,15,FALSE)","v":"914403003582734090"}]
[759,"深圳市愉尔医疗器械有限公司",{"$f":"VLOOKUP(B762:B2260,[1]创新型中小企业导出Excel!A$3:O$1946,15,FALSE)","v":"91440300MA5GD5WH8U"}]
[760,"深圳市华芯邦科技有限公司",{"$f":"VLOOKUP(B763:B2261,[1]创新型中小企业导出Excel!A$3:O$1946,15,FALSE)","v":"914403006820348216"}]
[761,"深圳索感科技有限公司",{"$f":"VLOOKUP(B764:B2262,[1]创新型中小企业导出Excel!A$3:O$1946,15,FALSE)","v":"9144030033513190XK"}]
[762,"深圳百通玄武技术有限公司",{"$f":"VLOOKUP(B765:B2263,[1]创新型中小企业导出Excel!A$3:O$1946,15,FALSE)","v":"91440300MA5FDP0L0N"}]
[763,"深圳市微能信息科技有限公司",{"$f":"VLOOKUP(B766:B2264,[1]创新型中小企业导出Excel!A$3:O$1946,15,FALSE)","v":"91440300MA5ENDTM4J"}]
[764,"深圳市蓝智电子有限公司",{"$f":"VLOOKUP(B767:B2265,[1]创新型中小企业导出Excel!A$3:O$1946,15,FALSE)","v":"91440300689444305H"}]
[765,"深圳市明图光电科技有限公司",{"$f":"VLOOKUP(B768:B2266,[1]创新型中小企业导出Excel!A$3:O$1946,15,FALSE)","v":"91440300MA5G1M2331"}]
[766,"深圳市卓瑞芯电子有限公司",{"$f":"VLOOKUP(B769:B2267,[1]创新型中小企业导出Excel!A$3:O$1946,15,FALSE)","v":"914403005627649265"}]
[767,"深圳市青云端信息科技有限公司",{"$f":"VLOOKUP(B770:B2268,[1]创新型中小企业导出Excel!A$3:O$1946,15,FALSE)","v":"914403000751567472"}]
[768,"深圳腾为视讯科技有限公司",{"$f":"VLOOKUP(B771:B2269,[1]创新型中小企业导出Excel!A$3:O$1946,15,FALSE)","v":"914403005840746358"}]
[769,"深圳市波斯曼技术有限公司",{"$f":"VLOOKUP(B772:B2270,[1]创新型中小企业导出Excel!A$3:O$1946,15,FALSE)","v":"914403006626536095"}]
[770,"深圳市卓朗微电子有限公司",{"$f":"VLOOKUP(B773:B2271,[1]创新型中小企业导出Excel!A$3:O$1946,15,FALSE)","v":"91440300574759040C"}]
[771,"深圳市恩孚电子科技有限公司",{"$f":"VLOOKUP(B774:B2272,[1]创新型中小企业导出Excel!A$3:O$1946,15,FALSE)","v":"91440300052796792F"}]
[772,"深圳市玄羽科技有限公司",{"$f":"VLOOKUP(B775:B2273,[1]创新型中小企业导出Excel!A$3:O$1946,15,FALSE)","v":"91440300MA5ECQJJ1T"}]
[773,"华序科技开发（深圳）有限公司",{"$f":"VLOOKUP(B776:B2274,[1]创新型中小企业导出Excel!A$3:O$1946,15,FALSE)","v":"91440300MA5EUWGW31"}]
[774,"深圳戴鑫信息技术有限公司",{"$f":"VLOOKUP(B777:B2275,[1]创新型中小企业导出Excel!A$3:O$1946,15,FALSE)","v":"91440300342845097U"}]
[775,"深圳市大合为智能装备有限公司",{"$f":"VLOOKUP(B778:B2276,[1]创新型中小企业导出Excel!A$3:O$1946,15,FALSE)","v":"914403007925848406"}]
[776,"深圳浩德瑞科技有限公司",{"$f":"VLOOKUP(B779:B2277,[1]创新型中小企业导出Excel!A$3:O$1946,15,FALSE)","v":"91440300674807126B"}]
[777,"深圳市思米电子有限公司",{"$f":"VLOOKUP(B780:B2278,[1]创新型中小企业导出Excel!A$3:O$1946,15,FALSE)","v":"91440300073382660U"}]
[778,"深圳市万力克技术有限公司",{"$f":"VLOOKUP(B781:B2279,[1]创新型中小企业导出Excel!A$3:O$1946,15,FALSE)","v":"91440300MA5DBA9K6Q"}]
[779,"深圳市华创电机科技有限公司",{"$f":"VLOOKUP(B782:B2280,[1]创新型中小企业导出Excel!A$3:O$1946,15,FALSE)","v":"91440300MA5F16XH0G"}]
[780,"深圳市驰兴科技有限公司",{"$f":"VLOOKUP(B783:B2281,[1]创新型中小企业导出Excel!A$3:O$1946,15,FALSE)","v":"91440300558699586G"}]
[781,"深圳市铂盛科技有限公司",{"$f":"VLOOKUP(B784:B2282,[1]创新型中小企业导出Excel!A$3:O$1946,15,FALSE)","v":"9144030057000218XU"}]
[782,"深圳市智邻科技有限公司",{"$f":"VLOOKUP(B785:B2283,[1]创新型中小企业导出Excel!A$3:O$1946,15,FALSE)","v":"91440300MA5ERG4050"}]
[783,"深圳市麦普克斯机电设备有限公司",{"$f":"VLOOKUP(B786:B2284,[1]创新型中小企业导出Excel!A$3:O$1946,15,FALSE)","v":"914403007966286441"}]
[784,"深圳市世纪恒信网络科技有限公司",{"$f":"VLOOKUP(B787:B2285,[1]创新型中小企业导出Excel!A$3:O$1946,15,FALSE)","v":"91440300051528550N"}]
[785,"深圳市一航网络信息技术有限公司",{"$f":"VLOOKUP(B788:B2286,[1]创新型中小企业导出Excel!A$3:O$1946,15,FALSE)","v":"91440300326277536R"}]
[786,"深圳市新驰客科技有限公司",{"$f":"VLOOKUP(B789:B2287,[1]创新型中小企业导出Excel!A$3:O$1946,15,FALSE)","v":"9144030031170382XR"}]
[787,"深圳市奈尔森科技有限公司",{"$f":"VLOOKUP(B790:B2288,[1]创新型中小企业导出Excel!A$3:O$1946,15,FALSE)","v":"91440300MA5DKUY80T"}]
[788,"深圳市威标检测技术有限公司",{"$f":"VLOOKUP(B791:B2289,[1]创新型中小企业导出Excel!A$3:O$1946,15,FALSE)","v":"914403003119151442"}]
[789,"深圳市博联通信技术有限公司",{"$f":"VLOOKUP(B792:B2290,[1]创新型中小企业导出Excel!A$3:O$1946,15,FALSE)","v":"91440300MA5EGAXP8X"}]
[790,"深圳市天雄达科技有限公司",{"$f":"VLOOKUP(B793:B2291,[1]创新型中小企业导出Excel!A$3:O$1946,15,FALSE)","v":"91440300559856571N"}]
[791,"深圳市鑫科创精密机械有限公司",{"$f":"VLOOKUP(B794:B2292,[1]创新型中小企业导出Excel!A$3:O$1946,15,FALSE)","v":"91440300335414336B"}]
[792,"深圳市天鹰装备科技有限公司",{"$f":"VLOOKUP(B795:B2293,[1]创新型中小企业导出Excel!A$3:O$1946,15,FALSE)","v":"91440300088479916Q"}]
[793,"深圳市富能新能源科技有限公司",{"$f":"VLOOKUP(B796:B2294,[1]创新型中小企业导出Excel!A$3:O$1946,15,FALSE)","v":"91440300062748006L"}]
[794,"深圳市北河安全技术有限公司",{"$f":"VLOOKUP(B797:B2295,[1]创新型中小企业导出Excel!A$3:O$1946,15,FALSE)","v":"91440300MA5FTPCB2C"}]
[795,"深圳市德宝智能科技有限公司",{"$f":"VLOOKUP(B798:B2296,[1]创新型中小企业导出Excel!A$3:O$1946,15,FALSE)","v":"91440300584088754H"}]
[796,"深圳市汇鑫利电子科技有限公司",{"$f":"VLOOKUP(B799:B2297,[1]创新型中小企业导出Excel!A$3:O$1946,15,FALSE)","v":"914403000703869229"}]
[797,"深圳市天博检测技术有限公司",{"$f":"VLOOKUP(B800:B2298,[1]创新型中小企业导出Excel!A$3:O$1946,15,FALSE)","v":"91440300MA5EC3PG2G"}]
[798,"深圳市宏鹰达电子科技有限公司",{"$f":"VLOOKUP(B801:B2299,[1]创新型中小企业导出Excel!A$3:O$1946,15,FALSE)","v":"91440300795433554L"}]
[799,"深圳市友联普达科技有限公司",{"$f":"VLOOKUP(B802:B2300,[1]创新型中小企业导出Excel!A$3:O$1946,15,FALSE)","v":"9144030034248691XN"}]
[800,"深圳市路明交通器材有限公司",{"$f":"VLOOKUP(B803:B2301,[1]创新型中小企业导出Excel!A$3:O$1946,15,FALSE)","v":"9144030079259706X2"}]
[801,"深圳市旗云智能科技有限公司",{"$f":"VLOOKUP(B804:B2302,[1]创新型中小企业导出Excel!A$3:O$1946,15,FALSE)","v":"914403002794896232"}]
[802,"深圳中科欧泰华环保科技有限公司",{"$f":"VLOOKUP(B805:B2303,[1]创新型中小企业导出Excel!A$3:O$1946,15,FALSE)","v":"914403000877887413"}]
[803,"韦达控股（深圳）集团有限公司",{"$f":"VLOOKUP(B806:B2304,[1]创新型中小企业导出Excel!A$3:O$1946,15,FALSE)","v":"91440300358785711C"}]
[804,"深圳燕浩实业发展有限公司",{"$f":"VLOOKUP(B807:B2305,[1]创新型中小企业导出Excel!A$3:O$1946,15,FALSE)","v":"91440300769156346E"}]
[805,"西胜电器（深圳）有限公司",{"$f":"VLOOKUP(B808:B2306,[1]创新型中小企业导出Excel!A$3:O$1946,15,FALSE)","v":"91440300618905995D"}]
[806,"深圳市奥德兰科技有限公司",{"$f":"VLOOKUP(B809:B2307,[1]创新型中小企业导出Excel!A$3:O$1946,15,FALSE)","v":"91440300057866171J"}]
[807,"深圳市鑫邦辉五金制品有限公司",{"$f":"VLOOKUP(B810:B2308,[1]创新型中小企业导出Excel!A$3:O$1946,15,FALSE)","v":"91440300562793751D"}]
[808,"深圳顺络汽车电子有限公司",{"$f":"VLOOKUP(B811:B2309,[1]创新型中小企业导出Excel!A$3:O$1946,15,FALSE)","v":"91440300MA5FYQ3D1E"}]
[809,"深圳市博源电力有限公司",{"$f":"VLOOKUP(B812:B2310,[1]创新型中小企业导出Excel!A$3:O$1946,15,FALSE)","v":"91440300MA5DK6YW1T"}]
[810,"深圳开维信息技术股份有限公司",{"$f":"VLOOKUP(B813:B2311,[1]创新型中小企业导出Excel!A$3:O$1946,15,FALSE)","v":"91440300665881789K"}]
[811,"深圳市源佳鸿科技有限公司",{"$f":"VLOOKUP(B814:B2312,[1]创新型中小企业导出Excel!A$3:O$1946,15,FALSE)","v":"91440300334949152P"}]
[812,"深圳市研测科技有限公司",{"$f":"VLOOKUP(B815:B2313,[1]创新型中小企业导出Excel!A$3:O$1946,15,FALSE)","v":"9144030058672614XD"}]
[813,"深圳龙芯半导体科技有限公司",{"$f":"VLOOKUP(B816:B2314,[1]创新型中小企业导出Excel!A$3:O$1946,15,FALSE)","v":"91440300MA5FHL5CXX"}]
[814,"顺景园精密铸造（深圳）有限公司",{"$f":"VLOOKUP(B817:B2315,[1]创新型中小企业导出Excel!A$3:O$1946,15,FALSE)","v":"914403005627824381"}]
[815,"深圳市龙控信息技术有限公司",{"$f":"VLOOKUP(B818:B2316,[1]创新型中小企业导出Excel!A$3:O$1946,15,FALSE)","v":"91440300MA5DJEC49N"}]
[816,"深圳易速马网络科技有限公司",{"$f":"VLOOKUP(B819:B2317,[1]创新型中小企业导出Excel!A$3:O$1946,15,FALSE)","v":"9144030031183757XL"}]
[817,"长峰电子科技（深圳）有限公司",{"$f":"VLOOKUP(B820:B2318,[1]创新型中小企业导出Excel!A$3:O$1946,15,FALSE)","v":"91440300MA5DLFAJ2T"}]
[818,"深圳市麦微智能电子有限公司",{"$f":"VLOOKUP(B821:B2319,[1]创新型中小企业导出Excel!A$3:O$1946,15,FALSE)","v":"91440300MA5FXTGL29"}]
[819,"深圳市裕嘉达科技有限公司",{"$f":"VLOOKUP(B822:B2320,[1]创新型中小企业导出Excel!A$3:O$1946,15,FALSE)","v":"914403007755508098"}]
[820,"友联科技通讯电子（深圳）有限公司",{"$f":"VLOOKUP(B823:B2321,[1]创新型中小企业导出Excel!A$3:O$1946,15,FALSE)","v":"91440300MA5DN1KP80"}]
[821,"国科赛赋（深圳）新药研发科技有限公司",{"$f":"VLOOKUP(B824:B2322,[1]创新型中小企业导出Excel!A$3:O$1946,15,FALSE)","v":"91440300MA5FPYBT6X"}]
[822,"深圳市开源通信有限公司",{"$f":"VLOOKUP(B825:B2323,[1]创新型中小企业导出Excel!A$3:O$1946,15,FALSE)","v":"914403007716482193"}]
[823,"深圳市新南润电力科技有限公司",{"$f":"VLOOKUP(B826:B2324,[1]创新型中小企业导出Excel!A$3:O$1946,15,FALSE)","v":"91440300326303036W"}]
[824,"深圳市旭锦鹏程科技有限公司",{"$f":"VLOOKUP(B827:B2325,[1]创新型中小企业导出Excel!A$3:O$1946,15,FALSE)","v":"91440300306213316W"}]
[825,"深圳市淘晶驰电子有限公司",{"$f":"VLOOKUP(B828:B2326,[1]创新型中小企业导出Excel!A$3:O$1946,15,FALSE)","v":"91440300074375796B"}]
[826,"深圳市柯爱亚电子有限公司",{"$f":"VLOOKUP(B829:B2327,[1]创新型中小企业导出Excel!A$3:O$1946,15,FALSE)","v":"9144030071526136XT"}]
[827,"深圳市建装建设集团有限公司",{"$f":"VLOOKUP(B830:B2328,[1]创新型中小企业导出Excel!A$3:O$1946,15,FALSE)","v":"914403006955627547"}]
[828,"深圳卓锐思创科技有限公司",{"$f":"VLOOKUP(B831:B2329,[1]创新型中小企业导出Excel!A$3:O$1946,15,FALSE)","v":"91440300687566632G"}]
[829,"深圳市锦兴建设有限公司",{"$f":"VLOOKUP(B832:B2330,[1]创新型中小企业导出Excel!A$3:O$1946,15,FALSE)","v":"91440300MA5EKGQP1E"}]
[830,"明纳信息技术深圳有限公司",{"$f":"VLOOKUP(B833:B2331,[1]创新型中小企业导出Excel!A$3:O$1946,15,FALSE)","v":"91440300MA5DQWH21U"}]
[831,"深圳中科爱讯科技有限公司",{"$f":"VLOOKUP(B834:B2332,[1]创新型中小企业导出Excel!A$3:O$1946,15,FALSE)","v":"91440300065456041D"}]
[832,"深圳市智联云网科技有限公司",{"$f":"VLOOKUP(B835:B2333,[1]创新型中小企业导出Excel!A$3:O$1946,15,FALSE)","v":"91440300088396379D"}]
[833,"深圳市金霸科技有限公司",{"$f":"VLOOKUP(B836:B2334,[1]创新型中小企业导出Excel!A$3:O$1946,15,FALSE)","v":"91440300552146948T"}]
[834,"深圳迈鼎电子有限公司",{"$f":"VLOOKUP(B837:B2335,[1]创新型中小企业导出Excel!A$3:O$1946,15,FALSE)","v":"91440300689404581R"}]
[835,"深圳市中天碧姆科技有限公司",{"$f":"VLOOKUP(B838:B2336,[1]创新型中小企业导出Excel!A$3:O$1946,15,FALSE)","v":"91440300MA5GB5GH5Y"}]
[836,"深圳市东方旭升科技有限公司",{"$f":"VLOOKUP(B839:B2337,[1]创新型中小企业导出Excel!A$3:O$1946,15,FALSE)","v":"91440300305858331U"}]
[837,"深圳市鸿泰信智慧物流科技有限公司",{"$f":"VLOOKUP(B840:B2338,[1]创新型中小企业导出Excel!A$3:O$1946,15,FALSE)","v":"91440300770348505Q"}]
[838,"深圳市度信科技有限公司",{"$f":"VLOOKUP(B841:B2339,[1]创新型中小企业导出Excel!A$3:O$1946,15,FALSE)","v":"914403007904504195"}]
[839,"深圳市安星数字系统有限公司",{"$f":"VLOOKUP(B842:B2340,[1]创新型中小企业导出Excel!A$3:O$1946,15,FALSE)","v":"914403007663533445"}]
[840,"深圳市科潮达科技有限公司",{"$f":"VLOOKUP(B843:B2341,[1]创新型中小企业导出Excel!A$3:O$1946,15,FALSE)","v":"914403006748120054"}]
[841,"深圳市金彩虹精密制造股份有限公司",{"$f":"VLOOKUP(B844:B2342,[1]创新型中小企业导出Excel!A$3:O$1946,15,FALSE)","v":"91440300785282131T"}]
[842,"新李英玻璃工艺（深圳）有限公司",{"$f":"VLOOKUP(B845:B2343,[1]创新型中小企业导出Excel!A$3:O$1946,15,FALSE)","v":"91440300618911332N"}]
[843,"深圳市洁王精细化工科技有限公司",{"$f":"VLOOKUP(B846:B2344,[1]创新型中小企业导出Excel!A$3:O$1946,15,FALSE)","v":"91440300279419932T"}]
[844,"深圳云创友翼科技有限公司",{"$f":"VLOOKUP(B847:B2345,[1]创新型中小企业导出Excel!A$3:O$1946,15,FALSE)","v":"914403005977554726"}]
[845,"深圳理士电源发展有限公司",{"$f":"VLOOKUP(B848:B2346,[1]创新型中小企业导出Excel!A$3:O$1946,15,FALSE)","v":"91440300MA5GDBGY1T"}]
[846,"深圳天玛信息技术有限公司",{"$f":"VLOOKUP(B849:B2347,[1]创新型中小企业导出Excel!A$3:O$1946,15,FALSE)","v":"9144030034997983X9"}]
[847,"深圳市喜百汇电子科技有限公司",{"$f":"VLOOKUP(B850:B2348,[1]创新型中小企业导出Excel!A$3:O$1946,15,FALSE)","v":"914403007691672996"}]
[848,"深圳市金亿莱科技有限公司",{"$f":"VLOOKUP(B851:B2349,[1]创新型中小企业导出Excel!A$3:O$1946,15,FALSE)","v":"91440300MA5DCK2E5H"}]
[849,"深圳锐迪森光电有限公司",{"$f":"VLOOKUP(B852:B2350,[1]创新型中小企业导出Excel!A$3:O$1946,15,FALSE)","v":"91440300MA5DNDCM5K"}]
[850,"深圳市美思美科智能科技股份有限公司",{"$f":"VLOOKUP(B853:B2351,[1]创新型中小企业导出Excel!A$3:O$1946,15,FALSE)","v":"91440300692517261D"}]
[851,"深圳市联特通讯有限公司",{"$f":"VLOOKUP(B854:B2352,[1]创新型中小企业导出Excel!A$3:O$1946,15,FALSE)","v":"91440300305826436B"}]
[852,"深圳市讴旎科技有限公司",{"$f":"VLOOKUP(B855:B2353,[1]创新型中小企业导出Excel!A$3:O$1946,15,FALSE)","v":"91440300MA5DN3XCXW"}]
[853,"深圳市中承科技有限公司",{"$f":"VLOOKUP(B856:B2354,[1]创新型中小企业导出Excel!A$3:O$1946,15,FALSE)","v":"91440300MA5DCLMD7R"}]
[854,"深圳辰达半导体有限公司",{"$f":"VLOOKUP(B857:B2355,[1]创新型中小企业导出Excel!A$3:O$1946,15,FALSE)","v":"914403005627800881"}]
[855,"深圳市锐邦德精密部件有限公司",{"$f":"VLOOKUP(B858:B2356,[1]创新型中小企业导出Excel!A$3:O$1946,15,FALSE)","v":"9144030079661914XH"}]
[856,"深圳市凯思特医疗科技股份有限公司",{"$f":"VLOOKUP(B859:B2357,[1]创新型中小企业导出Excel!A$3:O$1946,15,FALSE)","v":"91440300734156901P"}]
[857,"深圳市明粤科技有限公司",{"$f":"VLOOKUP(B860:B2358,[1]创新型中小企业导出Excel!A$3:O$1946,15,FALSE)","v":"91440300699097634N"}]
[858,"深圳鼎识科技股份有限公司",{"$f":"VLOOKUP(B861:B2359,[1]创新型中小企业导出Excel!A$3:O$1946,15,FALSE)","v":"91440300771635725N"}]
[859,"深圳市海思科自动化技术有限公司",{"$f":"VLOOKUP(B862:B2360,[1]创新型中小企业导出Excel!A$3:O$1946,15,FALSE)","v":"9144030005895347XM"}]
[860,"深圳市品成金属制品有限公司",{"$f":"VLOOKUP(B863:B2361,[1]创新型中小企业导出Excel!A$3:O$1946,15,FALSE)","v":"91440300692537860U"}]
[861,"深圳市聚友缘电子科技有限公司",{"$f":"VLOOKUP(B864:B2362,[1]创新型中小企业导出Excel!A$3:O$1946,15,FALSE)","v":"9144030074889709XP"}]
[862,"深圳市华兴辉电子科技有限公司",{"$f":"VLOOKUP(B865:B2363,[1]创新型中小企业导出Excel!A$3:O$1946,15,FALSE)","v":"91440300672977332P"}]
[863,"深圳市象形科技有限公司",{"$f":"VLOOKUP(B866:B2364,[1]创新型中小企业导出Excel!A$3:O$1946,15,FALSE)","v":"91440300087019328Y"}]
[864,"深圳市明安伟业科技有限公司",{"$f":"VLOOKUP(B867:B2365,[1]创新型中小企业导出Excel!A$3:O$1946,15,FALSE)","v":"91440300088416245W"}]
[865,"深圳市晶沛电子有限公司",{"$f":"VLOOKUP(B868:B2366,[1]创新型中小企业导出Excel!A$3:O$1946,15,FALSE)","v":"91440300767574667K"}]
[866,"深圳市博旺高科技实业有限公司",{"$f":"VLOOKUP(B869:B2367,[1]创新型中小企业导出Excel!A$3:O$1946,15,FALSE)","v":"91440300MA5FAQDX8J"}]
[867,"深圳市傲川科技有限公司",{"$f":"VLOOKUP(B870:B2368,[1]创新型中小企业导出Excel!A$3:O$1946,15,FALSE)","v":"914403007649593770"}]
[868,"深圳骏通微集成电路设计有限公司",{"$f":"VLOOKUP(B871:B2369,[1]创新型中小企业导出Excel!A$3:O$1946,15,FALSE)","v":"91440300MA5DRD3G03"}]
[869,"深圳锦弘霖科技有限公司",{"$f":"VLOOKUP(B872:B2370,[1]创新型中小企业导出Excel!A$3:O$1946,15,FALSE)","v":"91440300087789808H"}]
[870,"深圳市韬略科技有限公司",{"$f":"VLOOKUP(B873:B2371,[1]创新型中小企业导出Excel!A$3:O$1946,15,FALSE)","v":"914403007979737144"}]
[871,"深圳市东视电子有限公司",{"$f":"VLOOKUP(B874:B2372,[1]创新型中小企业导出Excel!A$3:O$1946,15,FALSE)","v":"914403007917435046"}]
[872,"深圳市世显科技有限公司",{"$f":"VLOOKUP(B875:B2373,[1]创新型中小企业导出Excel!A$3:O$1946,15,FALSE)","v":"91440300MA5EFNPR3D"}]
[873,"深圳粤通新能源环保技术有限公司",{"$f":"VLOOKUP(B876:B2374,[1]创新型中小企业导出Excel!A$3:O$1946,15,FALSE)","v":"91440300585615632D"}]
[874,"博立码杰通讯（深圳）有限公司",{"$f":"VLOOKUP(B877:B2375,[1]创新型中小企业导出Excel!A$3:O$1946,15,FALSE)","v":"914403007247007748"}]
[875,"深圳市巨益科技开发有限公司",{"$f":"VLOOKUP(B878:B2376,[1]创新型中小企业导出Excel!A$3:O$1946,15,FALSE)","v":"91440300069282907W"}]
[876,"深圳市汇慧鑫科技有限公司",{"$f":"VLOOKUP(B879:B2377,[1]创新型中小企业导出Excel!A$3:O$1946,15,FALSE)","v":"91440300060297651J"}]
[877,"深圳市四海众联网络科技有限公司",{"$f":"VLOOKUP(B880:B2378,[1]创新型中小企业导出Excel!A$3:O$1946,15,FALSE)","v":"91440300693966958R"}]
[878,"深圳市卓航装饰工程有限公司",{"$f":"VLOOKUP(B881:B2379,[1]创新型中小企业导出Excel!A$3:O$1946,15,FALSE)","v":"91440300305940116Y"}]
[879,"广东可易亚半导体科技有限公司",{"$f":"VLOOKUP(B882:B2380,[1]创新型中小企业导出Excel!A$3:O$1946,15,FALSE)","v":"91440300MA5GFYBK9L"}]
[880,"深圳市一广建设工程有限公司",{"$f":"VLOOKUP(B883:B2381,[1]创新型中小企业导出Excel!A$3:O$1946,15,FALSE)","v":"91440300599084414G"}]
[881,"深圳言成复合线有限公司",{"$f":"VLOOKUP(B884:B2382,[1]创新型中小企业导出Excel!A$3:O$1946,15,FALSE)","v":"91440300550305722D"}]
[882,"深圳市凌鑫电子有限公司",{"$f":"VLOOKUP(B885:B2383,[1]创新型中小企业导出Excel!A$3:O$1946,15,FALSE)","v":"91440300792581121R"}]
[883,"深圳市富志科技有限公司",{"$f":"VLOOKUP(B886:B2384,[1]创新型中小企业导出Excel!A$3:O$1946,15,FALSE)","v":"9144030008344049XL"}]
[884,"深圳市比苛电池有限公司",{"$f":"VLOOKUP(B887:B2385,[1]创新型中小企业导出Excel!A$3:O$1946,15,FALSE)","v":"9144030078527617XT"}]
[885,"深圳市威视创电子有限公司",{"$f":"VLOOKUP(B888:B2386,[1]创新型中小企业导出Excel!A$3:O$1946,15,FALSE)","v":"9144030057635539XH"}]
[886,"深圳市新通物探工程有限公司",{"$f":"VLOOKUP(B889:B2387,[1]创新型中小企业导出Excel!A$3:O$1946,15,FALSE)","v":"91440300088357927C"}]
[887,"深圳市富嘉达超声波设备有限公司",{"$f":"VLOOKUP(B890:B2388,[1]创新型中小企业导出Excel!A$3:O$1946,15,FALSE)","v":"91440300699090037B"}]
[888,"深圳市慧智达信息技术有限公司",{"$f":"VLOOKUP(B891:B2389,[1]创新型中小企业导出Excel!A$3:O$1946,15,FALSE)","v":"9144030059301540XQ"}]
[889,"深圳市龙火科技有限公司",{"$f":"VLOOKUP(B892:B2390,[1]创新型中小企业导出Excel!A$3:O$1946,15,FALSE)","v":"914403000859686857"}]
[890,"深圳星火互娱数字科技有限公司",{"$f":"VLOOKUP(B893:B2391,[1]创新型中小企业导出Excel!A$3:O$1946,15,FALSE)","v":"91440300088652512Q"}]
[891,"深圳市福尔沃机电设备有限公司",{"$f":"VLOOKUP(B894:B2392,[1]创新型中小企业导出Excel!A$3:O$1946,15,FALSE)","v":"914403007691926034"}]
[892,"深圳市爱普泰科电子有限公司",{"$f":"VLOOKUP(B895:B2393,[1]创新型中小企业导出Excel!A$3:O$1946,15,FALSE)","v":"91440300692504495T"}]
[893,"深圳视觉龙智能传感器有限公司",{"$f":"VLOOKUP(B896:B2394,[1]创新型中小企业导出Excel!A$3:O$1946,15,FALSE)","v":"91440300319574516A"}]
[894,"深圳市兴佳祥电子有限公司",{"$f":"VLOOKUP(B897:B2395,[1]创新型中小企业导出Excel!A$3:O$1946,15,FALSE)","v":"9144030031204052X6"}]
[895,"深圳市斯灯达科技有限公司",{"$f":"VLOOKUP(B898:B2396,[1]创新型中小企业导出Excel!A$3:O$1946,15,FALSE)","v":"91440300MA5FNT6L4G"}]
[896,"深圳市泺诚科技有限公司",{"$f":"VLOOKUP(B899:B2397,[1]创新型中小企业导出Excel!A$3:O$1946,15,FALSE)","v":"91440300MA5EXPQR3N"}]
[897,"深圳市优比格科技有限公司",{"$f":"VLOOKUP(B900:B2398,[1]创新型中小企业导出Excel!A$3:O$1946,15,FALSE)","v":"91440300349805821U"}]
[898,"深圳市首骋新材料科技有限公司",{"$f":"VLOOKUP(B901:B2399,[1]创新型中小企业导出Excel!A$3:O$1946,15,FALSE)","v":"91440300094181817M"}]
[899,"天纺标（深圳）检测认证股份有限公司",{"$f":"VLOOKUP(B902:B2400,[1]创新型中小企业导出Excel!A$3:O$1946,15,FALSE)","v":"91440300MA5DNAPE42"}]
[900,"深圳市正达飞智能卡有限公司",{"$f":"VLOOKUP(B903:B2401,[1]创新型中小企业导出Excel!A$3:O$1946,15,FALSE)","v":"91440300732078807K"}]
[901,"深圳市泰道精密机电有限公司",{"$f":"VLOOKUP(B904:B2402,[1]创新型中小企业导出Excel!A$3:O$1946,15,FALSE)","v":"914403003264230460"}]
[902,"深圳市瀚业智能科技有限公司",{"$f":"VLOOKUP(B905:B2403,[1]创新型中小企业导出Excel!A$3:O$1946,15,FALSE)","v":"91440300MA5F6WEK29"}]
[903,"深圳市比斯坦科技有限公司",{"$f":"VLOOKUP(B906:B2404,[1]创新型中小企业导出Excel!A$3:O$1946,15,FALSE)","v":"914403006803652133"}]
[904,"深圳市泰坦士科技有限公司",{"$f":"VLOOKUP(B907:B2405,[1]创新型中小企业导出Excel!A$3:O$1946,15,FALSE)","v":"914403000685882186"}]
[905,"深圳市大恒物联技术有限公司",{"$f":"VLOOKUP(B908:B2406,[1]创新型中小企业导出Excel!A$3:O$1946,15,FALSE)","v":"91440300MA5FY4RH7H"}]
[906,"深圳灵蜂智能科技有限公司",{"$f":"VLOOKUP(B909:B2407,[1]创新型中小企业导出Excel!A$3:O$1946,15,FALSE)","v":"91440300MA5F8PWK9R"}]
[907,"深圳市康帕斯科技发展有限公司",{"$f":"VLOOKUP(B910:B2408,[1]创新型中小企业导出Excel!A$3:O$1946,15,FALSE)","v":"91440300708430241K"}]
[908,"深圳市创佳声学科技有限公司",{"$f":"VLOOKUP(B911:B2409,[1]创新型中小企业导出Excel!A$3:O$1946,15,FALSE)","v":"91440300053968517X"}]
[909,"深圳市优利麦克科技开发有限公司",{"$f":"VLOOKUP(B912:B2410,[1]创新型中小企业导出Excel!A$3:O$1946,15,FALSE)","v":"91440300078006752W"}]
[910,"深圳市德海威实业有限公司",{"$f":"VLOOKUP(B913:B2411,[1]创新型中小企业导出Excel!A$3:O$1946,15,FALSE)","v":"914403007504978964"}]
[911,"深圳市思坦德科技有限公司",{"$f":"VLOOKUP(B914:B2412,[1]创新型中小企业导出Excel!A$3:O$1946,15,FALSE)","v":"91440300061447834R"}]
[912,"深圳市智纬科技有限公司",{"$f":"VLOOKUP(B915:B2413,[1]创新型中小企业导出Excel!A$3:O$1946,15,FALSE)","v":"91440300586714376E"}]
[913,"深圳市中机华锦科技有限公司",{"$f":"VLOOKUP(B916:B2414,[1]创新型中小企业导出Excel!A$3:O$1946,15,FALSE)","v":"91440300063855364G"}]
[914,"深圳市深仪兆业科技有限公司",{"$f":"VLOOKUP(B917:B2415,[1]创新型中小企业导出Excel!A$3:O$1946,15,FALSE)","v":"91440300682020702W"}]
[915,"深圳市华安邦数字技术有限公司",{"$f":"VLOOKUP(B918:B2416,[1]创新型中小企业导出Excel!A$3:O$1946,15,FALSE)","v":"91440300693991862M"}]
[916,"深圳合思光电技术有限公司",{"$f":"VLOOKUP(B919:B2417,[1]创新型中小企业导出Excel!A$3:O$1946,15,FALSE)","v":"91440300MA5DRU170K"}]
[917,"深圳市巨壮精密智能科技有限公司",{"$f":"VLOOKUP(B920:B2418,[1]创新型中小企业导出Excel!A$3:O$1946,15,FALSE)","v":"91440300MA5FLAF743"}]
[918,"深圳艾萨科技有限公司",{"$f":"VLOOKUP(B921:B2419,[1]创新型中小企业导出Excel!A$3:O$1946,15,FALSE)","v":"91440300087008469W"}]
[919,"深圳市东信硅材料有限公司",{"$f":"VLOOKUP(B922:B2420,[1]创新型中小企业导出Excel!A$3:O$1946,15,FALSE)","v":"914403005554323253"}]
[920,"深圳市高士达科技有限公司",{"$f":"VLOOKUP(B923:B2421,[1]创新型中小企业导出Excel!A$3:O$1946,15,FALSE)","v":"91440300065472420H"}]
[921,"森隆流体科技（深圳）有限公司",{"$f":"VLOOKUP(B924:B2422,[1]创新型中小企业导出Excel!A$3:O$1946,15,FALSE)","v":"91440300MA5DK6847P"}]
[922,"食安慧（深圳）科技股份有限公司",{"$f":"VLOOKUP(B925:B2423,[1]创新型中小企业导出Excel!A$3:O$1946,15,FALSE)","v":"914403003587491393"}]
[923,"深圳市锦华兴五金制品有限公司",{"$f":"VLOOKUP(B926:B2424,[1]创新型中小企业导出Excel!A$3:O$1946,15,FALSE)","v":"91440300788335868F"}]
[924,"深圳市宝视达光电有限公司",{"$f":"VLOOKUP(B927:B2425,[1]创新型中小企业导出Excel!A$3:O$1946,15,FALSE)","v":"91440300792551723T"}]
[925,"深圳市慧友安电子技术有限公司",{"$f":"VLOOKUP(B928:B2426,[1]创新型中小企业导出Excel!A$3:O$1946,15,FALSE)","v":"91440300687598263M"}]
[926,"丰睿成科技（深圳）股份有限公司",{"$f":"VLOOKUP(B929:B2427,[1]创新型中小企业导出Excel!A$3:O$1946,15,FALSE)","v":"914403000879073684"}]
[927,"深圳市宸悦存储电子科技有限公司",{"$f":"VLOOKUP(B930:B2428,[1]创新型中小企业导出Excel!A$3:O$1946,15,FALSE)","v":"91440300MA5DR9H16Q"}]
[928,"深圳市佳合丰科技有限公司",{"$f":"VLOOKUP(B931:B2429,[1]创新型中小企业导出Excel!A$3:O$1946,15,FALSE)","v":"91440300692500806E"}]
[929,"锦汇兴（深圳）科技有限公司",{"$f":"VLOOKUP(B932:B2430,[1]创新型中小企业导出Excel!A$3:O$1946,15,FALSE)","v":"9144030034958677XF"}]
[930,"深圳富群新材料股份有限公司",{"$f":"VLOOKUP(B933:B2431,[1]创新型中小企业导出Excel!A$3:O$1946,15,FALSE)","v":"914403006718794903"}]
[931,"深圳波导智慧科技有限公司",{"$f":"VLOOKUP(B934:B2432,[1]创新型中小企业导出Excel!A$3:O$1946,15,FALSE)","v":"91440300MA5GBY3537"}]
[932,"深圳市华新达五金制品有限公司",{"$f":"VLOOKUP(B935:B2433,[1]创新型中小企业导出Excel!A$3:O$1946,15,FALSE)","v":"91440300750479225N"}]
[933,"同创依诺科技（深圳）有限公司",{"$f":"VLOOKUP(B936:B2434,[1]创新型中小企业导出Excel!A$3:O$1946,15,FALSE)","v":"91440300567076743M"}]
[934,"深圳市一泰检测有限公司",{"$f":"VLOOKUP(B937:B2435,[1]创新型中小企业导出Excel!A$3:O$1946,15,FALSE)","v":"9144030034957877X6"}]
[935,"平显智能装备（深圳）有限责任公司",{"$f":"VLOOKUP(B938:B2436,[1]创新型中小企业导出Excel!A$3:O$1946,15,FALSE)","v":"914403005586895806"}]
[936,"深圳市保益新能电气有限公司",{"$f":"VLOOKUP(B939:B2437,[1]创新型中小企业导出Excel!A$3:O$1946,15,FALSE)","v":"914403000725012423"}]
[937,"深圳市国匠数控科技有限公司",{"$f":"VLOOKUP(B940:B2438,[1]创新型中小企业导出Excel!A$3:O$1946,15,FALSE)","v":"91440300MA5EF0QT35"}]
[938,"深圳市聚强特种机电有限公司",{"$f":"VLOOKUP(B941:B2439,[1]创新型中小企业导出Excel!A$3:O$1946,15,FALSE)","v":"91440300306193714Q"}]
[939,"关衡信息技术有限公司",{"$f":"VLOOKUP(B942:B2440,[1]创新型中小企业导出Excel!A$3:O$1946,15,FALSE)","v":"91440300797996625P"}]
[940,"深圳市创想天诚数码科技有限公司",{"$f":"VLOOKUP(B943:B2441,[1]创新型中小企业导出Excel!A$3:O$1946,15,FALSE)","v":"91440300MA5DB2AP19"}]
[941,"深圳市邦贝尔电子有限公司",{"$f":"VLOOKUP(B944:B2442,[1]创新型中小企业导出Excel!A$3:O$1946,15,FALSE)","v":"91440300708429857J"}]
[942,"深圳市萝卜智造机器人有限公司",{"$f":"VLOOKUP(B945:B2443,[1]创新型中小企业导出Excel!A$3:O$1946,15,FALSE)","v":"91440300MA5DBXBT5H"}]
[943,"深圳瑞德创新科技有限公司",{"$f":"VLOOKUP(B946:B2444,[1]创新型中小企业导出Excel!A$3:O$1946,15,FALSE)","v":"91440300MA5DDBJJ5E"}]
[944,"深圳市友立联科技有限公司",{"$f":"VLOOKUP(B947:B2445,[1]创新型中小企业导出Excel!A$3:O$1946,15,FALSE)","v":"914403003193802286"}]
[945,"深圳市新晶路电子科技有限公司",{"$f":"VLOOKUP(B948:B2446,[1]创新型中小企业导出Excel!A$3:O$1946,15,FALSE)","v":"91440300062712628C"}]
[946,"深圳零匙科技有限公司",{"$f":"VLOOKUP(B949:B2447,[1]创新型中小企业导出Excel!A$3:O$1946,15,FALSE)","v":"91440300MA5EGN3R96"}]
[947,"深圳市欣横纵技术股份有限公司",{"$f":"VLOOKUP(B950:B2448,[1]创新型中小企业导出Excel!A$3:O$1946,15,FALSE)","v":"91440300750456656E"}]
[948,"深圳顺天环保实业有限公司",{"$f":"VLOOKUP(B951:B2449,[1]创新型中小企业导出Excel!A$3:O$1946,15,FALSE)","v":"91440300MA5F3TUW89"}]
[949,"深圳市清飞达能源科技有限公司",{"$f":"VLOOKUP(B952:B2450,[1]创新型中小企业导出Excel!A$3:O$1946,15,FALSE)","v":"91440300585617152H"}]
[950,"深圳安纳赫科技有限公司",{"$f":"VLOOKUP(B953:B2451,[1]创新型中小企业导出Excel!A$3:O$1946,15,FALSE)","v":"91440300695578043E"}]
[951,"深圳市诺实智能科技有限公司",{"$f":"VLOOKUP(B954:B2452,[1]创新型中小企业导出Excel!A$3:O$1946,15,FALSE)","v":"91440300MA5FL8NH1D"}]
[952,"深圳市道和实业有限公司",{"$f":"VLOOKUP(B955:B2453,[1]创新型中小企业导出Excel!A$3:O$1946,15,FALSE)","v":"914403007675531533"}]
[953,"深圳市兴研科技有限公司",{"$f":"VLOOKUP(B956:B2454,[1]创新型中小企业导出Excel!A$3:O$1946,15,FALSE)","v":"91440300081858577K"}]
[954,"深圳市科创捷自动化精密设备有限公司",{"$f":"VLOOKUP(B957:B2455,[1]创新型中小企业导出Excel!A$3:O$1946,15,FALSE)","v":"914403003119695211"}]
[955,"深圳市易智博网络科技有限公司",{"$f":"VLOOKUP(B958:B2456,[1]创新型中小企业导出Excel!A$3:O$1946,15,FALSE)","v":"914403005788277925"}]
[956,"深圳比斯特自动化设备有限公司",{"$f":"VLOOKUP(B959:B2457,[1]创新型中小企业导出Excel!A$3:O$1946,15,FALSE)","v":"9144030055387850XY"}]
[957,"润木机器人（深圳）有限公司",{"$f":"VLOOKUP(B960:B2458,[1]创新型中小企业导出Excel!A$3:O$1946,15,FALSE)","v":"91440300MA5F59P00H"}]
[958,"深圳市优洋科技有限公司",{"$f":"VLOOKUP(B961:B2459,[1]创新型中小企业导出Excel!A$3:O$1946,15,FALSE)","v":"91440300590709019R"}]
[959,"深圳澳华电气股份有限公司",{"$f":"VLOOKUP(B962:B2460,[1]创新型中小企业导出Excel!A$3:O$1946,15,FALSE)","v":"91440300552121476P"}]
[960,"深圳市利霖欣科技有限公司",{"$f":"VLOOKUP(B963:B2461,[1]创新型中小企业导出Excel!A$3:O$1946,15,FALSE)","v":"9144030068038502XQ"}]
[961,"深圳市豪力士智能科技有限公司",{"$f":"VLOOKUP(B964:B2462,[1]创新型中小企业导出Excel!A$3:O$1946,15,FALSE)","v":"91440300066326724Q"}]
[962,"深圳成光兴光电技术股份有限公司",{"$f":"VLOOKUP(B965:B2463,[1]创新型中小企业导出Excel!A$3:O$1946,15,FALSE)","v":"91440300729889959H"}]
[963,"深圳市诺飞科技开发有限公司",{"$f":"VLOOKUP(B966:B2464,[1]创新型中小企业导出Excel!A$3:O$1946,15,FALSE)","v":"9144030005788971XA"}]
[964,"深圳市豪林精密机械有限公司",{"$f":"VLOOKUP(B967:B2465,[1]创新型中小企业导出Excel!A$3:O$1946,15,FALSE)","v":"91440300693958229Q"}]
[965,"深圳市伊雷德科技有限公司",{"$f":"VLOOKUP(B968:B2466,[1]创新型中小企业导出Excel!A$3:O$1946,15,FALSE)","v":"91440300565709113M"}]
[966,"中科力函（深圳）低温技术有限公司",{"$f":"VLOOKUP(B969:B2467,[1]创新型中小企业导出Excel!A$3:O$1946,15,FALSE)","v":"91440300306223338W"}]
[967,"深圳市雷迈科技有限公司",{"$f":"VLOOKUP(B970:B2468,[1]创新型中小企业导出Excel!A$3:O$1946,15,FALSE)","v":"91440300781350176J"}]
[968,"深圳市比洋互联科技有限公司",{"$f":"VLOOKUP(B971:B2469,[1]创新型中小企业导出Excel!A$3:O$1946,15,FALSE)","v":"91440300MA5F47D62Y"}]
[969,"深圳市一诺盛世科技有限公司",{"$f":"VLOOKUP(B972:B2470,[1]创新型中小企业导出Excel!A$3:O$1946,15,FALSE)","v":"91440300342952597W"}]
[970,"深圳友浩车联网股份有限公司",{"$f":"VLOOKUP(B973:B2471,[1]创新型中小企业导出Excel!A$3:O$1946,15,FALSE)","v":"91440300772726696K"}]
[971,"深圳精创视觉科技有限公司",{"$f":"VLOOKUP(B974:B2472,[1]创新型中小企业导出Excel!A$3:O$1946,15,FALSE)","v":"91440300MA5EKCPW11"}]
[972,"深圳市汇恩电子有限公司",{"$f":"VLOOKUP(B975:B2473,[1]创新型中小企业导出Excel!A$3:O$1946,15,FALSE)","v":"91440300799230471M"}]
[973,"深圳市弘毅佳科技有限公司",{"$f":"VLOOKUP(B976:B2474,[1]创新型中小企业导出Excel!A$3:O$1946,15,FALSE)","v":"91440300MA5FNDMD7R"}]
[974,"深圳市量子慧智科技有限公司",{"$f":"VLOOKUP(B977:B2475,[1]创新型中小企业导出Excel!A$3:O$1946,15,FALSE)","v":"91440300360064227B"}]
[975,"深圳市容微精密电子有限公司",{"$f":"VLOOKUP(B978:B2476,[1]创新型中小企业导出Excel!A$3:O$1946,15,FALSE)","v":"914403000515125830"}]
[976,"深圳市沃易科技有限公司",{"$f":"VLOOKUP(B979:B2477,[1]创新型中小企业导出Excel!A$3:O$1946,15,FALSE)","v":"91440300MA5DMLTJ5T"}]
[977,"深圳祺祥兴科技有限公司",{"$f":"VLOOKUP(B980:B2478,[1]创新型中小企业导出Excel!A$3:O$1946,15,FALSE)","v":"91440300093994576K"}]
[978,"深圳维盟网络技术有限公司",{"$f":"VLOOKUP(B981:B2479,[1]创新型中小企业导出Excel!A$3:O$1946,15,FALSE)","v":"91440300MA5ECXEU9A"}]
[979,"深圳市星科启创新科技有限公司",{"$f":"VLOOKUP(B982:B2480,[1]创新型中小企业导出Excel!A$3:O$1946,15,FALSE)","v":"914403003426250195"}]
[980,"深圳市国天电子股份有限公司",{"$f":"VLOOKUP(B983:B2481,[1]创新型中小企业导出Excel!A$3:O$1946,15,FALSE)","v":"914403007451650373"}]
[981,"深圳市万网博通科技有限公司",{"$f":"VLOOKUP(B984:B2482,[1]创新型中小企业导出Excel!A$3:O$1946,15,FALSE)","v":"914403005788357416"}]
[982,"深圳长久康联生物科技有限公司",{"$f":"VLOOKUP(B985:B2483,[1]创新型中小企业导出Excel!A$3:O$1946,15,FALSE)","v":"91440300MA5FHJX631"}]
[983,"深圳羽衡科技有限公司",{"$f":"VLOOKUP(B986:B2484,[1]创新型中小企业导出Excel!A$3:O$1946,15,FALSE)","v":"91440300342904528G"}]
[984,"深圳乐行智慧产业有限公司",{"$f":"VLOOKUP(B987:B2485,[1]创新型中小企业导出Excel!A$3:O$1946,15,FALSE)","v":"91440300MA5EF11938"}]
[985,"深圳市联特微电脑信息技术开发有限公司",{"$f":"VLOOKUP(B988:B2486,[1]创新型中小企业导出Excel!A$3:O$1946,15,FALSE)","v":"91440300715291534W"}]
[986,"深圳市东方鼎盛科技有限公司",{"$f":"VLOOKUP(B989:B2487,[1]创新型中小企业导出Excel!A$3:O$1946,15,FALSE)","v":"9144030059777813XR"}]
[987,"深圳市中科安全技术咨询有限公司",{"$f":"VLOOKUP(B990:B2488,[1]创新型中小企业导出Excel!A$3:O$1946,15,FALSE)","v":"91440300MA5DN11E7D"}]
[988,"极投（深圳）科技有限公司",{"$f":"VLOOKUP(B991:B2489,[1]创新型中小企业导出Excel!A$3:O$1946,15,FALSE)","v":"91440300MA5GB3LK6C"}]
[989,"深圳新源柔性科技有限公司",{"$f":"VLOOKUP(B992:B2490,[1]创新型中小企业导出Excel!A$3:O$1946,15,FALSE)","v":"91440300MA5EMFDQ5M"}]
[990,"深圳市易快来科技股份有限公司",{"$f":"VLOOKUP(B993:B2491,[1]创新型中小企业导出Excel!A$3:O$1946,15,FALSE)","v":"91440300596786090K"}]
[991,"深圳思特顺科技有限公司",{"$f":"VLOOKUP(B994:B2492,[1]创新型中小企业导出Excel!A$3:O$1946,15,FALSE)","v":"914403003496115840"}]
[992,"深圳市友亿成智能照明股份有限公司",{"$f":"VLOOKUP(B995:B2493,[1]创新型中小企业导出Excel!A$3:O$1946,15,FALSE)","v":"914403005503321810"}]
[993,"深圳市达富光通信有限公司",{"$f":"VLOOKUP(B996:B2494,[1]创新型中小企业导出Excel!A$3:O$1946,15,FALSE)","v":"91440300567088429B"}]
[994,"深圳市查策网络信息技术有限公司",{"$f":"VLOOKUP(B997:B2495,[1]创新型中小企业导出Excel!A$3:O$1946,15,FALSE)","v":"91440300MA5F0GKQ3Q"}]
[995,"深圳市力磁电子有限公司",{"$f":"VLOOKUP(B998:B2496,[1]创新型中小企业导出Excel!A$3:O$1946,15,FALSE)","v":"91440300715294620T"}]
[996,"深圳市瑞秋卡森环保科技有限公司",{"$f":"VLOOKUP(B999:B2497,[1]创新型中小企业导出Excel!A$3:O$1946,15,FALSE)","v":"91440300578814406R"}]
[997,"深圳市天浩洋环保股份有限公司",{"$f":"VLOOKUP(B1000:B2498,[1]创新型中小企业导出Excel!A$3:O$1946,15,FALSE)","v":"91440300279282593U"}]
[998,"深圳科装智能电子技术有限公司",{"$f":"VLOOKUP(B1001:B2499,[1]创新型中小企业导出Excel!A$3:O$1946,15,FALSE)","v":"91440300582740315N"}]
[999,"深圳市华天通科技有限公司",{"$f":"VLOOKUP(B1002:B2500,[1]创新型中小企业导出Excel!A$3:O$1946,15,FALSE)","v":"91440300783939574G"}]
[1000,"深圳市顺源科技有限公司",{"$f":"VLOOKUP(B1003:B2501,[1]创新型中小企业导出Excel!A$3:O$1946,15,FALSE)","v":"91440300743211810B"}]
[1001,"深圳市特高科技有限公司",{"$f":"VLOOKUP(B1004:B2502,[1]创新型中小企业导出Excel!A$3:O$1946,15,FALSE)","v":"91440300589171020H"}]
[1002,"深圳市和信自动化设备有限公司",{"$f":"VLOOKUP(B1005:B2503,[1]创新型中小企业导出Excel!A$3:O$1946,15,FALSE)","v":"91440300MA5EQE113K"}]
[1003,"深圳市博多电子有限公司",{"$f":"VLOOKUP(B1006:B2504,[1]创新型中小企业导出Excel!A$3:O$1946,15,FALSE)","v":"914403007084528463"}]
[1004,"深圳市领辉科技有限公司",{"$f":"VLOOKUP(B1007:B2505,[1]创新型中小企业导出Excel!A$3:O$1946,15,FALSE)","v":"91440300MA5DANK10B"}]
[1005,"深圳市安卓安科技有限公司",{"$f":"VLOOKUP(B1008:B2506,[1]创新型中小企业导出Excel!A$3:O$1946,15,FALSE)","v":"91440300070368628R"}]
[1006,"深圳市华芯控股有限公司",{"$f":"VLOOKUP(B1009:B2507,[1]创新型中小企业导出Excel!A$3:O$1946,15,FALSE)","v":"91440300MA5DE51L6F"}]
[1007,"深圳市史迪安电子科技有限公司",{"$f":"VLOOKUP(B1010:B2508,[1]创新型中小企业导出Excel!A$3:O$1946,15,FALSE)","v":"914403000838556871"}]
[1008,"深圳市华晟精密技术有限公司",{"$f":"VLOOKUP(B1011:B2509,[1]创新型中小企业导出Excel!A$3:O$1946,15,FALSE)","v":"914403003597013137"}]
[1009,"深圳易芽科技有限公司",{"$f":"VLOOKUP(B1012:B2510,[1]创新型中小企业导出Excel!A$3:O$1946,15,FALSE)","v":"91440300MA5FGWC00H"}]
[1010,"深圳市顺昌华电子材料有限公司",{"$f":"VLOOKUP(B1013:B2511,[1]创新型中小企业导出Excel!A$3:O$1946,15,FALSE)","v":"91440300674828349Q"}]
[1011,"深圳市蓝石环保科技有限公司",{"$f":"VLOOKUP(B1014:B2512,[1]创新型中小企业导出Excel!A$3:O$1946,15,FALSE)","v":"91440300MA5DLGT94R"}]
[1012,"深圳市通茂电子有限公司",{"$f":"VLOOKUP(B1015:B2513,[1]创新型中小企业导出Excel!A$3:O$1946,15,FALSE)","v":"91440300279295802X"}]
[1013,"深圳伊尚纳米科技有限公司",{"$f":"VLOOKUP(B1016:B2514,[1]创新型中小企业导出Excel!A$3:O$1946,15,FALSE)","v":"91440300MA5F4UN180"}]
[1014,"华瑞同康生物技术（深圳）有限公司",{"$f":"VLOOKUP(B1017:B2515,[1]创新型中小企业导出Excel!A$3:O$1946,15,FALSE)","v":"91440300741224394L"}]
[1015,"深圳市建设综合勘察设计院有限公司",{"$f":"VLOOKUP(B1018:B2516,[1]创新型中小企业导出Excel!A$3:O$1946,15,FALSE)","v":"914403001922031789"}]
[1016,"深圳灏鹏科技有限公司",{"$f":"VLOOKUP(B1019:B2517,[1]创新型中小企业导出Excel!A$3:O$1946,15,FALSE)","v":"91440300083422048N"}]
[1017,"深圳市中业智能系统控制有限公司",{"$f":"VLOOKUP(B1020:B2518,[1]创新型中小企业导出Excel!A$3:O$1946,15,FALSE)","v":"91440300349727050R"}]
[1018,"深圳市锦昊安科技有限公司",{"$f":"VLOOKUP(B1021:B2519,[1]创新型中小企业导出Excel!A$3:O$1946,15,FALSE)","v":"91440300799214973M"}]
[1019,"深圳市世宗自动化设备有限公司",{"$f":"VLOOKUP(B1022:B2520,[1]创新型中小企业导出Excel!A$3:O$1946,15,FALSE)","v":"91440300783948120Q"}]
[1020,"深圳市融智兴科技有限公司",{"$f":"VLOOKUP(B1023:B2521,[1]创新型中小企业导出Excel!A$3:O$1946,15,FALSE)","v":"91440300674802456B"}]
[1021,"清源生物（深圳）有限公司",{"$f":"VLOOKUP(B1024:B2522,[1]创新型中小企业导出Excel!A$3:O$1946,15,FALSE)","v":"91440300MA5FFC2QX0"}]
[1022,"深圳市智影医疗科技有限公司",{"$f":"VLOOKUP(B1025:B2523,[1]创新型中小企业导出Excel!A$3:O$1946,15,FALSE)","v":"91440300321645184P"}]
[1023,"深圳市欧盛自动化有限公司",{"$f":"VLOOKUP(B1026:B2524,[1]创新型中小企业导出Excel!A$3:O$1946,15,FALSE)","v":"91440300398569757K"}]
[1024,"深圳市金宇宙能源有限公司",{"$f":"VLOOKUP(B1027:B2525,[1]创新型中小企业导出Excel!A$3:O$1946,15,FALSE)","v":"914403003497621394"}]
[1025,"深圳市高猛科技有限公司",{"$f":"VLOOKUP(B1028:B2526,[1]创新型中小企业导出Excel!A$3:O$1946,15,FALSE)","v":"91440300MA5F1TM55N"}]
[1026,"深圳东南创通智能科技有限公司",{"$f":"VLOOKUP(B1029:B2527,[1]创新型中小企业导出Excel!A$3:O$1946,15,FALSE)","v":"91440300580063058R"}]
[1027,"华润生物医药有限公司",{"$f":"VLOOKUP(B1030:B2528,[1]创新型中小企业导出Excel!A$3:O$1946,15,FALSE)","v":"91440300MA5DPW7W8U"}]
[1028,"安兴精密（深圳）有限公司",{"$f":"VLOOKUP(B1031:B2529,[1]创新型中小企业导出Excel!A$3:O$1946,15,FALSE)","v":"91440300MA5ENYC38P"}]
[1029,"微见智能封装技术（深圳）有限公司",{"$f":"VLOOKUP(B1032:B2530,[1]创新型中小企业导出Excel!A$3:O$1946,15,FALSE)","v":"91440300MA5G0MAH35"}]
[1030,"深圳南科新材科技有限公司",{"$f":"VLOOKUP(B1033:B2531,[1]创新型中小企业导出Excel!A$3:O$1946,15,FALSE)","v":"91440300MA5D94P585"}]
[1031,"深圳市万瑞和电子有限公司",{"$f":"VLOOKUP(B1034:B2532,[1]创新型中小企业导出Excel!A$3:O$1946,15,FALSE)","v":"9144030073109598X9"}]
[1032,"深圳市数帝网络科技有限公司",{"$f":"VLOOKUP(B1035:B2533,[1]创新型中小企业导出Excel!A$3:O$1946,15,FALSE)","v":"91440300MA5DN8GX7L"}]
[1033,"深圳康源久远生物技术有限公司",{"$f":"VLOOKUP(B1036:B2534,[1]创新型中小企业导出Excel!A$3:O$1946,15,FALSE)","v":"91440300MA5F8H5Q4H"}]
[1034,"深圳光子晶体科技有限公司",{"$f":"VLOOKUP(B1037:B2535,[1]创新型中小企业导出Excel!A$3:O$1946,15,FALSE)","v":"91440300MA5EW4B8XT"}]
[1035,"深圳市精创宏科技有限公司",{"$f":"VLOOKUP(B1038:B2536,[1]创新型中小企业导出Excel!A$3:O$1946,15,FALSE)","v":"91440300667076863Q"}]
[1036,"深圳青澜生物技术有限公司",{"$f":"VLOOKUP(B1039:B2537,[1]创新型中小企业导出Excel!A$3:O$1946,15,FALSE)","v":"91440300MA5G9U2D0B"}]
[1037,"深圳作为科技有限公司",{"$f":"VLOOKUP(B1040:B2538,[1]创新型中小企业导出Excel!A$3:O$1946,15,FALSE)","v":"91440300MA5FKQ7UX5"}]
[1038,"深圳市思坦科技有限公司",{"$f":"VLOOKUP(B1041:B2539,[1]创新型中小企业导出Excel!A$3:O$1946,15,FALSE)","v":"91440300MA5FC0101W"}]
[1039,"深圳高性能医疗器械国家研究院有限公司",{"$f":"VLOOKUP(B1042:B2540,[1]创新型中小企业导出Excel!A$3:O$1946,15,FALSE)","v":"91440300MA5FU44501"}]
[1040,"深圳一目科技有限公司",{"$f":"VLOOKUP(B1043:B2541,[1]创新型中小企业导出Excel!A$3:O$1946,15,FALSE)","v":"91440300MA5DD81M7H"}]
[1041,"深圳市凯豪达氢能源有限公司",{"$f":"VLOOKUP(B1044:B2542,[1]创新型中小企业导出Excel!A$3:O$1946,15,FALSE)","v":"91440300335264083P"}]
[1042,"深圳市多翼创新科技有限公司",{"$f":"VLOOKUP(B1045:B2543,[1]创新型中小企业导出Excel!A$3:O$1946,15,FALSE)","v":"914403003265589878"}]
[1043,"深圳北芯生命科技股份有限公司",{"$f":"VLOOKUP(B1046:B2544,[1]创新型中小企业导出Excel!A$3:O$1946,15,FALSE)","v":"91440300359500431C"}]
[1044,"深圳市绘云生物科技有限公司",{"$f":"VLOOKUP(B1047:B2545,[1]创新型中小企业导出Excel!A$3:O$1946,15,FALSE)","v":"91440300MA5EMAH39Y"}]
[1045,"深圳市矩阵多元科技有限公司",{"$f":"VLOOKUP(B1048:B2546,[1]创新型中小企业导出Excel!A$3:O$1946,15,FALSE)","v":"91440300MA5DQAE49K"}]
[1046,"深圳市创新胜为科技有限公司",{"$f":"VLOOKUP(B1049:B2547,[1]创新型中小企业导出Excel!A$3:O$1946,15,FALSE)","v":"91440300MA5DDETNX0"}]
[1047,"深圳纬图鸿达实业有限公司",{"$f":"VLOOKUP(B1050:B2548,[1]创新型中小企业导出Excel!A$3:O$1946,15,FALSE)","v":"91440300349890659X"}]
[1048,"深圳公大激光有限公司",{"$f":"VLOOKUP(B1051:B2549,[1]创新型中小企业导出Excel!A$3:O$1946,15,FALSE)","v":"91440300MA5FYM7R0Q"}]
[1049,"深圳市智流形机器人技术有限公司",{"$f":"VLOOKUP(B1052:B2550,[1]创新型中小企业导出Excel!A$3:O$1946,15,FALSE)","v":"91440300MA5F54YB4W"}]
[1050,"深圳华源再生医学有限公司",{"$f":"VLOOKUP(B1053:B2551,[1]创新型中小企业导出Excel!A$3:O$1946,15,FALSE)","v":"91440300MA5F497C97"}]
[1051,"深圳锐盟半导体有限公司",{"$f":"VLOOKUP(B1054:B2552,[1]创新型中小企业导出Excel!A$3:O$1946,15,FALSE)","v":"91440300MA5GBT5YX0"}]
[1052,"深圳汇芯生物医疗科技有限公司",{"$f":"VLOOKUP(B1055:B2553,[1]创新型中小企业导出Excel!A$3:O$1946,15,FALSE)","v":"91440300MA5EK4PX8X"}]
[1053,"深圳市普尔瀚达科技有限公司",{"$f":"VLOOKUP(B1056:B2554,[1]创新型中小企业导出Excel!A$3:O$1946,15,FALSE)","v":"91440300590707988J"}]
[1054,"深圳市连用科技有限公司",{"$f":"VLOOKUP(B1057:B2555,[1]创新型中小企业导出Excel!A$3:O$1946,15,FALSE)","v":"914403006837803913"}]
[1055,"深圳锐沣科技有限公司",{"$f":"VLOOKUP(B1058:B2556,[1]创新型中小企业导出Excel!A$3:O$1946,15,FALSE)","v":"91440300MA5F8MPQ5P"}]
[1056,"深圳伊凡微电子有限公司",{"$f":"VLOOKUP(B1059:B2557,[1]创新型中小企业导出Excel!A$3:O$1946,15,FALSE)","v":"914403003118021077"}]
[1057,"深圳市绚图新材科技有限公司",{"$f":"VLOOKUP(B1060:B2558,[1]创新型中小企业导出Excel!A$3:O$1946,15,FALSE)","v":"91440300088569356M"}]
[1058,"深圳昂湃技术股份有限公司",{"$f":"VLOOKUP(B1061:B2559,[1]创新型中小企业导出Excel!A$3:O$1946,15,FALSE)","v":"914403005627719153"}]
[1059,"深圳市展鑫威科技有限公司",{"$f":"VLOOKUP(B1062:B2560,[1]创新型中小企业导出Excel!A$3:O$1946,15,FALSE)","v":"914403006990800236"}]
[1060,"广东省傲来科技有限公司",{"$f":"VLOOKUP(B1063:B2561,[1]创新型中小企业导出Excel!A$3:O$1946,15,FALSE)","v":"91440300MA5FF83P7K"}]
[1061,"深圳市歌华智能科技有限公司",{"$f":"VLOOKUP(B1064:B2562,[1]创新型中小企业导出Excel!A$3:O$1946,15,FALSE)","v":"9144030056852013X4"}]
[1062,"深圳市默赛尔生物医学科技发展有限公司",{"$f":"VLOOKUP(B1065:B2563,[1]创新型中小企业导出Excel!A$3:O$1946,15,FALSE)","v":"91440300094350932L"}]
[1063,"深圳市芯璨科技有限公司",{"$f":"VLOOKUP(B1066:B2564,[1]创新型中小企业导出Excel!A$3:O$1946,15,FALSE)","v":"91440300MA5GHJLW0X"}]
[1064,"深圳黑晶光电技术有限公司",{"$f":"VLOOKUP(B1067:B2565,[1]创新型中小企业导出Excel!A$3:O$1946,15,FALSE)","v":"91440300MA5FU6L2X1"}]
[1065,"深圳普太科技有限公司",{"$f":"VLOOKUP(B1068:B2566,[1]创新型中小企业导出Excel!A$3:O$1946,15,FALSE)","v":"91440300MA5FPNN99A"}]
[1066,"元心科技（深圳）有限公司",{"$f":"VLOOKUP(B1069:B2567,[1]创新型中小企业导出Excel!A$3:O$1946,15,FALSE)","v":"91440300MA5FMDTBXG"}]
[1067,"深圳大洲医学科技有限公司",{"$f":"VLOOKUP(B1070:B2568,[1]创新型中小企业导出Excel!A$3:O$1946,15,FALSE)","v":"91440300MA5FTJH08U"}]
[1068,"广东高格实业电子有限公司",{"$f":"VLOOKUP(B1071:B2569,[1]创新型中小企业导出Excel!A$3:O$1946,15,FALSE)","v":"91440300MA5GNBD099"}]
[1069,"深圳市富智玛特智能科技有限公司",{"$f":"VLOOKUP(B1072:B2570,[1]创新型中小企业导出Excel!A$3:O$1946,15,FALSE)","v":"91440300665883346X"}]
[1070,"深圳市华创盛世电子有限公司",{"$f":"VLOOKUP(B1073:B2571,[1]创新型中小企业导出Excel!A$3:O$1946,15,FALSE)","v":"91440300MA5DLEY072"}]
[1071,"深圳市晶垚微科技有限公司",{"$f":"VLOOKUP(B1074:B2572,[1]创新型中小企业导出Excel!A$3:O$1946,15,FALSE)","v":"91440300MA5HLXMA83"}]
[1072,"深圳市朝盛五金制品有限公司",{"$f":"VLOOKUP(B1075:B2573,[1]创新型中小企业导出Excel!A$3:O$1946,15,FALSE)","v":"91440300MA5DMC5J83"}]
[1073,"深圳市汇财电子科技有限公司",{"$f":"VLOOKUP(B1076:B2574,[1]创新型中小企业导出Excel!A$3:O$1946,15,FALSE)","v":"91440300MA5HNRX000"}]
[1074,"博联工业系统（深圳）有限公司",{"$f":"VLOOKUP(B1077:B2575,[1]创新型中小企业导出Excel!A$3:O$1946,15,FALSE)","v":"91440300MA5FNW7Y52"}]
[1075,"深圳市华耀管网科技有限公司",{"$f":"VLOOKUP(B1078:B2576,[1]创新型中小企业导出Excel!A$3:O$1946,15,FALSE)","v":"91440300MA5FEFA436"}]
[1076,"深圳市福贝斯科技有限公司",{"$f":"VLOOKUP(B1079:B2577,[1]创新型中小企业导出Excel!A$3:O$1946,15,FALSE)","v":"91440300360080948T"}]
[1077,"深圳市垲锐智能科技有限公司",{"$f":"VLOOKUP(B1080:B2578,[1]创新型中小企业导出Excel!A$3:O$1946,15,FALSE)","v":"914403006911860774"}]
[1078,"深圳市华艺鑫电子有限公司",{"$f":"VLOOKUP(B1081:B2579,[1]创新型中小企业导出Excel!A$3:O$1946,15,FALSE)","v":"91440300790452158K"}]
[1079,"晟太电子（深圳）有限公司",{"$f":"VLOOKUP(B1082:B2580,[1]创新型中小企业导出Excel!A$3:O$1946,15,FALSE)","v":"91440300MA5G6H982L"}]
[1080,"深圳市拉克丝光电有限公司",{"$f":"VLOOKUP(B1083:B2581,[1]创新型中小企业导出Excel!A$3:O$1946,15,FALSE)","v":"91440300MA5ETJLW4T"}]
[1081,"深圳市惠而科技有限公司",{"$f":"VLOOKUP(B1084:B2582,[1]创新型中小企业导出Excel!A$3:O$1946,15,FALSE)","v":"91440300MA5FLKK65W"}]
[1082,"深圳市东麒精工机械有限公司",{"$f":"VLOOKUP(B1085:B2583,[1]创新型中小企业导出Excel!A$3:O$1946,15,FALSE)","v":"91440300MA5G74GYXG"}]
[1083,"深圳市奥谛科技有限公司",{"$f":"VLOOKUP(B1086:B2584,[1]创新型中小企业导出Excel!A$3:O$1946,15,FALSE)","v":"9144030059569803XL"}]
[1084,"深圳佰利安环保科技有限公司",{"$f":"VLOOKUP(B1087:B2585,[1]创新型中小企业导出Excel!A$3:O$1946,15,FALSE)","v":"91440300MA5FENYEX5"}]
[1085,"深圳市菲尼瑞斯科技有限公司",{"$f":"VLOOKUP(B1088:B2586,[1]创新型中小企业导出Excel!A$3:O$1946,15,FALSE)","v":"91440300MA5DCLQX68"}]
[1086,"深圳市发道生物科技有限公司",{"$f":"VLOOKUP(B1089:B2587,[1]创新型中小企业导出Excel!A$3:O$1946,15,FALSE)","v":"9144030034971660XH"}]
[1087,"深圳市瑞吉信科技有限公司",{"$f":"VLOOKUP(B1090:B2588,[1]创新型中小企业导出Excel!A$3:O$1946,15,FALSE)","v":"91440300MAD0NQTT94"}]
[1088,"深圳市天美电器科技有限公司",{"$f":"VLOOKUP(B1091:B2589,[1]创新型中小企业导出Excel!A$3:O$1946,15,FALSE)","v":"91440300MA5G8M485X"}]
[1089,"深圳市新众达科技有限公司",{"$f":"VLOOKUP(B1092:B2590,[1]创新型中小企业导出Excel!A$3:O$1946,15,FALSE)","v":"91440300MA5GMKQC96"}]
[1090,"深圳市凯恒泰科技有限公司",{"$f":"VLOOKUP(B1093:B2591,[1]创新型中小企业导出Excel!A$3:O$1946,15,FALSE)","v":"914403003351035979"}]
[1091,"深圳市华旭机电能源有限公司",{"$f":"VLOOKUP(B1094:B2592,[1]创新型中小企业导出Excel!A$3:O$1946,15,FALSE)","v":"9144030075428269XP"}]
[1092,"深圳市商桦科技有限公司",{"$f":"VLOOKUP(B1095:B2593,[1]创新型中小企业导出Excel!A$3:O$1946,15,FALSE)","v":"91440300MA5HB0BX11"}]
[1093,"深圳市双磨机械科技有限公司",{"$f":"VLOOKUP(B1096:B2594,[1]创新型中小企业导出Excel!A$3:O$1946,15,FALSE)","v":"91440300MA5G2XM1XW"}]
[1094,"行疆知行（深圳）技术有限公司",{"$f":"VLOOKUP(B1097:B2595,[1]创新型中小企业导出Excel!A$3:O$1946,15,FALSE)","v":"91440300MACU2TJY5H"}]
[1095,"深圳市鑫盛智科技有限公司",{"$f":"VLOOKUP(B1098:B2596,[1]创新型中小企业导出Excel!A$3:O$1946,15,FALSE)","v":"91440300MA5GTJ4B6R"}]
[1096,"深圳瑞利图像技术有限公司",{"$f":"VLOOKUP(B1099:B2597,[1]创新型中小企业导出Excel!A$3:O$1946,15,FALSE)","v":"91440300MA5F7B4K7W"}]
[1097,"智感无限（深圳）科技有限公司",{"$f":"VLOOKUP(B1100:B2598,[1]创新型中小企业导出Excel!A$3:O$1946,15,FALSE)","v":"91440300MA5ECW722U"}]
[1098,"深圳市鑫润元机械设备有限公司",{"$f":"VLOOKUP(B1101:B2599,[1]创新型中小企业导出Excel!A$3:O$1946,15,FALSE)","v":"91440300595685669E"}]
[1099,"深圳市美力科电子有限公司",{"$f":"VLOOKUP(B1102:B2600,[1]创新型中小企业导出Excel!A$3:O$1946,15,FALSE)","v":"914403006875841527"}]
[1100,"深圳市微连互动科技有限公司",{"$f":"VLOOKUP(B1103:B2601,[1]创新型中小企业导出Excel!A$3:O$1946,15,FALSE)","v":"914403003600237248"}]
[1101,"深圳速锐得科技有限公司",{"$f":"VLOOKUP(B1104:B2602,[1]创新型中小企业导出Excel!A$3:O$1946,15,FALSE)","v":"91440300590747453J"}]
[1102,"深圳卓思迈光电科技有限公司",{"$f":"VLOOKUP(B1105:B2603,[1]创新型中小企业导出Excel!A$3:O$1946,15,FALSE)","v":"9144030005154928X9"}]
[1103,"深圳市懿盛佳科技有限公司",{"$f":"VLOOKUP(B1106:B2604,[1]创新型中小企业导出Excel!A$3:O$1946,15,FALSE)","v":"914403005571588767"}]
[1104,"深圳市迈加瑞生物技术有限公司",{"$f":"VLOOKUP(B1107:B2605,[1]创新型中小企业导出Excel!A$3:O$1946,15,FALSE)","v":"91440300MA5FJMYJ5N"}]
[1105,"深圳市零件盒电子技术有限公司",{"$f":"VLOOKUP(B1108:B2606,[1]创新型中小企业导出Excel!A$3:O$1946,15,FALSE)","v":"91440300MA5HG24F23"}]
[1106,"深圳市菲仕特科技有限公司",{"$f":"VLOOKUP(B1109:B2607,[1]创新型中小企业导出Excel!A$3:O$1946,15,FALSE)","v":"91440300051500363C"}]
[1107,"深圳海珹科技有限公司",{"$f":"VLOOKUP(B1110:B2608,[1]创新型中小企业导出Excel!A$3:O$1946,15,FALSE)","v":"91440300MA5GYA8D05"}]
[1108,"深圳市研想科技有限公司",{"$f":"VLOOKUP(B1111:B2609,[1]创新型中小企业导出Excel!A$3:O$1946,15,FALSE)","v":"9144030006869415X3"}]
[1109,"深圳市一站物流股份有限公司",{"$f":"VLOOKUP(B1112:B2610,[1]创新型中小企业导出Excel!A$3:O$1946,15,FALSE)","v":"91440300MA5F43974J"}]
[1110,"深圳市广塑新能源有限公司",{"$f":"VLOOKUP(B1113:B2611,[1]创新型中小企业导出Excel!A$3:O$1946,15,FALSE)","v":"91440300MA5HKLG77P"}]
[1111,"深圳市智霊荟萃科技发展有限公司",{"$f":"VLOOKUP(B1114:B2612,[1]创新型中小企业导出Excel!A$3:O$1946,15,FALSE)","v":"91440300MA5FLQGP15"}]
[1112,"广东金三维智造有限公司",{"$f":"VLOOKUP(B1115:B2613,[1]创新型中小企业导出Excel!A$3:O$1946,15,FALSE)","v":"91440300MA5H1L979T"}]
[1113,"深圳市睿澳达科技有限公司",{"$f":"VLOOKUP(B1116:B2614,[1]创新型中小企业导出Excel!A$3:O$1946,15,FALSE)","v":"91440300MA5EHCFJ56"}]
[1114,"深圳市瑞达翔科技有限公司",{"$f":"VLOOKUP(B1117:B2615,[1]创新型中小企业导出Excel!A$3:O$1946,15,FALSE)","v":"91440300MA5GJ4427G"}]
[1115,"深圳市米迈技术科技有限公司",{"$f":"VLOOKUP(B1118:B2616,[1]创新型中小企业导出Excel!A$3:O$1946,15,FALSE)","v":"91440300MA5H2GLC86"}]
[1116,"深圳市盛腾青科技有限公司",{"$f":"VLOOKUP(B1119:B2617,[1]创新型中小企业导出Excel!A$3:O$1946,15,FALSE)","v":"91440300MA5HJKHQ0A"}]
[1117,"深圳市三晋通科技有限公司",{"$f":"VLOOKUP(B1120:B2618,[1]创新型中小企业导出Excel!A$3:O$1946,15,FALSE)","v":"91440300MA5GGKU03H"}]
[1118,"深圳来财科技有限公司",{"$f":"VLOOKUP(B1121:B2619,[1]创新型中小企业导出Excel!A$3:O$1946,15,FALSE)","v":"91440300MA5HF440XX"}]
[1119,"深圳聚科中正科技有限公司",{"$f":"VLOOKUP(B1122:B2620,[1]创新型中小企业导出Excel!A$3:O$1946,15,FALSE)","v":"91440300MA5H9TAK70"}]
[1120,"深圳市商盾科技有限公司",{"$f":"VLOOKUP(B1123:B2621,[1]创新型中小企业导出Excel!A$3:O$1946,15,FALSE)","v":"91440300MA5GCNCB5L"}]
[1121,"深圳市芷诃科技有限公司",{"$f":"VLOOKUP(B1124:B2622,[1]创新型中小企业导出Excel!A$3:O$1946,15,FALSE)","v":"91440300MA5HM2867N"}]
[1122,"深圳市拓普星辉科技有限公司",{"$f":"VLOOKUP(B1125:B2623,[1]创新型中小企业导出Excel!A$3:O$1946,15,FALSE)","v":"91440300MA5H2Q7Q0R"}]
[1123,"深圳市筱焕科技有限公司",{"$f":"VLOOKUP(B1126:B2624,[1]创新型中小企业导出Excel!A$3:O$1946,15,FALSE)","v":"91440300MA5HG1QP1J"}]
[1124,"深圳市飞宇光纤股份有限公司",{"$f":"VLOOKUP(B1127:B2625,[1]创新型中小企业导出Excel!A$3:O$1946,15,FALSE)","v":"91440300MA5HWHN84H"}]
[1125,"深圳市奕汇科技有限公司",{"$f":"VLOOKUP(B1128:B2626,[1]创新型中小企业导出Excel!A$3:O$1946,15,FALSE)","v":"91440300MA5H9E4D0B"}]
[1126,"深圳市科微茂信息技术有限公司",{"$f":"VLOOKUP(B1129:B2627,[1]创新型中小企业导出Excel!A$3:O$1946,15,FALSE)","v":"91440300MA5G9C3950"}]
[1127,"深圳市橙忆宸科技有限公司",{"$f":"VLOOKUP(B1130:B2628,[1]创新型中小企业导出Excel!A$3:O$1946,15,FALSE)","v":"91440300MA5GKN9429"}]
[1128,"深圳市辰馨科技有限公司",{"$f":"VLOOKUP(B1131:B2629,[1]创新型中小企业导出Excel!A$3:O$1946,15,FALSE)","v":"91440300MA5GXKU300"}]
[1129,"深圳市祀禧应用技术有限公司",{"$f":"VLOOKUP(B1132:B2630,[1]创新型中小企业导出Excel!A$3:O$1946,15,FALSE)","v":"91440300MA5HBM837F"}]
[1130,"深圳市诠品科技有限公司",{"$f":"VLOOKUP(B1133:B2631,[1]创新型中小企业导出Excel!A$3:O$1946,15,FALSE)","v":"91440300MA5FEWD813"}]
[1131,"深圳市道辉实业有限公司",{"$f":"VLOOKUP(B1134:B2632,[1]创新型中小企业导出Excel!A$3:O$1946,15,FALSE)","v":"91440300MA5DL69U1A"}]
[1132,"深圳市皓点信息科技有限公司",{"$f":"VLOOKUP(B1135:B2633,[1]创新型中小企业导出Excel!A$3:O$1946,15,FALSE)","v":"91440300MA5F11E231"}]
[1133,"莱瑞仕（深圳）科技有限公司",{"$f":"VLOOKUP(B1136:B2634,[1]创新型中小企业导出Excel!A$3:O$1946,15,FALSE)","v":"91440300MA5DM0QP8D"}]
[1134,"深圳市新赛搏科技有限公司",{"$f":"VLOOKUP(B1137:B2635,[1]创新型中小企业导出Excel!A$3:O$1946,15,FALSE)","v":"91440300MA5HK5QQ2T"}]
[1135,"深圳市森美康科技有限公司",{"$f":"VLOOKUP(B1138:B2636,[1]创新型中小企业导出Excel!A$3:O$1946,15,FALSE)","v":"914403006939930751"}]
[1136,"深圳市深联市政工程材料有限公司",{"$f":"VLOOKUP(B1139:B2637,[1]创新型中小企业导出Excel!A$3:O$1946,15,FALSE)","v":"91440300MA5EK28R5W"}]
[1137,"深圳市兴亿华电子科技有限公司",{"$f":"VLOOKUP(B1140:B2638,[1]创新型中小企业导出Excel!A$3:O$1946,15,FALSE)","v":"91440300692523143N"}]
[1138,"深圳市信达通信科技有限公司",{"$f":"VLOOKUP(B1141:B2639,[1]创新型中小企业导出Excel!A$3:O$1946,15,FALSE)","v":"91440300MA5EL7WX6H"}]
[1139,"深圳市欣华天泰新能源有限公司",{"$f":"VLOOKUP(B1142:B2640,[1]创新型中小企业导出Excel!A$3:O$1946,15,FALSE)","v":"91440300MA5H3N2U9M"}]
[1140,"深圳市百佳汇科技有限公司",{"$f":"VLOOKUP(B1143:B2641,[1]创新型中小企业导出Excel!A$3:O$1946,15,FALSE)","v":"91440300MAE48KJN30"}]
[1141,"深圳市星恒铭科技有限公司",{"$f":"VLOOKUP(B1144:B2642,[1]创新型中小企业导出Excel!A$3:O$1946,15,FALSE)","v":"91440300MA5GJDTA6K"}]
[1142,"深圳市庆枫恒科技有限公司",{"$f":"VLOOKUP(B1145:B2643,[1]创新型中小企业导出Excel!A$3:O$1946,15,FALSE)","v":"91440300MA5HQ8BEXN"}]
[1143,"深圳中科智连电子有限公司",{"$f":"VLOOKUP(B1146:B2644,[1]创新型中小企业导出Excel!A$3:O$1946,15,FALSE)","v":"91440300MA5H2FP614"}]
[1144,"深圳市永航新材科技有限公司",{"$f":"VLOOKUP(B1147:B2645,[1]创新型中小企业导出Excel!A$3:O$1946,15,FALSE)","v":"91440300MA5FPGBN8T"}]
[1145,"深圳市舜德科技有限公司",{"$f":"VLOOKUP(B1148:B2646,[1]创新型中小企业导出Excel!A$3:O$1946,15,FALSE)","v":"914403006990666511"}]
[1146,"深圳市龙韵源科技有限公司",{"$f":"VLOOKUP(B1149:B2647,[1]创新型中小企业导出Excel!A$3:O$1946,15,FALSE)","v":"91440300MA5HFJUD2F"}]
[1147,"深圳市拓博瑞激光科技有限公司",{"$f":"VLOOKUP(B1150:B2648,[1]创新型中小企业导出Excel!A$3:O$1946,15,FALSE)","v":"91440300565724313C"}]
[1148,"深圳市利盛杰科技有限公司",{"$f":"VLOOKUP(B1151:B2649,[1]创新型中小企业导出Excel!A$3:O$1946,15,FALSE)","v":"91440300MA5HHC8408"}]
[1149,"深圳市易路视科技有限公司",{"$f":"VLOOKUP(B1152:B2650,[1]创新型中小企业导出Excel!A$3:O$1946,15,FALSE)","v":"914403003058461380"}]
[1150,"深圳市智彩丽科技有限公司",{"$f":"VLOOKUP(B1153:B2651,[1]创新型中小企业导出Excel!A$3:O$1946,15,FALSE)","v":"91440300MA5G482T45"}]
[1151,"深圳市妙彩科技有限公司",{"$f":"VLOOKUP(B1154:B2652,[1]创新型中小企业导出Excel!A$3:O$1946,15,FALSE)","v":"914403000942310956"}]
[1152,"深圳市瑞泰易生活科技有限公司",{"$f":"VLOOKUP(B1155:B2653,[1]创新型中小企业导出Excel!A$3:O$1946,15,FALSE)","v":"91440300MA5FH2HX6A"}]
[1153,"深圳市立盛电机有限公司",{"$f":"VLOOKUP(B1156:B2654,[1]创新型中小企业导出Excel!A$3:O$1946,15,FALSE)","v":"91440300MA5DE2FY3A"}]
[1154,"深圳市海域企业管理咨询有限公司",{"$f":"VLOOKUP(B1157:B2655,[1]创新型中小企业导出Excel!A$3:O$1946,15,FALSE)","v":"91440300MA5HN6WR8K"}]
[1155,"深圳市昊燃科技有限公司",{"$f":"VLOOKUP(B1158:B2656,[1]创新型中小企业导出Excel!A$3:O$1946,15,FALSE)","v":"91440300MA5HXAYEXP"}]
[1156,"深圳市英维克信息技术有限公司",{"$f":"VLOOKUP(B1159:B2657,[1]创新型中小企业导出Excel!A$3:O$1946,15,FALSE)","v":"91440300586705111W"}]
[1157,"深圳市利尔芯科技有限公司",{"$f":"VLOOKUP(B1160:B2658,[1]创新型中小企业导出Excel!A$3:O$1946,15,FALSE)","v":"91440300MA5GTY2E9H"}]
[1158,"深圳市星艾发科技有限公司",{"$f":"VLOOKUP(B1161:B2659,[1]创新型中小企业导出Excel!A$3:O$1946,15,FALSE)","v":"91440300MACNEM2J43"}]
[1159,"深圳市凌创高科数码有限公司",{"$f":"VLOOKUP(B1162:B2660,[1]创新型中小企业导出Excel!A$3:O$1946,15,FALSE)","v":"91440300MA5GCTXJ0R"}]
[1160,"深圳新驰智能物联科技有限公司",{"$f":"VLOOKUP(B1163:B2661,[1]创新型中小企业导出Excel!A$3:O$1946,15,FALSE)","v":"91440300MA5HL4UN6N"}]
[1161,"深圳市浪程科技有限公司",{"$f":"VLOOKUP(B1164:B2662,[1]创新型中小企业导出Excel!A$3:O$1946,15,FALSE)","v":"91440300MAD9CL431K"}]
[1162,"深圳艺腾文化传播有限公司",{"$f":"VLOOKUP(B1165:B2663,[1]创新型中小企业导出Excel!A$3:O$1946,15,FALSE)","v":"9144030008126770XW"}]
[1163,"易都科技（深圳）有限公司",{"$f":"VLOOKUP(B1166:B2664,[1]创新型中小企业导出Excel!A$3:O$1946,15,FALSE)","v":"91440300MA5EKDGR6W"}]
[1164,"深圳市衔金科技有限公司",{"$f":"VLOOKUP(B1167:B2665,[1]创新型中小企业导出Excel!A$3:O$1946,15,FALSE)","v":"91440300MA5GFU6B2L"}]
[1165,"深圳市鑫精创电子有限公司",{"$f":"VLOOKUP(B1168:B2666,[1]创新型中小企业导出Excel!A$3:O$1946,15,FALSE)","v":"914403006748314848"}]
[1166,"深圳市沃海科技有限公司",{"$f":"VLOOKUP(B1169:B2667,[1]创新型中小企业导出Excel!A$3:O$1946,15,FALSE)","v":"9144030006716005X6"}]
[1167,"深圳市通达源信息技术有限公司",{"$f":"VLOOKUP(B1170:B2668,[1]创新型中小企业导出Excel!A$3:O$1946,15,FALSE)","v":"91440300MA5HMHF706"}]
[1168,"深圳市尚屋科技有限公司",{"$f":"VLOOKUP(B1171:B2669,[1]创新型中小企业导出Excel!A$3:O$1946,15,FALSE)","v":"91440300MA5GQTT9X6"}]
[1169,"深圳中海润合信息科技有限公司",{"$f":"VLOOKUP(B1172:B2670,[1]创新型中小企业导出Excel!A$3:O$1946,15,FALSE)","v":"914403005856031051"}]
[1170,"深圳市泊特科技有限公司",{"$f":"VLOOKUP(B1173:B2671,[1]创新型中小企业导出Excel!A$3:O$1946,15,FALSE)","v":"91440300MA5FWG5E4T"}]
[1171,"品能电气（深圳）有限公司",{"$f":"VLOOKUP(B1174:B2672,[1]创新型中小企业导出Excel!A$3:O$1946,15,FALSE)","v":"91440300334925193J"}]
[1172,"深圳市万维通信科技有限公司",{"$f":"VLOOKUP(B1175:B2673,[1]创新型中小企业导出Excel!A$3:O$1946,15,FALSE)","v":"91440300MA5HF0N77A"}]
[1173,"深圳市立信铭科技有限公司",{"$f":"VLOOKUP(B1176:B2674,[1]创新型中小企业导出Excel!A$3:O$1946,15,FALSE)","v":"914403003195087625"}]
[1174,"深圳智泓慧通科技有限公司",{"$f":"VLOOKUP(B1177:B2675,[1]创新型中小企业导出Excel!A$3:O$1946,15,FALSE)","v":"91440300MA5HTLEA8Q"}]
[1175,"深圳市深运大科技有限公司",{"$f":"VLOOKUP(B1178:B2676,[1]创新型中小企业导出Excel!A$3:O$1946,15,FALSE)","v":"91440300068557067E"}]
[1176,"中健国科（深圳）科技有限公司",{"$f":"VLOOKUP(B1179:B2677,[1]创新型中小企业导出Excel!A$3:O$1946,15,FALSE)","v":"91440300MA5FD5T330"}]
[1177,"深圳市云烯科技有限公司",{"$f":"VLOOKUP(B1180:B2678,[1]创新型中小企业导出Excel!A$3:O$1946,15,FALSE)","v":"91440300MACRL6Q425"}]
[1178,"深圳市顺实实业有限公司",{"$f":"VLOOKUP(B1181:B2679,[1]创新型中小企业导出Excel!A$3:O$1946,15,FALSE)","v":"91440300MA5HPLUQ9W"}]
[1179,"深圳市中万丽科技有限公司",{"$f":"VLOOKUP(B1182:B2680,[1]创新型中小企业导出Excel!A$3:O$1946,15,FALSE)","v":"91440300MA5GXKQC94"}]
[1180,"深圳市民富泰工贸有限公司",{"$f":"VLOOKUP(B1183:B2681,[1]创新型中小企业导出Excel!A$3:O$1946,15,FALSE)","v":"91440300MA5GWJD856"}]
[1181,"深圳市沃尔姆斯科技有限公司",{"$f":"VLOOKUP(B1184:B2682,[1]创新型中小企业导出Excel!A$3:O$1946,15,FALSE)","v":"91440300342915817C"}]
[1182,"深圳市羽能科技有限公司",{"$f":"VLOOKUP(B1185:B2683,[1]创新型中小企业导出Excel!A$3:O$1946,15,FALSE)","v":"91440300MA5DK5G960"}]
[1183,"深圳市信森美科技有限公司",{"$f":"VLOOKUP(B1186:B2684,[1]创新型中小企业导出Excel!A$3:O$1946,15,FALSE)","v":"91440300MA5G16ED8J"}]
[1184,"深圳市信弘瑞科技有限公司",{"$f":"VLOOKUP(B1187:B2685,[1]创新型中小企业导出Excel!A$3:O$1946,15,FALSE)","v":"91440300088612270Q"}]
[1185,"深圳市壹成智能装备科技有限公司",{"$f":"VLOOKUP(B1188:B2686,[1]创新型中小企业导出Excel!A$3:O$1946,15,FALSE)","v":"91440300MA5GT00L0P"}]
[1186,"深圳世时佑科技有限公司",{"$f":"VLOOKUP(B1189:B2687,[1]创新型中小企业导出Excel!A$3:O$1946,15,FALSE)","v":"91440300MA5G44281C"}]
[1187,"深圳市图扬微科技有限公司",{"$f":"VLOOKUP(B1190:B2688,[1]创新型中小企业导出Excel!A$3:O$1946,15,FALSE)","v":"91440300MACNP3HE71"}]
[1188,"深圳市宇博资通科技有限公司",{"$f":"VLOOKUP(B1191:B2689,[1]创新型中小企业导出Excel!A$3:O$1946,15,FALSE)","v":"91440300359760671F"}]
[1189,"深圳博正计算机技术有限公司",{"$f":"VLOOKUP(B1192:B2690,[1]创新型中小企业导出Excel!A$3:O$1946,15,FALSE)","v":"91440300MA5HWA88XW"}]
[1190,"深圳市锦辉达通信科技有限公司",{"$f":"VLOOKUP(B1193:B2691,[1]创新型中小企业导出Excel!A$3:O$1946,15,FALSE)","v":"914403006875601932"}]
[1191,"宝路士新能源（深圳）有限公司",{"$f":"VLOOKUP(B1194:B2692,[1]创新型中小企业导出Excel!A$3:O$1946,15,FALSE)","v":"91440300MA5HK81C71"}]
[1192,"深圳市承锡科技有限公司",{"$f":"VLOOKUP(B1195:B2693,[1]创新型中小企业导出Excel!A$3:O$1946,15,FALSE)","v":"91440300MA5HFR7X1X"}]
[1193,"深圳市三力高科技有限公司",{"$f":"VLOOKUP(B1196:B2694,[1]创新型中小企业导出Excel!A$3:O$1946,15,FALSE)","v":"91440300667077719P"}]
[1194,"深圳市奔众科技有限公司",{"$f":"VLOOKUP(B1197:B2695,[1]创新型中小企业导出Excel!A$3:O$1946,15,FALSE)","v":"91440300MA5DRG3B8C"}]
[1195,"微星创科（深圳）科技有限公司",{"$f":"VLOOKUP(B1198:B2696,[1]创新型中小企业导出Excel!A$3:O$1946,15,FALSE)","v":"91440300MA5H7GL66G"}]
[1196,"深圳市瑞呈皓科技有限公司",{"$f":"VLOOKUP(B1199:B2697,[1]创新型中小企业导出Excel!A$3:O$1946,15,FALSE)","v":"91440300MA5HJ65E8N"}]
[1197,"深圳市凝心聚力技术服务有限公司",{"$f":"VLOOKUP(B1200:B2698,[1]创新型中小企业导出Excel!A$3:O$1946,15,FALSE)","v":"91440300MAD0JHH84D"}]
[1198,"深圳市因诺维新科技有限公司",{"$f":"VLOOKUP(B1201:B2699,[1]创新型中小企业导出Excel!A$3:O$1946,15,FALSE)","v":"91440300MAD1MC282P"}]
[1199,"深圳市程友科技有限公司",{"$f":"VLOOKUP(B1202:B2700,[1]创新型中小企业导出Excel!A$3:O$1946,15,FALSE)","v":"91440300MACXFQEP5Y"}]
[1200,"深圳市逸烽科技有限公司",{"$f":"VLOOKUP(B1203:B2701,[1]创新型中小企业导出Excel!A$3:O$1946,15,FALSE)","v":"91440300MA5DARBR72"}]
[1201,"深圳市瑾蕙电子科技有限公司",{"$f":"VLOOKUP(B1204:B2702,[1]创新型中小企业导出Excel!A$3:O$1946,15,FALSE)","v":"91440300MA5HRE066U"}]
[1202,"深圳市精实研能科技有限公司",{"$f":"VLOOKUP(B1205:B2703,[1]创新型中小企业导出Excel!A$3:O$1946,15,FALSE)","v":"91440300MA5FEFEN4J"}]
[1203,"深圳市本荣新能源科技有限公司",{"$f":"VLOOKUP(B1206:B2704,[1]创新型中小企业导出Excel!A$3:O$1946,15,FALSE)","v":"91440300MA5HG5LN41"}]
[1204,"深圳市福隆光电科技有限公司",{"$f":"VLOOKUP(B1207:B2705,[1]创新型中小企业导出Excel!A$3:O$1946,15,FALSE)","v":"91440300MA5H6R7E7B"}]
[1205,"深圳市裕晨电子有限公司",{"$f":"VLOOKUP(B1208:B2706,[1]创新型中小企业导出Excel!A$3:O$1946,15,FALSE)","v":"91440300MA5F0N31X2"}]
[1206,"深圳市得拓应用技术有限公司",{"$f":"VLOOKUP(B1209:B2707,[1]创新型中小企业导出Excel!A$3:O$1946,15,FALSE)","v":"91440300MA5G85PE10"}]
[1207,"深圳市酷啦科技有限公司",{"$f":"VLOOKUP(B1210:B2708,[1]创新型中小企业导出Excel!A$3:O$1946,15,FALSE)","v":"91440300MA5FFQD13W"}]
[1208,"深圳同皓聚辉光电科技有限公司",{"$f":"VLOOKUP(B1211:B2709,[1]创新型中小企业导出Excel!A$3:O$1946,15,FALSE)","v":"91440300MA5EWG912B"}]
[1209,"深圳亿锦泰科技开发有限公司",{"$f":"VLOOKUP(B1212:B2710,[1]创新型中小企业导出Excel!A$3:O$1946,15,FALSE)","v":"91440300072508487L"}]
[1210,"深圳市视通智能科技有限公司",{"$f":"VLOOKUP(B1213:B2711,[1]创新型中小企业导出Excel!A$3:O$1946,15,FALSE)","v":"91440300063860569Y"}]
[1211,"深圳新信达科技有限公司",{"$f":"VLOOKUP(B1214:B2712,[1]创新型中小企业导出Excel!A$3:O$1946,15,FALSE)","v":"91440300MA5FMXQA7K"}]
[1212,"深圳莱塔思光学科技有限公司",{"$f":"VLOOKUP(B1215:B2713,[1]创新型中小企业导出Excel!A$3:O$1946,15,FALSE)","v":"91440300MA5HX7T3X0"}]
[1213,"深圳市米路达科技有限公司",{"$f":"VLOOKUP(B1216:B2714,[1]创新型中小企业导出Excel!A$3:O$1946,15,FALSE)","v":"91440300MA5GX6ML9D"}]
[1214,"东方中原（深圳）光显技术有限公司",{"$f":"VLOOKUP(B1217:B2715,[1]创新型中小企业导出Excel!A$3:O$1946,15,FALSE)","v":"91440300MA5HU4LD6U"}]
[1215,"深圳市智力机器科技有限公司",{"$f":"VLOOKUP(B1218:B2716,[1]创新型中小企业导出Excel!A$3:O$1946,15,FALSE)","v":"914403005627889603"}]
[1216,"深圳市嘉竞力科技有限公司",{"$f":"VLOOKUP(B1219:B2717,[1]创新型中小企业导出Excel!A$3:O$1946,15,FALSE)","v":"91440300559887669J"}]
[1217,"深圳市易视精密科技有限公司",{"$f":"VLOOKUP(B1220:B2718,[1]创新型中小企业导出Excel!A$3:O$1946,15,FALSE)","v":"91440300MA5GK9KK5W"}]
[1218,"科勤达科技（深圳）有限公司",{"$f":"VLOOKUP(B1221:B2719,[1]创新型中小企业导出Excel!A$3:O$1946,15,FALSE)","v":"91440300305925063R"}]
[1219,"深圳七州电子有限公司",{"$f":"VLOOKUP(B1222:B2720,[1]创新型中小企业导出Excel!A$3:O$1946,15,FALSE)","v":"91440300MA5FLLP27W"}]
[1220,"深圳市华澳环保科技有限公司",{"$f":"VLOOKUP(B1223:B2721,[1]创新型中小企业导出Excel!A$3:O$1946,15,FALSE)","v":"91440300MA5EYX6379"}]
[1221,"荟普智能装备（深圳）有限公司",{"$f":"VLOOKUP(B1224:B2722,[1]创新型中小企业导出Excel!A$3:O$1946,15,FALSE)","v":"91440300MA5GYCDU74"}]
[1222,"深圳市博锐特智能系统有限公司",{"$f":"VLOOKUP(B1225:B2723,[1]创新型中小企业导出Excel!A$3:O$1946,15,FALSE)","v":"91440300786569038U"}]
[1223,"百益信科技（深圳）有限公司",{"$f":"VLOOKUP(B1226:B2724,[1]创新型中小企业导出Excel!A$3:O$1946,15,FALSE)","v":"91440300MA5H0PTC2Q"}]
[1224,"深圳市佳合丰新能源科技有限公司",{"$f":"VLOOKUP(B1227:B2725,[1]创新型中小企业导出Excel!A$3:O$1946,15,FALSE)","v":"91440300MA5HML3P2E"}]
[1225,"深圳市博视精密机械有限公司",{"$f":"VLOOKUP(B1228:B2726,[1]创新型中小企业导出Excel!A$3:O$1946,15,FALSE)","v":"91440300MA5HJR1997"}]
[1226,"深圳同信机电工程有限公司",{"$f":"VLOOKUP(B1229:B2727,[1]创新型中小企业导出Excel!A$3:O$1946,15,FALSE)","v":"914403005856262867"}]
[1227,"深圳市力宝能源科技有限公司",{"$f":"VLOOKUP(B1230:B2728,[1]创新型中小企业导出Excel!A$3:O$1946,15,FALSE)","v":"91440300MA5FP35M6K"}]
[1228,"深圳腾捷兴科技有限公司",{"$f":"VLOOKUP(B1231:B2729,[1]创新型中小企业导出Excel!A$3:O$1946,15,FALSE)","v":"91440300342582717W"}]
[1229,"深圳智云视科技有限公司",{"$f":"VLOOKUP(B1232:B2730,[1]创新型中小企业导出Excel!A$3:O$1946,15,FALSE)","v":"91440300335231601E"}]
[1230,"深圳市军美精工有限公司",{"$f":"VLOOKUP(B1233:B2731,[1]创新型中小企业导出Excel!A$3:O$1946,15,FALSE)","v":"91440300312006364X"}]
[1231,"深圳市凌泽精密电子有限公司",{"$f":"VLOOKUP(B1234:B2732,[1]创新型中小企业导出Excel!A$3:O$1946,15,FALSE)","v":"914403000775430701"}]
[1232,"下楼科技（深圳）有限公司",{"$f":"VLOOKUP(B1235:B2733,[1]创新型中小企业导出Excel!A$3:O$1946,15,FALSE)","v":"91440300MA5HD83H2K"}]
[1233,"深圳市艾克斯电子仪器设备有限公司",{"$f":"VLOOKUP(B1236:B2734,[1]创新型中小企业导出Excel!A$3:O$1946,15,FALSE)","v":"9144030077411372XQ"}]
[1234,"深圳市华朔半导体有限公司",{"$f":"VLOOKUP(B1237:B2735,[1]创新型中小企业导出Excel!A$3:O$1946,15,FALSE)","v":"91440300359998807C"}]
[1235,"深圳市霄烊科技有限公司",{"$f":"VLOOKUP(B1238:B2736,[1]创新型中小企业导出Excel!A$3:O$1946,15,FALSE)","v":"91440300MA5G9C993U"}]
[1236,"深圳市正新泰电子科技有限公司",{"$f":"VLOOKUP(B1239:B2737,[1]创新型中小企业导出Excel!A$3:O$1946,15,FALSE)","v":"91440300062737390D"}]
[1237,"深圳津源环保科技有限公司",{"$f":"VLOOKUP(B1240:B2738,[1]创新型中小企业导出Excel!A$3:O$1946,15,FALSE)","v":"91440300MA5HEF4M4X"}]
[1238,"深圳市皓晟扬科技有限公司",{"$f":"VLOOKUP(B1241:B2739,[1]创新型中小企业导出Excel!A$3:O$1946,15,FALSE)","v":"91440300MA5DA0TM7E"}]
[1239,"深圳市同瑞达新材料有限公司",{"$f":"VLOOKUP(B1242:B2740,[1]创新型中小企业导出Excel!A$3:O$1946,15,FALSE)","v":"91440300MA5DDAF52F"}]
[1240,"深圳市轩晖科技有限公司",{"$f":"VLOOKUP(B1243:B2741,[1]创新型中小企业导出Excel!A$3:O$1946,15,FALSE)","v":"91440300MA5GR1L71E"}]
[1241,"连科信医疗科技（深圳）有限公司",{"$f":"VLOOKUP(B1244:B2742,[1]创新型中小企业导出Excel!A$3:O$1946,15,FALSE)","v":"914403000717668476"}]
[1242,"聚兴智造（深圳）科技有限公司",{"$f":"VLOOKUP(B1245:B2743,[1]创新型中小企业导出Excel!A$3:O$1946,15,FALSE)","v":"91440300MA5HQP0D8J"}]
[1243,"深圳驿行智联科技有限公司",{"$f":"VLOOKUP(B1246:B2744,[1]创新型中小企业导出Excel!A$3:O$1946,15,FALSE)","v":"91440300MA5GLENXXE"}]
[1244,"深圳市力芯微科技有限公司",{"$f":"VLOOKUP(B1247:B2745,[1]创新型中小企业导出Excel!A$3:O$1946,15,FALSE)","v":"9144030057003128XH"}]
[1245,"深圳市曦友信息科技有限公司",{"$f":"VLOOKUP(B1248:B2746,[1]创新型中小企业导出Excel!A$3:O$1946,15,FALSE)","v":"91440300MA5H5B7G47"}]
[1246,"擎天创科（深圳）物联科技有限公司",{"$f":"VLOOKUP(B1249:B2747,[1]创新型中小企业导出Excel!A$3:O$1946,15,FALSE)","v":"91440300MA5GXY871T"}]
[1247,"深圳市佳特宝科技有限公司",{"$f":"VLOOKUP(B1250:B2748,[1]创新型中小企业导出Excel!A$3:O$1946,15,FALSE)","v":"91440300MA5H599Y92"}]
[1248,"深圳市迈源电气有限公司",{"$f":"VLOOKUP(B1251:B2749,[1]创新型中小企业导出Excel!A$3:O$1946,15,FALSE)","v":"91440300MA5H830P8G"}]
[1249,"深圳市富裕达机电设备有限公司",{"$f":"VLOOKUP(B1252:B2750,[1]创新型中小企业导出Excel!A$3:O$1946,15,FALSE)","v":"91440300MA5EJJLM82"}]
[1250,"深圳市赞生活设计有限公司",{"$f":"VLOOKUP(B1253:B2751,[1]创新型中小企业导出Excel!A$3:O$1946,15,FALSE)","v":"91440300MA5F1EFB9G"}]
[1251,"深圳市新领域净化科技有限公司",{"$f":"VLOOKUP(B1254:B2752,[1]创新型中小企业导出Excel!A$3:O$1946,15,FALSE)","v":"91440300067965376T"}]
[1252,"广东泰懂健康产业有限公司",{"$f":"VLOOKUP(B1255:B2753,[1]创新型中小企业导出Excel!A$3:O$1946,15,FALSE)","v":"91440300MA5HCAP2X0"}]
[1253,"汉天下有限公司",{"$f":"VLOOKUP(B1256:B2754,[1]创新型中小企业导出Excel!A$3:O$1946,15,FALSE)","v":"91440300MA5FQ0MM11"}]
[1254,"深圳鲸汐科技有限公司",{"$f":"VLOOKUP(B1257:B2755,[1]创新型中小企业导出Excel!A$3:O$1946,15,FALSE)","v":"91440300MA5H3PM73H"}]
[1255,"深圳市朗纳研磨材料有限公司",{"$f":"VLOOKUP(B1258:B2756,[1]创新型中小企业导出Excel!A$3:O$1946,15,FALSE)","v":"914403003120694293"}]
[1256,"深圳市太力新能源科技有限公司",{"$f":"VLOOKUP(B1259:B2757,[1]创新型中小企业导出Excel!A$3:O$1946,15,FALSE)","v":"91440300MA5H776R8R"}]
[1257,"深圳运通机器人有限公司",{"$f":"VLOOKUP(B1260:B2758,[1]创新型中小企业导出Excel!A$3:O$1946,15,FALSE)","v":"914403003599581780"}]
[1258,"深圳微科智联科技有限公司",{"$f":"VLOOKUP(B1261:B2759,[1]创新型中小企业导出Excel!A$3:O$1946,15,FALSE)","v":"9144030008076101XH"}]
[1259,"深圳市思莱宜科技有限公司",{"$f":"VLOOKUP(B1262:B2760,[1]创新型中小企业导出Excel!A$3:O$1946,15,FALSE)","v":"91440300MA5HHLUY0Q"}]
[1260,"深圳市兴星铝材有限公司",{"$f":"VLOOKUP(B1263:B2761,[1]创新型中小企业导出Excel!A$3:O$1946,15,FALSE)","v":"91440300MA5DRAFH78"}]
[1261,"广东瀚通数据技术服务有限公司",{"$f":"VLOOKUP(B1264:B2762,[1]创新型中小企业导出Excel!A$3:O$1946,15,FALSE)","v":"91440300MAD0G8EF1R"}]
[1262,"深圳市欣程微电子有限公司",{"$f":"VLOOKUP(B1265:B2763,[1]创新型中小企业导出Excel!A$3:O$1946,15,FALSE)","v":"91440300MA5HH4XR6X"}]
[1263,"深飞跃（深圳）科技有限公司",{"$f":"VLOOKUP(B1266:B2764,[1]创新型中小企业导出Excel!A$3:O$1946,15,FALSE)","v":"91440300MA5HWKF81Y"}]
[1264,"深圳市数创惠芯科技有限公司",{"$f":"VLOOKUP(B1267:B2765,[1]创新型中小企业导出Excel!A$3:O$1946,15,FALSE)","v":"91440300MA5FHHW61X"}]
[1265,"深圳市希尔维斯科技有限公司",{"$f":"VLOOKUP(B1268:B2766,[1]创新型中小企业导出Excel!A$3:O$1946,15,FALSE)","v":"91440300MA5H8Q3H4N"}]
[1266,"深圳市嘉佰达储能科技有限公司",{"$f":"VLOOKUP(B1269:B2767,[1]创新型中小企业导出Excel!A$3:O$1946,15,FALSE)","v":"91440300MA5HP6YX02"}]
[1267,"深圳市范晟科技有限公司",{"$f":"VLOOKUP(B1270:B2768,[1]创新型中小企业导出Excel!A$3:O$1946,15,FALSE)","v":"91440300MA5EH22694"}]
[1268,"深圳市又一服饰设计有限公司",{"$f":"VLOOKUP(B1271:B2769,[1]创新型中小企业导出Excel!A$3:O$1946,15,FALSE)","v":"91440300MA5H0MDJXA"}]
[1269,"深圳市景浩成科技有限公司",{"$f":"VLOOKUP(B1272:B2770,[1]创新型中小企业导出Excel!A$3:O$1946,15,FALSE)","v":"91440300MA5EG4MB7M"}]
[1270,"深圳市涵音科技发展有限公司",{"$f":"VLOOKUP(B1273:B2771,[1]创新型中小企业导出Excel!A$3:O$1946,15,FALSE)","v":"91440300334954509J"}]
[1271,"深圳市乐彩智能卡科技有限公司",{"$f":"VLOOKUP(B1274:B2772,[1]创新型中小企业导出Excel!A$3:O$1946,15,FALSE)","v":"914403005800904784"}]
[1272,"深圳市友策网络信息技术有限公司",{"$f":"VLOOKUP(B1275:B2773,[1]创新型中小企业导出Excel!A$3:O$1946,15,FALSE)","v":"91440300078973283E"}]
[1273,"深圳市旭景照明有限公司",{"$f":"VLOOKUP(B1276:B2774,[1]创新型中小企业导出Excel!A$3:O$1946,15,FALSE)","v":"914403000798106117"}]
[1274,"深圳市欢乐互动网络有限公司",{"$f":"VLOOKUP(B1277:B2775,[1]创新型中小企业导出Excel!A$3:O$1946,15,FALSE)","v":"914403003262378685"}]
[1275,"深圳市龙华数据有限公司",{"$f":"VLOOKUP(B1278:B2776,[1]创新型中小企业导出Excel!A$3:O$1946,15,FALSE)","v":"91440300MA5HM1HQ5Y"}]
[1276,"深圳崎辉钣金有限公司",{"$f":"VLOOKUP(B1279:B2777,[1]创新型中小企业导出Excel!A$3:O$1946,15,FALSE)","v":"91440300MA5G12QQXT"}]
[1277,"深圳市海文智能实业有限公司",{"$f":"VLOOKUP(B1280:B2778,[1]创新型中小企业导出Excel!A$3:O$1946,15,FALSE)","v":"91440300MACPR8T80E"}]
[1278,"深圳福厚技术有限公司",{"$f":"VLOOKUP(B1281:B2779,[1]创新型中小企业导出Excel!A$3:O$1946,15,FALSE)","v":"914403000938971193"}]
[1279,"深圳市洁芯达科技有限公司",{"$f":"VLOOKUP(B1282:B2780,[1]创新型中小企业导出Excel!A$3:O$1946,15,FALSE)","v":"91440300MA5HE84Y3H"}]
[1280,"中鸿（深圳）数码科技有限公司",{"$f":"VLOOKUP(B1283:B2781,[1]创新型中小企业导出Excel!A$3:O$1946,15,FALSE)","v":"91440300MA5HMDRP3U"}]
[1281,"深圳市浩远五金制品有限公司",{"$f":"VLOOKUP(B1284:B2782,[1]创新型中小企业导出Excel!A$3:O$1946,15,FALSE)","v":"91440300MA5DR3X38R"}]
[1282,"深圳市晨阳智创科技有限公司",{"$f":"VLOOKUP(B1285:B2783,[1]创新型中小企业导出Excel!A$3:O$1946,15,FALSE)","v":"91440300MA5EJEQM6M"}]
[1283,"深圳市广通远驰软件有限公司",{"$f":"VLOOKUP(B1286:B2784,[1]创新型中小企业导出Excel!A$3:O$1946,15,FALSE)","v":"91440300MA5HL68U9P"}]
[1284,"深圳绍祥科技有限公司",{"$f":"VLOOKUP(B1287:B2785,[1]创新型中小企业导出Excel!A$3:O$1946,15,FALSE)","v":"91440300MA5HNPJN46"}]
[1285,"深圳市顺策自动化科技有限公司",{"$f":"VLOOKUP(B1288:B2786,[1]创新型中小企业导出Excel!A$3:O$1946,15,FALSE)","v":"91440300MA5DRHQJ2F"}]
[1286,"深圳市工曙科技有限公司",{"$f":"VLOOKUP(B1289:B2787,[1]创新型中小企业导出Excel!A$3:O$1946,15,FALSE)","v":"91440300MA5HDK6Q8X"}]
[1287,"深圳优景商业显示有限公司",{"$f":"VLOOKUP(B1290:B2788,[1]创新型中小企业导出Excel!A$3:O$1946,15,FALSE)","v":"91440300MA5FE2YJ38"}]
[1288,"深圳萌想文化传播有限公司",{"$f":"VLOOKUP(B1291:B2789,[1]创新型中小企业导出Excel!A$3:O$1946,15,FALSE)","v":"91440300MA5DKTRE2K"}]
[1289,"深圳市东田精密光电有限公司",{"$f":"VLOOKUP(B1292:B2790,[1]创新型中小企业导出Excel!A$3:O$1946,15,FALSE)","v":"91440300662695307B"}]
[1290,"阶梯健康科技（深圳）有限公司",{"$f":"VLOOKUP(B1293:B2791,[1]创新型中小企业导出Excel!A$3:O$1946,15,FALSE)","v":"91440300MA5G5X2Y98"}]
[1291,"深圳市陆百亿光电有限公司",{"$f":"VLOOKUP(B1294:B2792,[1]创新型中小企业导出Excel!A$3:O$1946,15,FALSE)","v":"91440300319566057U"}]
[1292,"深圳伊凯路科技服务有限公司",{"$f":"VLOOKUP(B1295:B2793,[1]创新型中小企业导出Excel!A$3:O$1946,15,FALSE)","v":"91440300MA5G7Q0L15"}]
[1293,"深圳沃新智创技术有限公司",{"$f":"VLOOKUP(B1296:B2794,[1]创新型中小企业导出Excel!A$3:O$1946,15,FALSE)","v":"91440300MACP2EGQ5Y"}]
[1294,"深圳十代信息技术有限公司",{"$f":"VLOOKUP(B1297:B2795,[1]创新型中小企业导出Excel!A$3:O$1946,15,FALSE)","v":"91440300MA5FPB4NX0"}]
[1295,"深圳市米澜生物科技有限公司",{"$f":"VLOOKUP(B1298:B2796,[1]创新型中小企业导出Excel!A$3:O$1946,15,FALSE)","v":"91440300MA5GFFDP0U"}]
[1296,"深圳市德特锐科技有限公司",{"$f":"VLOOKUP(B1299:B2797,[1]创新型中小企业导出Excel!A$3:O$1946,15,FALSE)","v":"9144030031184178XD"}]
[1297,"深圳市汇清物联科技有限公司",{"$f":"VLOOKUP(B1300:B2798,[1]创新型中小企业导出Excel!A$3:O$1946,15,FALSE)","v":"91440300MA5H62AN1U"}]
[1298,"深圳市复兴智能装备有限公司",{"$f":"VLOOKUP(B1301:B2799,[1]创新型中小企业导出Excel!A$3:O$1946,15,FALSE)","v":"91440300MA5HLEK283"}]
[1299,"深圳市国鼎包装制品有限公司",{"$f":"VLOOKUP(B1302:B2800,[1]创新型中小企业导出Excel!A$3:O$1946,15,FALSE)","v":"91440300692505113J"}]
[1300,"深圳智塔科技有限公司",{"$f":"VLOOKUP(B1303:B2801,[1]创新型中小企业导出Excel!A$3:O$1946,15,FALSE)","v":"91440300MA5GUMAP29"}]
[1301,"深圳市恒云智联科技有限公司",{"$f":"VLOOKUP(B1304:B2802,[1]创新型中小企业导出Excel!A$3:O$1946,15,FALSE)","v":"91440300MAD1N9PF3B"}]
[1302,"深圳力强数智科技有限公司",{"$f":"VLOOKUP(B1305:B2803,[1]创新型中小企业导出Excel!A$3:O$1946,15,FALSE)","v":"91440300MA5HF9MD4J"}]
[1303,"深圳市欧悦斯科技有限公司",{"$f":"VLOOKUP(B1306:B2804,[1]创新型中小企业导出Excel!A$3:O$1946,15,FALSE)","v":"91440300093923073G"}]
[1304,"深圳市正奕微电子有限公司",{"$f":"VLOOKUP(B1307:B2805,[1]创新型中小企业导出Excel!A$3:O$1946,15,FALSE)","v":"91440300MA5G8G761C"}]
[1305,"深圳市犇骉鑫云计算科技有限公司",{"$f":"VLOOKUP(B1308:B2806,[1]创新型中小企业导出Excel!A$3:O$1946,15,FALSE)","v":"91440300MA5F5BB237"}]
[1306,"深圳磐博智造科技有限公司",{"$f":"VLOOKUP(B1309:B2807,[1]创新型中小企业导出Excel!A$3:O$1946,15,FALSE)","v":"91440300MA5EC7MB30"}]
[1307,"深圳市尔英科技有限公司",{"$f":"VLOOKUP(B1310:B2808,[1]创新型中小企业导出Excel!A$3:O$1946,15,FALSE)","v":"91440300MA5HJTX63P"}]
[1308,"深圳留形科技有限公司",{"$f":"VLOOKUP(B1311:B2809,[1]创新型中小企业导出Excel!A$3:O$1946,15,FALSE)","v":"91440300MA5HFEEK45"}]
[1309,"深圳极翰科技有限公司",{"$f":"VLOOKUP(B1312:B2810,[1]创新型中小企业导出Excel!A$3:O$1946,15,FALSE)","v":"91440300MA5DRK2E7C"}]
[1310,"深圳市海云天下科技有限公司",{"$f":"VLOOKUP(B1313:B2811,[1]创新型中小企业导出Excel!A$3:O$1946,15,FALSE)","v":"91440300MA5H37RT6H"}]
[1311,"深圳市汇泽嘉科技有限公司",{"$f":"VLOOKUP(B1314:B2812,[1]创新型中小企业导出Excel!A$3:O$1946,15,FALSE)","v":"91440300071109273J"}]
[1312,"深圳市合盛精密科技有限公司",{"$f":"VLOOKUP(B1315:B2813,[1]创新型中小企业导出Excel!A$3:O$1946,15,FALSE)","v":"91440300MA5FHP3694"}]
[1313,"深圳市好事多物联网有限公司",{"$f":"VLOOKUP(B1316:B2814,[1]创新型中小企业导出Excel!A$3:O$1946,15,FALSE)","v":"914403000940785107"}]
[1314,"深圳市云端共济科技有限公司",{"$f":"VLOOKUP(B1317:B2815,[1]创新型中小企业导出Excel!A$3:O$1946,15,FALSE)","v":"91440300MA5EQ2CN0P"}]
[1315,"深圳市尚基数智科技有限公司",{"$f":"VLOOKUP(B1318:B2816,[1]创新型中小企业导出Excel!A$3:O$1946,15,FALSE)","v":"91440300MA5HG1EHXA"}]
[1316,"深圳市净脉科技有限公司",{"$f":"VLOOKUP(B1319:B2817,[1]创新型中小企业导出Excel!A$3:O$1946,15,FALSE)","v":"91440300MA5F9DQP47"}]
[1317,"深圳市智连猫科技有限公司",{"$f":"VLOOKUP(B1320:B2818,[1]创新型中小企业导出Excel!A$3:O$1946,15,FALSE)","v":"91440300MA5H3LW84P"}]
[1318,"深圳源航软件技术有限公司",{"$f":"VLOOKUP(B1321:B2819,[1]创新型中小企业导出Excel!A$3:O$1946,15,FALSE)","v":"91440300MA5FCDL040"}]
[1319,"深圳市中科鑫维电子科技有限公司",{"$f":"VLOOKUP(B1322:B2820,[1]创新型中小企业导出Excel!A$3:O$1946,15,FALSE)","v":"91440300MA5HDL4C3X"}]
[1320,"深圳市一鲲科技有限公司",{"$f":"VLOOKUP(B1323:B2821,[1]创新型中小企业导出Excel!A$3:O$1946,15,FALSE)","v":"91440300MACMHX0T9X"}]
[1321,"深圳市航宇数字视觉科技有限公司",{"$f":"VLOOKUP(B1324:B2822,[1]创新型中小企业导出Excel!A$3:O$1946,15,FALSE)","v":"91440300MA5FXNG20K"}]
[1322,"深圳市世瑞环境科技有限公司",{"$f":"VLOOKUP(B1325:B2823,[1]创新型中小企业导出Excel!A$3:O$1946,15,FALSE)","v":"91440300MA5HUW600R"}]
[1323,"深圳市光佰科技有限公司",{"$f":"VLOOKUP(B1326:B2824,[1]创新型中小企业导出Excel!A$3:O$1946,15,FALSE)","v":"91440300MA5GL1UT6J"}]
[1324,"深圳龙跃芯电子科技有限公司",{"$f":"VLOOKUP(B1327:B2825,[1]创新型中小企业导出Excel!A$3:O$1946,15,FALSE)","v":"91440300MA5HP9FY66"}]
[1325,"深圳市沥宏科技有限公司",{"$f":"VLOOKUP(B1328:B2826,[1]创新型中小企业导出Excel!A$3:O$1946,15,FALSE)","v":"91440300MA5HT5X38A"}]
[1326,"深圳市淘拼科技有限公司",{"$f":"VLOOKUP(B1329:B2827,[1]创新型中小企业导出Excel!A$3:O$1946,15,FALSE)","v":"91440300MA5GUB4A1E"}]
[1327,"深圳市屹鑫元科技有限公司",{"$f":"VLOOKUP(B1330:B2828,[1]创新型中小企业导出Excel!A$3:O$1946,15,FALSE)","v":"91440300MA5H2NX13R"}]
[1328,"深圳市科有为科技有限公司",{"$f":"VLOOKUP(B1331:B2829,[1]创新型中小企业导出Excel!A$3:O$1946,15,FALSE)","v":"91440300050473770X"}]
[1329,"深圳市弘辽科技有限公司",{"$f":"VLOOKUP(B1332:B2830,[1]创新型中小企业导出Excel!A$3:O$1946,15,FALSE)","v":"91440300MA5FUGY70D"}]
[1330,"深圳市百智康科技有限公司",{"$f":"VLOOKUP(B1333:B2831,[1]创新型中小企业导出Excel!A$3:O$1946,15,FALSE)","v":"91440300076909923Q"}]
[1331,"深圳市泰睿康生物科技有限公司",{"$f":"VLOOKUP(B1334:B2832,[1]创新型中小企业导出Excel!A$3:O$1946,15,FALSE)","v":"91440300MA5HDDF54M"}]
[1332,"深圳市全景行智能科技有限公司",{"$f":"VLOOKUP(B1335:B2833,[1]创新型中小企业导出Excel!A$3:O$1946,15,FALSE)","v":"91440300MA5HMX490G"}]
[1333,"深圳市米多智造科技有限公司",{"$f":"VLOOKUP(B1336:B2834,[1]创新型中小企业导出Excel!A$3:O$1946,15,FALSE)","v":"91440300MAD1XFA73T"}]
[1334,"深圳云视智景科技有限公司",{"$f":"VLOOKUP(B1337:B2835,[1]创新型中小企业导出Excel!A$3:O$1946,15,FALSE)","v":"91440300MA5HR1917Y"}]
[1335,"深圳市喜闻良缘科技有限公司",{"$f":"VLOOKUP(B1338:B2836,[1]创新型中小企业导出Excel!A$3:O$1946,15,FALSE)","v":"91440300MA5H00L138"}]
[1336,"深圳市鑫恩达五金制品有限公司",{"$f":"VLOOKUP(B1339:B2837,[1]创新型中小企业导出Excel!A$3:O$1946,15,FALSE)","v":"91440300342585395X"}]
[1337,"深圳市钜盛精密机械有限公司",{"$f":"VLOOKUP(B1340:B2838,[1]创新型中小企业导出Excel!A$3:O$1946,15,FALSE)","v":"91440300MA5DH28W9A"}]
[1338,"深圳市隆测技术有限公司",{"$f":"VLOOKUP(B1341:B2839,[1]创新型中小企业导出Excel!A$3:O$1946,15,FALSE)","v":"91440300MA5DHTQ48N"}]
[1339,"深圳市鑫鑫蕾毛刷制品有限公司",{"$f":"VLOOKUP(B1342:B2840,[1]创新型中小企业导出Excel!A$3:O$1946,15,FALSE)","v":"91440300562771659J"}]
[1340,"深圳海辰储能科技有限公司",{"$f":"VLOOKUP(B1343:B2841,[1]创新型中小企业导出Excel!A$3:O$1946,15,FALSE)","v":"91440300MA5HBRFM01"}]
[1341,"深圳市德拉姆家居生活有限公司",{"$f":"VLOOKUP(B1344:B2842,[1]创新型中小企业导出Excel!A$3:O$1946,15,FALSE)","v":"91440300MA5GDY709T"}]
[1342,"深圳市晨浅拓普科技有限公司",{"$f":"VLOOKUP(B1345:B2843,[1]创新型中小企业导出Excel!A$3:O$1946,15,FALSE)","v":"91440300MA5DRW82X7"}]
[1343,"深圳市荷里博技术有限公司",{"$f":"VLOOKUP(B1346:B2844,[1]创新型中小企业导出Excel!A$3:O$1946,15,FALSE)","v":"91440300MA5HM48DXG"}]
[1344,"深圳樱简医疗科技有限公司",{"$f":"VLOOKUP(B1347:B2845,[1]创新型中小企业导出Excel!A$3:O$1946,15,FALSE)","v":"91440300MAD5ME1261"}]
[1345,"深圳市万国高科电子有限公司",{"$f":"VLOOKUP(B1348:B2846,[1]创新型中小企业导出Excel!A$3:O$1946,15,FALSE)","v":"914403005918775916"}]
[1346,"深圳市安杰智科技有限公司",{"$f":"VLOOKUP(B1349:B2847,[1]创新型中小企业导出Excel!A$3:O$1946,15,FALSE)","v":"91440300MA5ED1LH53"}]
[1347,"深圳市芯凌生态科技有限公司",{"$f":"VLOOKUP(B1350:B2848,[1]创新型中小企业导出Excel!A$3:O$1946,15,FALSE)","v":"914403003118021152"}]
[1348,"深圳市菲灿科技有限公司",{"$f":"VLOOKUP(B1351:B2849,[1]创新型中小企业导出Excel!A$3:O$1946,15,FALSE)","v":"91440300064960887L"}]
[1349,"深圳市挚鼎实业有限公司",{"$f":"VLOOKUP(B1352:B2850,[1]创新型中小企业导出Excel!A$3:O$1946,15,FALSE)","v":"91440300MA5DN94H2U"}]
[1350,"东腾创新（深圳）科技有限公司",{"$f":"VLOOKUP(B1353:B2851,[1]创新型中小企业导出Excel!A$3:O$1946,15,FALSE)","v":"91440300MA5F1X259W"}]
[1351,"深圳市龙迈途科技有限公司",{"$f":"VLOOKUP(B1354:B2852,[1]创新型中小企业导出Excel!A$3:O$1946,15,FALSE)","v":"91440300MA5H92MKX5"}]
[1352,"深圳市艾晶源科技有限公司",{"$f":"VLOOKUP(B1355:B2853,[1]创新型中小企业导出Excel!A$3:O$1946,15,FALSE)","v":"91440300MA5FHXU547"}]
[1353,"深圳市爱心易科技有限公司",{"$f":"VLOOKUP(B1356:B2854,[1]创新型中小企业导出Excel!A$3:O$1946,15,FALSE)","v":"914403000539546094"}]
[1354,"深圳市承御科技有限公司",{"$f":"VLOOKUP(B1357:B2855,[1]创新型中小企业导出Excel!A$3:O$1946,15,FALSE)","v":"91440300MA5HT0F728"}]
[1355,"深圳市锐启科技创新有限公司",{"$f":"VLOOKUP(B1358:B2856,[1]创新型中小企业导出Excel!A$3:O$1946,15,FALSE)","v":"91440300MA5GTBMJ4Q"}]
[1356,"深圳市莱华仕生物科技有限公司",{"$f":"VLOOKUP(B1359:B2857,[1]创新型中小企业导出Excel!A$3:O$1946,15,FALSE)","v":"914403000649592617"}]
[1357,"深圳市开扬实业有限公司",{"$f":"VLOOKUP(B1360:B2858,[1]创新型中小企业导出Excel!A$3:O$1946,15,FALSE)","v":"91440300754288178K"}]
[1358,"深圳市鑫鸿光科技有限公司",{"$f":"VLOOKUP(B1361:B2859,[1]创新型中小企业导出Excel!A$3:O$1946,15,FALSE)","v":"91440300MACTNE500T"}]
[1359,"深圳市海瑞中科科技有限公司",{"$f":"VLOOKUP(B1362:B2860,[1]创新型中小企业导出Excel!A$3:O$1946,15,FALSE)","v":"91440300MA5EJUXT1M"}]
[1360,"深圳市泰坦国际发展科技有限公司",{"$f":"VLOOKUP(B1363:B2861,[1]创新型中小企业导出Excel!A$3:O$1946,15,FALSE)","v":"91440300MA5GRNAF78"}]
[1361,"深圳市华沥科技有限公司",{"$f":"VLOOKUP(B1364:B2862,[1]创新型中小企业导出Excel!A$3:O$1946,15,FALSE)","v":"914403003594796799"}]
[1362,"深圳市华不科技有限公司",{"$f":"VLOOKUP(B1365:B2863,[1]创新型中小企业导出Excel!A$3:O$1946,15,FALSE)","v":"91440300MA5EWL1154"}]
[1363,"深圳市联达创芯科技有限公司",{"$f":"VLOOKUP(B1366:B2864,[1]创新型中小企业导出Excel!A$3:O$1946,15,FALSE)","v":"91440300MA5HQJE20R"}]
[1364,"深圳市天保利科技有限公司",{"$f":"VLOOKUP(B1367:B2865,[1]创新型中小企业导出Excel!A$3:O$1946,15,FALSE)","v":"91440300053986432U"}]
[1365,"深圳前度科技有限公司",{"$f":"VLOOKUP(B1368:B2866,[1]创新型中小企业导出Excel!A$3:O$1946,15,FALSE)","v":"91440300MADLNX2G99"}]
[1366,"深圳市派平方环境艺术设计有限公司",{"$f":"VLOOKUP(B1369:B2867,[1]创新型中小企业导出Excel!A$3:O$1946,15,FALSE)","v":"91440300MA5GA89Y29"}]
[1367,"泾丰科技（深圳）有限公司",{"$f":"VLOOKUP(B1370:B2868,[1]创新型中小企业导出Excel!A$3:O$1946,15,FALSE)","v":"91440300MA5FMB1W8L"}]
[1368,"深圳市展红机电设备有限公司",{"$f":"VLOOKUP(B1371:B2869,[1]创新型中小企业导出Excel!A$3:O$1946,15,FALSE)","v":"914403005700117489"}]
[1369,"深圳盛世知识产权代理有限公司",{"$f":"VLOOKUP(B1372:B2870,[1]创新型中小企业导出Excel!A$3:O$1946,15,FALSE)","v":"91440300MA5GB6PQ9H"}]
[1370,"深圳市精腾电子有限公司",{"$f":"VLOOKUP(B1373:B2871,[1]创新型中小企业导出Excel!A$3:O$1946,15,FALSE)","v":"914403007576291183"}]
[1371,"深圳市银欧智能电子科技有限公司",{"$f":"VLOOKUP(B1374:B2872,[1]创新型中小企业导出Excel!A$3:O$1946,15,FALSE)","v":"91440300MA5HEY6J4J"}]
[1372,"广东千影智能照明有限公司",{"$f":"VLOOKUP(B1375:B2873,[1]创新型中小企业导出Excel!A$3:O$1946,15,FALSE)","v":"91440101MA9Y0HM6XW"}]
[1373,"深圳市信恒昌电子科技有限公司",{"$f":"VLOOKUP(B1376:B2874,[1]创新型中小企业导出Excel!A$3:O$1946,15,FALSE)","v":"91440300069266050N"}]
[1374,"深圳烯格微电子有限公司",{"$f":"VLOOKUP(B1377:B2875,[1]创新型中小企业导出Excel!A$3:O$1946,15,FALSE)","v":"91440300MACU30X969"}]
[1375,"深圳市创鸿皓科技有限公司",{"$f":"VLOOKUP(B1378:B2876,[1]创新型中小企业导出Excel!A$3:O$1946,15,FALSE)","v":"91440300MA5EHL1J01"}]
[1376,"成客数科（深圳）科技有限公司",{"$f":"VLOOKUP(B1379:B2877,[1]创新型中小企业导出Excel!A$3:O$1946,15,FALSE)","v":"91440300MA5EHDNN1W"}]
[1377,"深圳市达辰威科技集团有限公司",{"$f":"VLOOKUP(B1380:B2878,[1]创新型中小企业导出Excel!A$3:O$1946,15,FALSE)","v":"91440300MACUU01KXM"}]
[1378,"伏羲半导体（深圳）有限公司",{"$f":"VLOOKUP(B1381:B2879,[1]创新型中小企业导出Excel!A$3:O$1946,15,FALSE)","v":"91440300MA5HMCMY22"}]
[1379,"深圳鼎赛智能科技有限公司",{"$f":"VLOOKUP(B1382:B2880,[1]创新型中小企业导出Excel!A$3:O$1946,15,FALSE)","v":"91440300MACQXCA336"}]
[1380,"深圳市天禽医疗科技有限公司",{"$f":"VLOOKUP(B1383:B2881,[1]创新型中小企业导出Excel!A$3:O$1946,15,FALSE)","v":"91440300MA5HPFA61W"}]
[1381,"深圳市皓博拓视科技有限公司",{"$f":"VLOOKUP(B1384:B2882,[1]创新型中小企业导出Excel!A$3:O$1946,15,FALSE)","v":"91440300359388531L"}]
[1382,"深圳市新纪元数据产业有限公司",{"$f":"VLOOKUP(B1385:B2883,[1]创新型中小企业导出Excel!A$3:O$1946,15,FALSE)","v":"91440300MA5H869RXC"}]
[1383,"深圳运物云物流科技有限公司",{"$f":"VLOOKUP(B1386:B2884,[1]创新型中小企业导出Excel!A$3:O$1946,15,FALSE)","v":"91440300MA5HCEKX2E"}]
[1384,"深圳市定向三维科技有限公司",{"$f":"VLOOKUP(B1387:B2885,[1]创新型中小企业导出Excel!A$3:O$1946,15,FALSE)","v":"91440300MA5H6ETN5R"}]
[1385,"通敏国际能源科技（深圳）有限公司",{"$f":"VLOOKUP(B1388:B2886,[1]创新型中小企业导出Excel!A$3:O$1946,15,FALSE)","v":"91440300MA5H26FY2H"}]
[1386,"华腾电子智能（深圳）有限公司",{"$f":"VLOOKUP(B1389:B2887,[1]创新型中小企业导出Excel!A$3:O$1946,15,FALSE)","v":"91440300MA5GHFM983"}]
[1387,"水伯格五金（深圳）有限公司",{"$f":"VLOOKUP(B1390:B2888,[1]创新型中小企业导出Excel!A$3:O$1946,15,FALSE)","v":"914403007152053688"}]
[1388,"深圳市顺鼎宏电子有限公司",{"$f":"VLOOKUP(B1391:B2889,[1]创新型中小企业导出Excel!A$3:O$1946,15,FALSE)","v":"91440300682025028X"}]
[1389,"中环柯昂（深圳）科技有限公司",{"$f":"VLOOKUP(B1392:B2890,[1]创新型中小企业导出Excel!A$3:O$1946,15,FALSE)","v":"91440300MAD2YJN579"}]
[1390,"游天依（深圳）科技有限公司",{"$f":"VLOOKUP(B1393:B2891,[1]创新型中小企业导出Excel!A$3:O$1946,15,FALSE)","v":"91440300MA5HEJ747C"}]
[1391,"深圳新智励人工智能科技有限公司",{"$f":"VLOOKUP(B1394:B2892,[1]创新型中小企业导出Excel!A$3:O$1946,15,FALSE)","v":"91440300MA5G16QAX9"}]
[1392,"深圳高朴光启科技有限公司",{"$f":"VLOOKUP(B1395:B2893,[1]创新型中小企业导出Excel!A$3:O$1946,15,FALSE)","v":"91440300MA5G9EGH9W"}]
[1393,"深圳市汇川智控气动技术有限公司",{"$f":"VLOOKUP(B1396:B2894,[1]创新型中小企业导出Excel!A$3:O$1946,15,FALSE)","v":"914403003497481506"}]
[1394,"深圳市圣帆科技有限公司",{"$f":"VLOOKUP(B1397:B2895,[1]创新型中小企业导出Excel!A$3:O$1946,15,FALSE)","v":"91440300MA5HTRM62X"}]
[1395,"深圳市玉赫科技有限公司",{"$f":"VLOOKUP(B1398:B2896,[1]创新型中小企业导出Excel!A$3:O$1946,15,FALSE)","v":"91440300MA5HT7TL50"}]
[1396,"深圳市企申正科技有限公司",{"$f":"VLOOKUP(B1399:B2897,[1]创新型中小企业导出Excel!A$3:O$1946,15,FALSE)","v":"91440300MA5DAGBY4W"}]
[1397,"莫兰迪（深圳）实业发展有限公司",{"$f":"VLOOKUP(B1400:B2898,[1]创新型中小企业导出Excel!A$3:O$1946,15,FALSE)","v":"91440300MA5GY4E654"}]
[1398,"深圳市逐源安科技有限公司",{"$f":"VLOOKUP(B1401:B2899,[1]创新型中小企业导出Excel!A$3:O$1946,15,FALSE)","v":"91440300MAD15DL40Y"}]
[1399,"深圳韦克快速成型技术有限公司",{"$f":"VLOOKUP(B1402:B2900,[1]创新型中小企业导出Excel!A$3:O$1946,15,FALSE)","v":"914403000703653472"}]
[1400,"深圳市策山智能生活有限公司",{"$f":"VLOOKUP(B1403:B2901,[1]创新型中小企业导出Excel!A$3:O$1946,15,FALSE)","v":"91440300MA5FQU8L6Q"}]
[1401,"深圳市酷睿特精密科技有限公司",{"$f":"VLOOKUP(B1404:B2902,[1]创新型中小企业导出Excel!A$3:O$1946,15,FALSE)","v":"91440300359413856F"}]
[1402,"深圳市至千里网络科技有限公司",{"$f":"VLOOKUP(B1405:B2903,[1]创新型中小企业导出Excel!A$3:O$1946,15,FALSE)","v":"91440300MA5HCHLJ2E"}]
[1403,"深圳市华鑫立业科技有限公司",{"$f":"VLOOKUP(B1406:B2904,[1]创新型中小企业导出Excel!A$3:O$1946,15,FALSE)","v":"91440300088333597G"}]
[1404,"富芯晶圆制造（深圳）有限公司",{"$f":"VLOOKUP(B1407:B2905,[1]创新型中小企业导出Excel!A$3:O$1946,15,FALSE)","v":"91440300MA5HA2P19P"}]
[1405,"深圳市深骏源电子有限公司",{"$f":"VLOOKUP(B1408:B2906,[1]创新型中小企业导出Excel!A$3:O$1946,15,FALSE)","v":"914403005747580216"}]
[1406,"阳光电源（深圳）有限公司",{"$f":"VLOOKUP(B1409:B2907,[1]创新型中小企业导出Excel!A$3:O$1946,15,FALSE)","v":"91440300088268094K"}]
[1407,"深圳市索川科技有限公司",{"$f":"VLOOKUP(B1410:B2908,[1]创新型中小企业导出Excel!A$3:O$1946,15,FALSE)","v":"9144030032658697X4"}]
[1408,"深圳市湘祁智慧物流有限公司",{"$f":"VLOOKUP(B1411:B2909,[1]创新型中小企业导出Excel!A$3:O$1946,15,FALSE)","v":"91440300MA5HG6DF0W"}]
[1409,"深圳市於航科技有限公司",{"$f":"VLOOKUP(B1412:B2910,[1]创新型中小企业导出Excel!A$3:O$1946,15,FALSE)","v":"91440300MA5HGPJQ0D"}]
[1410,"深圳市鸿合三金科技有限公司",{"$f":"VLOOKUP(B1413:B2911,[1]创新型中小企业导出Excel!A$3:O$1946,15,FALSE)","v":"91440300MA5FWGL280"}]
[1411,"深圳鼎邦化学品有限公司",{"$f":"VLOOKUP(B1414:B2912,[1]创新型中小企业导出Excel!A$3:O$1946,15,FALSE)","v":"91440300MA5FXPAJ7Y"}]
[1412,"深圳市壳世壳世科技发展有限公司",{"$f":"VLOOKUP(B1415:B2913,[1]创新型中小企业导出Excel!A$3:O$1946,15,FALSE)","v":"914403000944012421"}]
[1413,"深圳市迅德科技有限公司",{"$f":"VLOOKUP(B1416:B2914,[1]创新型中小企业导出Excel!A$3:O$1946,15,FALSE)","v":"91440300MA5GH9921N"}]
[1414,"深圳市翰锭实业有限公司",{"$f":"VLOOKUP(B1417:B2915,[1]创新型中小企业导出Excel!A$3:O$1946,15,FALSE)","v":"914403007542887257"}]
[1415,"深圳市壹号云计算有限公司",{"$f":"VLOOKUP(B1418:B2916,[1]创新型中小企业导出Excel!A$3:O$1946,15,FALSE)","v":"91440300MA5GKNG636"}]
[1416,"深圳市企顺创新科技发展有限公司",{"$f":"VLOOKUP(B1419:B2917,[1]创新型中小企业导出Excel!A$3:O$1946,15,FALSE)","v":"91440300MA5GKYF67N"}]
[1417,"深圳高新邦科技有限公司",{"$f":"VLOOKUP(B1420:B2918,[1]创新型中小企业导出Excel!A$3:O$1946,15,FALSE)","v":"91440300MA5D950HX7"}]
[1418,"深圳市德睿创科技有限公司",{"$f":"VLOOKUP(B1421:B2919,[1]创新型中小企业导出Excel!A$3:O$1946,15,FALSE)","v":"91440300589185553Y"}]
[1419,"深圳安士精机科技有限公司",{"$f":"VLOOKUP(B1422:B2920,[1]创新型中小企业导出Excel!A$3:O$1946,15,FALSE)","v":"91440300MA5EE71L24"}]
[1420,"深圳市洪星华五金制品有限公司",{"$f":"VLOOKUP(B1423:B2921,[1]创新型中小企业导出Excel!A$3:O$1946,15,FALSE)","v":"91440300770332554P"}]
[1421,"深圳宝联智汇科技有限公司",{"$f":"VLOOKUP(B1424:B2922,[1]创新型中小企业导出Excel!A$3:O$1946,15,FALSE)","v":"91440300MA5FQXFR8A"}]
[1422,"路达科技（深圳）有限公司",{"$f":"VLOOKUP(B1425:B2923,[1]创新型中小企业导出Excel!A$3:O$1946,15,FALSE)","v":"91440300MA5D8H0T55"}]
[1423,"深圳德威音响有限公司",{"$f":"VLOOKUP(B1426:B2924,[1]创新型中小企业导出Excel!A$3:O$1946,15,FALSE)","v":"91440300558686646L"}]
[1424,"深圳市巨龙兄弟实业有限公司",{"$f":"VLOOKUP(B1427:B2925,[1]创新型中小企业导出Excel!A$3:O$1946,15,FALSE)","v":"914403007675617000"}]
[1425,"深圳育成教育科技有限公司",{"$f":"VLOOKUP(B1428:B2926,[1]创新型中小企业导出Excel!A$3:O$1946,15,FALSE)","v":"91440300MA5DT8GQ2Y"}]
[1426,"深圳市丁荣鑫电子科技有限公司",{"$f":"VLOOKUP(B1429:B2927,[1]创新型中小企业导出Excel!A$3:O$1946,15,FALSE)","v":"91440300MA5DRE2R7K"}]
[1427,"深圳柯尔文科技有限公司",{"$f":"VLOOKUP(B1430:B2928,[1]创新型中小企业导出Excel!A$3:O$1946,15,FALSE)","v":"91440300MA5F6YRW95"}]
[1428,"深圳市鹏润鑫聚科技有限公司",{"$f":"VLOOKUP(B1431:B2929,[1]创新型中小企业导出Excel!A$3:O$1946,15,FALSE)","v":"91440300MA5FMNXW4N"}]
[1429,"知音卡片礼品（深圳）有限公司",{"$f":"VLOOKUP(B1432:B2930,[1]创新型中小企业导出Excel!A$3:O$1946,15,FALSE)","v":"91440300745172587N"}]
[1430,"深圳至善电气有限公司",{"$f":"VLOOKUP(B1433:B2931,[1]创新型中小企业导出Excel!A$3:O$1946,15,FALSE)","v":"91440300MA5FEXN028"}]
[1431,"深圳煜之峰五金制品有限公司",{"$f":"VLOOKUP(B1434:B2932,[1]创新型中小企业导出Excel!A$3:O$1946,15,FALSE)","v":"91440300683757562R"}]
[1432,"深圳市世纪天任科技有限公司",{"$f":"VLOOKUP(B1435:B2933,[1]创新型中小企业导出Excel!A$3:O$1946,15,FALSE)","v":"9144030076197642XU"}]
[1433,"深圳市凯西精密五金制品有限公司",{"$f":"VLOOKUP(B1436:B2934,[1]创新型中小企业导出Excel!A$3:O$1946,15,FALSE)","v":"91440300685366661Y"}]
[1434,"深圳市良标科技有限公司",{"$f":"VLOOKUP(B1437:B2935,[1]创新型中小企业导出Excel!A$3:O$1946,15,FALSE)","v":"914403000703833776"}]
[1435,"深圳市科美达自动化设备有限公司",{"$f":"VLOOKUP(B1438:B2936,[1]创新型中小企业导出Excel!A$3:O$1946,15,FALSE)","v":"914403000685742031"}]
[1436,"深圳镁锦优视股份有限公司",{"$f":"VLOOKUP(B1439:B2937,[1]创新型中小企业导出Excel!A$3:O$1946,15,FALSE)","v":"914403005685112841"}]
[1437,"慧光智城（深圳）智慧科技有限公司",{"$f":"VLOOKUP(B1440:B2938,[1]创新型中小企业导出Excel!A$3:O$1946,15,FALSE)","v":"91440300MA5F3LM46W"}]
[1438,"深圳市科汇兴科技有限公司",{"$f":"VLOOKUP(B1441:B2939,[1]创新型中小企业导出Excel!A$3:O$1946,15,FALSE)","v":"91440300550301166Y"}]
[1439,"深圳市谊宇诚光电科技有限公司",{"$f":"VLOOKUP(B1442:B2940,[1]创新型中小企业导出Excel!A$3:O$1946,15,FALSE)","v":"91440300774133712K"}]
[1440,"深圳市赢领智尚服饰科技有限公司",{"$f":"VLOOKUP(B1443:B2941,[1]创新型中小企业导出Excel!A$3:O$1946,15,FALSE)","v":"91440300MA5EYTDD26"}]
[1441,"深圳市灏之海科技有限公司",{"$f":"VLOOKUP(B1444:B2942,[1]创新型中小企业导出Excel!A$3:O$1946,15,FALSE)","v":"9144030031945686X4"}]
[1442,"猪草微（深圳）电子有限公司",{"$f":"VLOOKUP(B1445:B2943,[1]创新型中小企业导出Excel!A$3:O$1946,15,FALSE)","v":"91440300MA5FPX6T1T"}]
[1443,"深圳通微新能源科技有限公司",{"$f":"VLOOKUP(B1446:B2944,[1]创新型中小企业导出Excel!A$3:O$1946,15,FALSE)","v":"91440300MA5GEAJ56C"}]
[1444,"英汇智能（深圳）有限公司",{"$f":"VLOOKUP(B1447:B2945,[1]创新型中小企业导出Excel!A$3:O$1946,15,FALSE)","v":"91440300MA5G1RH40T"}]
[1445,"深圳市汇科源电子科技有限公司",{"$f":"VLOOKUP(B1448:B2946,[1]创新型中小企业导出Excel!A$3:O$1946,15,FALSE)","v":"91440300065456375X"}]
[1446,"深圳市优凯特软件开发有限公司",{"$f":"VLOOKUP(B1449:B2947,[1]创新型中小企业导出Excel!A$3:O$1946,15,FALSE)","v":"91440300359819653G"}]
[1447,"深圳市胜元威科技有限公司",{"$f":"VLOOKUP(B1450:B2948,[1]创新型中小企业导出Excel!A$3:O$1946,15,FALSE)","v":"91440300678558833R"}]
[1448,"深圳市旭益达无刷电机有限公司",{"$f":"VLOOKUP(B1451:B2949,[1]创新型中小企业导出Excel!A$3:O$1946,15,FALSE)","v":"914403005642270835"}]
[1449,"深圳市聚合包装设计有限公司",{"$f":"VLOOKUP(B1452:B2950,[1]创新型中小企业导出Excel!A$3:O$1946,15,FALSE)","v":"91440300664193896Y"}]
[1450,"深圳市鼎芯无限科技有限公司",{"$f":"VLOOKUP(B1453:B2951,[1]创新型中小企业导出Excel!A$3:O$1946,15,FALSE)","v":"914403006837930291"}]
[1451,"深圳市领军商显科技有限公司",{"$f":"VLOOKUP(B1454:B2952,[1]创新型中小企业导出Excel!A$3:O$1946,15,FALSE)","v":"91440300MA5EDA8LXD"}]
[1452,"深圳市众森电子有限公司",{"$f":"VLOOKUP(B1455:B2953,[1]创新型中小企业导出Excel!A$3:O$1946,15,FALSE)","v":"9144030077032866XF"}]
[1453,"深圳市士奇科技有限公司",{"$f":"VLOOKUP(B1456:B2954,[1]创新型中小企业导出Excel!A$3:O$1946,15,FALSE)","v":"91440300MA5H5T2272"}]
[1454,"深圳市华诚电力设备有限公司",{"$f":"VLOOKUP(B1457:B2955,[1]创新型中小企业导出Excel!A$3:O$1946,15,FALSE)","v":"91440300553866699R"}]
[1455,"深圳市大不愚设计咨询有限公司",{"$f":"VLOOKUP(B1458:B2956,[1]创新型中小企业导出Excel!A$3:O$1946,15,FALSE)","v":"91440300MA5EKLDE2N"}]
[1456,"深圳市洛金科技有限公司",{"$f":"VLOOKUP(B1459:B2957,[1]创新型中小企业导出Excel!A$3:O$1946,15,FALSE)","v":"91440300MA5DGQWN8R"}]
[1457,"深圳市凯健奥达科技有限公司",{"$f":"VLOOKUP(B1460:B2958,[1]创新型中小企业导出Excel!A$3:O$1946,15,FALSE)","v":"91440300788344967J"}]
[1458,"深圳市硕凯电子股份有限公司",{"$f":"VLOOKUP(B1461:B2959,[1]创新型中小企业导出Excel!A$3:O$1946,15,FALSE)","v":"91440300764961039Y"}]
[1459,"深圳市轻松信息科技有限公司",{"$f":"VLOOKUP(B1462:B2960,[1]创新型中小企业导出Excel!A$3:O$1946,15,FALSE)","v":"91440300MA5F97P15J"}]
[1460,"深圳市开鸿世纪信息技术股份有限公司",{"$f":"VLOOKUP(B1463:B2961,[1]创新型中小企业导出Excel!A$3:O$1946,15,FALSE)","v":"91440300576382195D"}]
[1461,"深圳市中诺无线科技有限公司",{"$f":"VLOOKUP(B1464:B2962,[1]创新型中小企业导出Excel!A$3:O$1946,15,FALSE)","v":"91440300MA5EJF5G6U"}]
[1462,"深圳市捷声科技有限公司",{"$f":"VLOOKUP(B1465:B2963,[1]创新型中小企业导出Excel!A$3:O$1946,15,FALSE)","v":"91440300087909494Y"}]
[1463,"深圳市维度创新实业有限公司",{"$f":"VLOOKUP(B1466:B2964,[1]创新型中小企业导出Excel!A$3:O$1946,15,FALSE)","v":"91440300071790767E"}]
[1464,"深圳金立翔视效科技有限公司",{"$f":"VLOOKUP(B1467:B2965,[1]创新型中小企业导出Excel!A$3:O$1946,15,FALSE)","v":"91440300797982725Q"}]
[1465,"深圳市创亿通途科技有限公司",{"$f":"VLOOKUP(B1468:B2966,[1]创新型中小企业导出Excel!A$3:O$1946,15,FALSE)","v":"91440300342862057H"}]
[1466,"龙汾科技（深圳）有限公司",{"$f":"VLOOKUP(B1469:B2967,[1]创新型中小企业导出Excel!A$3:O$1946,15,FALSE)","v":"91440300MA5EHH8B9P"}]
[1467,"深圳永泰数能科技有限公司",{"$f":"VLOOKUP(B1470:B2968,[1]创新型中小企业导出Excel!A$3:O$1946,15,FALSE)","v":"91440300MA5EWLWD0A"}]
[1468,"深圳市鸿淏高科产业发展有限公司",{"$f":"VLOOKUP(B1471:B2969,[1]创新型中小企业导出Excel!A$3:O$1946,15,FALSE)","v":"91440300350033945E"}]
[1469,"深圳市中新云创科技有限公司",{"$f":"VLOOKUP(B1472:B2970,[1]创新型中小企业导出Excel!A$3:O$1946,15,FALSE)","v":"91440300MA5FLPM96B"}]
[1470,"深圳爱马奇科技有限公司",{"$f":"VLOOKUP(B1473:B2971,[1]创新型中小企业导出Excel!A$3:O$1946,15,FALSE)","v":"91440300MA5ED57409"}]
[1471,"梵智达科技（深圳）有限公司",{"$f":"VLOOKUP(B1474:B2972,[1]创新型中小企业导出Excel!A$3:O$1946,15,FALSE)","v":"91440300MA5FY6BF45"}]
[1472,"深圳中泰智丰物联网科技有限公司",{"$f":"VLOOKUP(B1475:B2973,[1]创新型中小企业导出Excel!A$3:O$1946,15,FALSE)","v":"914403003351440307"}]
[1473,"深圳市爱派赛科技有限公司",{"$f":"VLOOKUP(B1476:B2974,[1]创新型中小企业导出Excel!A$3:O$1946,15,FALSE)","v":"91440300580081221D"}]
[1474,"深圳市云创信科技有限公司",{"$f":"VLOOKUP(B1477:B2975,[1]创新型中小企业导出Excel!A$3:O$1946,15,FALSE)","v":"91440300MA5G7L5C6U"}]
[1475,"深圳市旭龙光电有限公司",{"$f":"VLOOKUP(B1478:B2976,[1]创新型中小企业导出Excel!A$3:O$1946,15,FALSE)","v":"914403005856458232"}]
[1476,"深圳市炫丽塑胶科技有限公司",{"$f":"VLOOKUP(B1479:B2977,[1]创新型中小企业导出Excel!A$3:O$1946,15,FALSE)","v":"91440300597755632D"}]
[1477,"深圳市东大智勇工程有限公司",{"$f":"VLOOKUP(B1480:B2978,[1]创新型中小企业导出Excel!A$3:O$1946,15,FALSE)","v":"914403005586552335"}]
[1478,"深圳市中锂能源技术有限公司",{"$f":"VLOOKUP(B1481:B2979,[1]创新型中小企业导出Excel!A$3:O$1946,15,FALSE)","v":"91440300066305448F"}]
[1479,"深圳市度申科技有限公司",{"$f":"VLOOKUP(B1482:B2980,[1]创新型中小企业导出Excel!A$3:O$1946,15,FALSE)","v":"91440300668541237P"}]
[1480,"日彩复合塑料（深圳）有限公司",{"$f":"VLOOKUP(B1483:B2981,[1]创新型中小企业导出Excel!A$3:O$1946,15,FALSE)","v":"9144030055989712XP"}]
[1481,"深圳市灏鑫达电子科技有限公司",{"$f":"VLOOKUP(B1484:B2982,[1]创新型中小企业导出Excel!A$3:O$1946,15,FALSE)","v":"91440300070384265G"}]
[1482,"深圳市华辰信科电子有限公司",{"$f":"VLOOKUP(B1485:B2983,[1]创新型中小企业导出Excel!A$3:O$1946,15,FALSE)","v":"91440300695595118A"}]
[1483,"深圳市拓宝莱照明科技有限公司",{"$f":"VLOOKUP(B1486:B2984,[1]创新型中小企业导出Excel!A$3:O$1946,15,FALSE)","v":"914403006894315202"}]
[1484,"捍防（深圳）实业有限公司",{"$f":"VLOOKUP(B1487:B2985,[1]创新型中小企业导出Excel!A$3:O$1946,15,FALSE)","v":"91440300MA5ECL407E"}]
[1485,"深圳市知易云科技有限公司",{"$f":"VLOOKUP(B1488:B2986,[1]创新型中小企业导出Excel!A$3:O$1946,15,FALSE)","v":"91440300MACRQXA177"}]
[1486,"深圳轻享健康管理有限公司",{"$f":"VLOOKUP(B1489:B2987,[1]创新型中小企业导出Excel!A$3:O$1946,15,FALSE)","v":"91440300326284007F"}]
[1487,"深圳市恒凯迅科技有限公司",{"$f":"VLOOKUP(B1490:B2988,[1]创新型中小企业导出Excel!A$3:O$1946,15,FALSE)","v":"91440300MACXX7G0XE"}]
[1488,"深圳市加诺实业有限公司",{"$f":"VLOOKUP(B1491:B2989,[1]创新型中小企业导出Excel!A$3:O$1946,15,FALSE)","v":"91440300MA5FD2MP09"}]
[1489,"深圳市方谦科技有限公司",{"$f":"VLOOKUP(B1492:B2990,[1]创新型中小企业导出Excel!A$3:O$1946,15,FALSE)","v":"91440300MA5GHM7T57"}]
[1490,"深圳市垚舟科技有限公司",{"$f":"VLOOKUP(B1493:B2991,[1]创新型中小企业导出Excel!A$3:O$1946,15,FALSE)","v":"91440300MA5EM0025Q"}]
[1491,"深圳市境驰科技有限公司",{"$f":"VLOOKUP(B1494:B2992,[1]创新型中小企业导出Excel!A$3:O$1946,15,FALSE)","v":"91440300349993711Y"}]
[1492,"深圳市盛通物联科技有限公司",{"$f":"VLOOKUP(B1495:B2993,[1]创新型中小企业导出Excel!A$3:O$1946,15,FALSE)","v":"91440300MA5HJ3XE89"}]
[1493,"深圳众知优品科技有限公司",{"$f":"VLOOKUP(B1496:B2994,[1]创新型中小企业导出Excel!A$3:O$1946,15,FALSE)","v":"91440300MA5H3B438M"}]
[1494,"深圳深展网络科技有限公司",{"$f":"VLOOKUP(B1497:B2995,[1]创新型中小企业导出Excel!A$3:O$1946,15,FALSE)","v":"91440300MA5GH5KR5N"}]
[1495,"深圳市向前网络科技有限公司",{"$f":"VLOOKUP(B1498:B2996,[1]创新型中小企业导出Excel!A$3:O$1946,15,FALSE)","v":"91440300MA5GLGAE75"}]
[1496,"深圳市瀚之洋液晶技术有限公司",{"$f":"VLOOKUP(B1499:B2997,[1]创新型中小企业导出Excel!A$3:O$1946,15,FALSE)","v":"914403000870309067"}]
[1497,"深圳市奇林实业有限公司",{"$f":"VLOOKUP(B1500:B2998,[1]创新型中小企业导出Excel!A$3:O$1946,15,FALSE)","v":"91440300754250604B"}]
[1498,"深圳市黑金工业制造有限公司",{"$f":"VLOOKUP(B1501:B2999,[1]创新型中小企业导出Excel!A$3:O$1946,15,FALSE)","v":"91440300MA5DLJF85U"}]
[1499,"深圳市华电晨光智能科技有限公司",{"$f":"VLOOKUP(B1502:B3000,[1]创新型中小企业导出Excel!A$3:O$1946,15,FALSE)","v":"914403000638753060"}]