{"text_format":"3","workbook":"xlsx","n_sheets":1,"sheets":["全区汇总"],"not_rendered":{"external_links":1,"defined_names":2},"read":"whole","date_system":"1900"}

{"sheet":"全区汇总","index":0,"n_rows":250,"n_cols":5,"rows_kept":250,"merged":[[1,0,1,4],[2,0,2,1],[2,3,2,4],[4,1,17,1],[18,1,30,1],[31,1,45,1],[46,1,64,1],[65,1,81,1],[82,1,99,1],[100,1,114,1],[115,1,132,1],[133,1,148,1],[149,1,163,1],[164,1,179,1],[180,1,191,1],[192,1,206,1],[207,1,221,1],[222,1,235,1],[236,1,248,1],[249,0,249,2]]}
["附件"]
["龙华区2021—2022学年度符合在园儿童健康成长补贴资格人数统计表"]
["统计单位：",null,"深圳市龙华区教育局","填表日期：2022年1月6日"]
["序号","所属街道","幼儿园名称","享受补贴人数（人）","办园性质"]
[1,"观湖1","深圳市龙华区第三幼儿园",450,{"$f":"VLOOKUP(C5,[1]Sheet1!$B$6:$C$252,2,)","v":"公办园"}]
[2,null,"深圳市龙华区鹭湖外国语小学附属招商观园幼儿园",531,{"$f":"VLOOKUP(C6,[1]Sheet1!$B$6:$C$252,2,)","v":"公办园"}]
[3,null,"深圳市龙华区外国语学校附属天悦湾幼儿园",202,{"$f":"VLOOKUP(C7,[1]Sheet1!$B$6:$C$252,2,)","v":"公办园"}]
[4,null,"深圳市龙华区鹭湖外国语小学附属懿花园幼儿园",305,{"$f":"VLOOKUP(C8,[1]Sheet1!$B$6:$C$252,2,)","v":"公办园"}]
[5,null,"深圳市龙华区鹭湖外国语小学附属振鹭幼儿园",209,{"$f":"VLOOKUP(C9,[1]Sheet1!$B$6:$C$252,2,)","v":"公办园"}]
[6,null,"深圳市龙华区阳光富士嘉园幼儿园",287]
[7,null,"深圳市龙华区伟禄雅苑幼儿园",314]
[8,null,"深圳市龙华区外国语学校附属塞拉维幼儿园",215,{"$f":"VLOOKUP(C12,[1]Sheet1!$B$6:$C$252,2,)","v":"公办园"}]
[9,null,"深圳市龙华区樟坑径幼儿园",403]
[10,null,"深圳市龙华区宝文幼儿园",153]
[11,null,"深圳市龙华区德风小学附属中森幼儿园",166,{"$f":"VLOOKUP(C15,[1]Sheet1!$B$6:$C$252,2,)","v":"公办园"}]
[12,null,"深圳市龙华区龙澜学校附属嘉湖幼儿园",138,{"$f":"VLOOKUP(C16,[1]Sheet1!$B$6:$C$252,2,)","v":"公办园"}]
[13,null,"深圳市龙华区教科院附属小学博蕾幼儿园",180,{"$f":"VLOOKUP(C17,[1]Sheet1!$B$6:$C$252,2,)","v":"公办园"}]
[14,null,"深圳市龙华区童心新田幼儿园",431]
[15,"观湖2","深圳市龙华区培新幼儿园",348]
[16,null,"深圳市龙华区新田绿色摇篮幼儿园",186]
[17,null,"深圳市龙华区童话林幼儿园",339]
[18,null,"深圳市龙华区广培小学附属新丰幼儿园",128,{"$f":"VLOOKUP(C22,[1]Sheet1!$B$6:$C$252,2,)","v":"公办园"}]
[19,null,"深圳市龙华区美嘉幼儿园",157]
[20,null,"深圳市龙华区晶晶小明星幼儿园",422]
[21,null,"深圳市龙华区教科院附属小学珍珍幼儿园",210,{"$f":"VLOOKUP(C25,[1]Sheet1!$B$6:$C$252,2,)","v":"公办园"}]
[22,null,"深圳市龙华区启梦幼儿园",68]
[23,null,"深圳市龙华区翰文幼儿园",43]
[24,null,"深圳市龙华区教科院附属小学格澜幼儿园",335,{"$f":"VLOOKUP(C28,[1]Sheet1!$B$6:$C$252,2,)","v":"公办园"}]
[25,null,"深圳市龙华区鹭湖外国语小学附属祥澜苑幼儿园",303,{"$f":"VLOOKUP(C29,[1]Sheet1!$B$6:$C$252,2,)","v":"公办园"}]
[26,null,"深圳市龙华区教科院附属小学文澜苑幼儿园",262,{"$f":"VLOOKUP(C30,[1]Sheet1!$B$6:$C$252,2,)","v":"公办园"}]
[27,null,"深圳市龙华区清湖小学附属澜园幼儿园",411,{"$f":"VLOOKUP(C31,[1]Sheet1!$B$6:$C$252,2,)","v":"公办园"}]
[28,"观湖3","深圳市龙华区龙澜学校附属佳华领域幼儿园",312,{"$f":"VLOOKUP(C32,[1]Sheet1!$B$6:$C$252,2,)","v":"公办园"}]
[29,null,"深圳市龙华区曙光幼儿园",216]
[30,null,"深圳市龙华区大和幼儿园",520]
[31,null,"深圳市龙华区观澜第二小学附属康乐星幼儿园",167,{"$f":"VLOOKUP(C35,[1]Sheet1!$B$6:$C$252,2,)","v":"公办园"}]
[32,null,"深圳市龙华区新起点幼儿园",518]
[33,null,"深圳市龙华区第三外国语学校附属观城苑幼儿园",283,{"$f":"VLOOKUP(C37,[1]Sheet1!$B$6:$C$252,2,)","v":"公办园"}]
[34,null,"深圳市龙华区第三外国语学校附属卓尔幼儿园",201,{"$f":"VLOOKUP(C38,[1]Sheet1!$B$6:$C$252,2,)","v":"公办园"}]
[35,null,"深圳市龙华区第三外国语学校附属非凡幼儿园",103,{"$f":"VLOOKUP(C39,[1]Sheet1!$B$6:$C$252,2,)","v":"公办园"}]
[36,null,"深圳市龙华区东王幼儿园",85]
[37,null,"深圳市龙华区观澜中心学校附属澜馨幼儿园",364,{"$f":"VLOOKUP(C41,[1]Sheet1!$B$6:$C$252,2,)","v":"公办园"}]
[38,null,"深圳市龙华区振能学校附属松元幼儿园",269,{"$f":"VLOOKUP(C42,[1]Sheet1!$B$6:$C$252,2,)","v":"公办园"}]
[39,null,"深圳市龙华区桂花小学附属簕杜鹃幼儿园",245,{"$f":"VLOOKUP(C43,[1]Sheet1!$B$6:$C$252,2,)","v":"公办园"}]
[40,null,"深圳市龙华区振能学校附属福兴围幼儿园",99,{"$f":"VLOOKUP(C44,[1]Sheet1!$B$6:$C$252,2,)","v":"公办园"}]
[41,null,"深圳市龙华区振能学校附属观壹城幼儿园",272,{"$f":"VLOOKUP(C45,[1]Sheet1!$B$6:$C$252,2,)","v":"公办园"}]
[42,null,"深圳市龙华区新起点第三幼儿园",274]
[43,"民治1","深圳市龙华区实验幼教集团梅龙幼儿园",325,{"$f":"VLOOKUP(C47,[1]Sheet1!$B$6:$C$252,2,)","v":"公办园"}]
[44,null,"深圳市龙华区第七幼儿园",411,{"$f":"VLOOKUP(C48,[1]Sheet1!$B$6:$C$252,2,)","v":"公办园"}]
[45,null,"深圳市龙华区书香小学附属华府幼儿园",559,{"$f":"VLOOKUP(C49,[1]Sheet1!$B$6:$C$252,2,)","v":"公办园"}]
[46,null,"深圳市龙华区世纪星书香门第幼儿园",432]
[47,null,"深圳市龙华区诺亚舟翠岭华庭幼儿园",197]
[48,null,"深圳市龙华区行知实验小学附属碧水龙庭幼儿园",360,{"$f":"VLOOKUP(C52,[1]Sheet1!$B$6:$C$252,2,)","v":"公办园"}]
[49,null,"深圳市龙华区潜龙学校附属龙岸幼儿园",404,{"$f":"VLOOKUP(C53,[1]Sheet1!$B$6:$C$252,2,)","v":"公办园"}]
[50,null,"深圳市龙华区潜龙学校附属幼儿园",277,{"$f":"VLOOKUP(C54,[1]Sheet1!$B$6:$C$252,2,)","v":"公办园"}]
[51,null,"深圳市龙华区潜龙学校附属鑫茂幼儿园",445,{"$f":"VLOOKUP(C55,[1]Sheet1!$B$6:$C$252,2,)","v":"公办园"}]
[52,null,"深圳市龙华区实验幼教集团和风轩幼儿园",261,{"$f":"VLOOKUP(C56,[1]Sheet1!$B$6:$C$252,2,)","v":"公办园"}]
[53,null,"深圳市龙华区华南实验学校附属滢水山庄幼儿园",343,{"$f":"VLOOKUP(C57,[1]Sheet1!$B$6:$C$252,2,)","v":"公办园"}]
[54,null,"深圳市龙华区书香小学附属滢水二区幼儿园",235,{"$f":"VLOOKUP(C58,[1]Sheet1!$B$6:$C$252,2,)","v":"公办园"}]
[55,null,"深圳市龙华区丹堤实验学校附属溪山幼儿园",383,{"$f":"VLOOKUP(C59,[1]Sheet1!$B$6:$C$252,2,)","v":"公办园"}]
[56,null,"深圳市龙华区华南实验学校附属万家灯火幼儿园",427,{"$f":"VLOOKUP(C60,[1]Sheet1!$B$6:$C$252,2,)","v":"公办园"}]
[57,null,"深圳市龙华区民乐绿色摇篮幼儿园",387]
[58,null,"深圳市龙华区丹堤实验学校附属丰泽湖幼儿园",433,{"$f":"VLOOKUP(C62,[1]Sheet1!$B$6:$C$252,2,)","v":"公办园"}]
[59,null,"深圳市龙华区东边村幼儿园",540]
[60,null,"深圳市龙华区教科院附属实验学校世纪春城幼儿园",534,{"$f":"VLOOKUP(C64,[1]Sheet1!$B$6:$C$252,2,)","v":"公办园"}]
[61,null,"深圳市龙华区民治小学附属幼儿园",591,{"$f":"VLOOKUP(C65,[1]Sheet1!$B$6:$C$252,2,)","v":"公办园"}]
[62,"民治2","深圳市龙华区行知小学附属丰润幼儿园",396,{"$f":"VLOOKUP(C66,[1]Sheet1!$B$6:$C$252,2,)","v":"公办园"}]
[63,null,"深圳市龙华区绿色摇篮幼儿园",171]
[64,null,"深圳市龙华区行知小学附属锦绣江南幼儿园",492,{"$f":"VLOOKUP(C68,[1]Sheet1!$B$6:$C$252,2,)","v":"公办园"}]
[65,null,"深圳市龙华区牛栏前幼儿园",451]
[66,null,"深圳市龙华区民治中学教育集团梅陇镇幼儿园",603,{"$f":"VLOOKUP(C70,[1]Sheet1!$B$6:$C$252,2,)","v":"公办园"}]
[67,null,"深圳市龙华区奥德宝幼儿园",113]
[68,null,"深圳市龙华区民治小学附属卓能雅苑幼儿园",396,{"$f":"VLOOKUP(C72,[1]Sheet1!$B$6:$C$252,2,)","v":"公办园"}]
[69,null,"深圳市龙华区行知实验小学附属皓月幼儿园",154,{"$f":"VLOOKUP(C73,[1]Sheet1!$B$6:$C$252,2,)","v":"公办园"}]
[70,null,"深圳市龙华区萌恩幼儿园",327]
[71,null,"深圳市龙华区祥瑞华幼儿园",380]
[72,null,"深圳市龙华区中和华星幼儿园",154]
[73,null,"深圳市龙华区梅花山庄幼儿园",694]
[74,null,"深圳市龙华区华南实验学校附属春华四季幼儿园",442,{"$f":"VLOOKUP(C78,[1]Sheet1!$B$6:$C$252,2,)","v":"公办园"}]
[75,null,"深圳市龙华区龙腾学校附属银泉幼儿园",431,{"$f":"VLOOKUP(C79,[1]Sheet1!$B$6:$C$252,2,)","v":"公办园"}]
[76,null,"深圳市龙华区上塘幼儿园",466]
[77,null,"深圳市龙华区国育第五幼儿园",261]
[78,null,"深圳市龙华区皓源第九幼儿园",430]
[79,"民治3","深圳市龙华区新彩苑幼儿园",265,{"$f":"VLOOKUP(C83,[1]Sheet1!$B$6:$C$252,2,)","v":"公办园"}]
[80,null,"深圳市龙华区白石龙幼儿园",745]
[81,null,"深圳市龙华区东星幼儿园",389]
[82,null,"深圳市龙华区龙腾学校附属阳光新苑幼儿园",400,{"$f":"VLOOKUP(C86,[1]Sheet1!$B$6:$C$252,2,)","v":"公办园"}]
[83,null,"深圳市龙华区玉龙学校附属龙悦居幼儿园",645,{"$f":"VLOOKUP(C87,[1]Sheet1!$B$6:$C$252,2,)","v":"公办园"}]
[84,null,"深圳市龙华区玉龙学校附属幼儿园",497,{"$f":"VLOOKUP(C88,[1]Sheet1!$B$6:$C$252,2,)","v":"公办园"}]
[85,null,"深圳市龙华区深外龙学校附属圣莫丽斯幼儿园",469,{"$f":"VLOOKUP(C89,[1]Sheet1!$B$6:$C$252,2,)","v":"公办园"}]
[86,null,"深圳市龙华区深外龙学校附属金亨利幼儿园",181,{"$f":"VLOOKUP(C90,[1]Sheet1!$B$6:$C$252,2,)","v":"公办园"}]
[87,null,"深圳市龙华区民治中学教育集团幸福枫景幼儿园",632,{"$f":"VLOOKUP(C91,[1]Sheet1!$B$6:$C$252,2,)","v":"公办园"}]
[88,null,"深圳市龙华区实验学校附属水榭春天幼儿园",426,{"$f":"VLOOKUP(C92,[1]Sheet1!$B$6:$C$252,2,)","v":"公办园"}]
[89,null,"深圳市龙华区民治中学教育集团绿景公馆幼儿园",407,{"$f":"VLOOKUP(C93,[1]Sheet1!$B$6:$C$252,2,)","v":"公办园"}]
[90,null,"深圳市龙华区实验幼教集团华业玫瑰幼儿园",813,{"$f":"VLOOKUP(C94,[1]Sheet1!$B$6:$C$252,2,)","v":"公办园"}]
[91,null,"深圳市龙华区翔龙御庭幼儿园",459]
[92,null,"深圳市龙华区第五幼儿园",419,{"$f":"VLOOKUP(C96,[1]Sheet1!$B$6:$C$252,2,)","v":"公办园"}]
[93,null,"深圳市龙华区未来小学附属金茂府幼儿园",588,{"$f":"VLOOKUP(C97,[1]Sheet1!$B$6:$C$252,2,)","v":"公办园"}]
[94,null,"深圳市龙华区教科院附属实验学校皇后道幼儿园",298,{"$f":"VLOOKUP(C98,[1]Sheet1!$B$6:$C$252,2,)","v":"公办园"}]
[95,null,"深圳市龙华区教科院幼教集团中海锦城幼儿园",806,{"$f":"VLOOKUP(C99,[1]Sheet1!$B$6:$C$252,2,)","v":"公办园"}]
[96,null,"深圳市龙华区未来小学附属长城里程幼儿园",585,{"$f":"VLOOKUP(C100,[1]Sheet1!$B$6:$C$252,2,)","v":"公办园"}]
[97,"龙华1","深圳市龙华区第一幼儿园",471,{"$f":"VLOOKUP(C101,[1]Sheet1!$B$6:$C$252,2,)","v":"公办园"}]
[98,null,"深圳市龙华区龙华第二小学附属美丽365幼儿园",338,{"$f":"VLOOKUP(C102,[1]Sheet1!$B$6:$C$252,2,)","v":"公办园"}]
[99,null,"深圳市龙华区龙华第二小学附属城市明珠幼儿园",371,{"$f":"VLOOKUP(C103,[1]Sheet1!$B$6:$C$252,2,)","v":"公办园"}]
[100,null,"深圳市龙华区龙华中心小学附属启仁幼儿园",529,{"$f":"VLOOKUP(C104,[1]Sheet1!$B$6:$C$252,2,)","v":"公办园"}]
[101,null,"深圳市龙华区三联德馨幼儿园",351]
[102,null,"深圳市龙华区龙华中心小学附属启智幼儿园",498,{"$f":"VLOOKUP(C106,[1]Sheet1!$B$6:$C$252,2,)","v":"公办园"}]
[103,null,"深圳市龙华区三联永恒幼儿园",707]
[104,null,"深圳市龙华区宝贝幼儿园",460]
[105,null,"深圳市龙华区光雅华龙幼儿园",658]
[106,null,"深圳市龙华区童乐荟幼儿园",112]
[107,null,"深圳市龙华区华联幼儿园",712]
[108,null,"深圳市龙华区龙丰幼儿园",314]
[109,null,"深圳市龙华区松和小学附属智慧星幼儿园",495,{"$f":"VLOOKUP(C113,[1]Sheet1!$B$6:$C$252,2,)","v":"公办园"}]
[110,null,"深圳市龙华区松和小学附属晨星幼儿园",298,{"$f":"VLOOKUP(C114,[1]Sheet1!$B$6:$C$252,2,)","v":"公办园"}]
[111,null,"深圳市龙华区教科院附属外国语学校尚雅幼儿园",311,{"$f":"VLOOKUP(C115,[1]Sheet1!$B$6:$C$252,2,)","v":"公办园"}]
[112,"龙华2","深圳市龙华区壹成中心鸿悦幼儿园",656,{"$f":"VLOOKUP(C116,[1]Sheet1!$B$6:$C$252,2,)","v":"公办园"}]
[113,null,"深圳市龙华区第二实验学校附属鸿尚幼儿园",454,{"$f":"VLOOKUP(C117,[1]Sheet1!$B$6:$C$252,2,)","v":"公办园"}]
[114,null,"深圳市龙华区第二实验学校附属鸿创幼儿园",675,{"$f":"VLOOKUP(C118,[1]Sheet1!$B$6:$C$252,2,)","v":"公办园"}]
[115,null,"深圳市龙华区创新实验学校附属华盛珑悦幼儿园",319,{"$f":"VLOOKUP(C119,[1]Sheet1!$B$6:$C$252,2,)","v":"公办园"}]
[116,null,"深圳市龙华区东环幼儿园",182]
[117,null,"深圳市龙华区清泉外国语学校附属富通天骏幼儿园",217,{"$f":"VLOOKUP(C121,[1]Sheet1!$B$6:$C$252,2,)","v":"公办园"}]
[118,null,"深圳市龙华区创新实验学校附属桦润馨居幼儿园",542,{"$f":"VLOOKUP(C122,[1]Sheet1!$B$6:$C$252,2,)","v":"公办园"}]
[119,null,"深圳市龙华区优蒙育童幼儿园",157]
[120,null,"深圳市龙华区大信东方幼儿园",272]
[121,null,"深圳市龙华区龙华第三小学附属优品小精英幼儿园",294,{"$f":"VLOOKUP(C125,[1]Sheet1!$B$6:$C$252,2,)","v":"公办园"}]
[122,null,"深圳市龙华区乐景幼儿园",242]
[123,null,"深圳市龙华区创新实验学校附属东华明珠幼儿园",336,{"$f":"VLOOKUP(C127,[1]Sheet1!$B$6:$C$252,2,)","v":"公办园"}]
[124,null,"深圳市龙华区龙华中英文实验学校幼儿园",459]
[125,null,"深圳市龙华区春苗幼儿园",501]
[126,null,"深圳市龙华区龙华第三小学附属美丽小太阳幼儿园",277,{"$f":"VLOOKUP(C130,[1]Sheet1!$B$6:$C$252,2,)","v":"公办园"}]
[127,null,"深圳市龙华区清泉外国语学校附属青年城邦幼儿园",185,{"$f":"VLOOKUP(C131,[1]Sheet1!$B$6:$C$252,2,)","v":"公办园"}]
[128,null,"深圳市龙华区培英幼儿园",186]
[129,null,"深圳市龙华区远恒佳花园幼儿园",647]
[130,"龙华3","深圳市龙华区松和小学附属振声幼儿园",433,{"$f":"VLOOKUP(C134,[1]Sheet1!$B$6:$C$252,2,)","v":"公办园"}]
[131,null,"深圳市龙华区展华幼儿园",542]
[132,null,"深圳市龙华区油松幼儿园",485]
[133,null,"深圳市龙华区阳光花蕾幼儿园",175]
[134,null,"深圳市龙华区松和小学附属水斗星幼儿园",389,{"$f":"VLOOKUP(C138,[1]Sheet1!$B$6:$C$252,2,)","v":"公办园"}]
[135,null,"深圳市龙华区教科院附属外国语学校博雅幼儿园",346,{"$f":"VLOOKUP(C139,[1]Sheet1!$B$6:$C$252,2,)","v":"公办园"}]
[136,null,"深圳市龙华区教科院附属外国语学校卓雅幼儿园",135,{"$f":"VLOOKUP(C140,[1]Sheet1!$B$6:$C$252,2,)","v":"公办园"}]
[137,null,"深圳市龙华区华贝尔幼儿园",188]
[138,null,"深圳市龙华区松和幼儿园",603]
[139,null,"深圳市龙华区新富龙幼儿园",501]
[140,null,"深圳市龙华区卓乐幼儿园",489]
[141,null,"深圳市龙华区卓乐第二幼儿园",227]
[142,null,"深圳市龙华区教科院幼教集团花半里幼儿园",363,{"$f":"VLOOKUP(C146,[1]Sheet1!$B$6:$C$252,2,)","v":"公办园"}]
[143,null,"深圳市龙华区清湖小学附属花蕾幼儿园",352,{"$f":"VLOOKUP(C147,[1]Sheet1!$B$6:$C$252,2,)","v":"公办园"}]
[144,null,"深圳市龙华区清湖小学附属幼儿园",553,{"$f":"VLOOKUP(C148,[1]Sheet1!$B$6:$C$252,2,)","v":"公办园"}]
[145,null,"深圳市龙华区盛世江南幼儿园",419]
[146,"大浪1","深圳市龙华区教科院幼教集团附属幼儿园",540,{"$f":"VLOOKUP(C150,[1]Sheet1!$B$6:$C$252,2,)","v":"公办园"}]
[147,null,"深圳市龙华区妙百睿幼儿园",333]
[148,null,"深圳市龙华区高峰学校附属荟港幼儿园",472,{"$f":"VLOOKUP(C152,[1]Sheet1!$B$6:$C$252,2,)","v":"公办园"}]
[149,null,"深圳市龙华区和平实验小学附属尚峻幼儿园",335,{"$f":"VLOOKUP(C153,[1]Sheet1!$B$6:$C$252,2,)","v":"公办园"}]
[150,null,"深圳市龙华区华星贝贝幼儿园",404]
[151,null,"深圳市龙华区高峰学校附属北极星幼儿园",265,{"$f":"VLOOKUP(C155,[1]Sheet1!$B$6:$C$252,2,)","v":"公办园"}]
[152,null,"深圳市龙华区三合幼儿园",384]
[153,null,"深圳市龙华区若贝尔幼儿园",72]
[154,null,"深圳市龙华区三智幼儿园",426]
[155,null,"深圳市龙华区启航幼儿园",397]
[156,null,"深圳市龙华区爱迪第三幼儿园",501]
[157,null,"深圳市龙华区柏克莱第二幼儿园",348]
[158,null,"深圳市龙华区锦华幼儿园",622]
[159,null,"深圳市龙华区翠景幼儿园",321]
[160,null,"深圳市龙华区元芬幼儿园",525]
[161,"大浪2","深圳市龙华区第二外国语学校附属慧美幼儿园",427,{"$f":"VLOOKUP(C165,[1]Sheet1!$B$6:$C$252,2,)","v":"公办园"}]
[162,null,"深圳市龙华区第三实验学校附属善学幼儿园",346,{"$f":"VLOOKUP(C166,[1]Sheet1!$B$6:$C$252,2,)","v":"公办园"}]
[163,null,"深圳市龙华区大浪实验学校附属新太阳幼儿园",302,{"$f":"VLOOKUP(C167,[1]Sheet1!$B$6:$C$252,2,)","v":"公办园"}]
[164,null,"深圳市龙华区爱义幼儿园",430]
[165,null,"深圳市龙华区同胜学校附属幸福童星幼儿园",323,{"$f":"VLOOKUP(C169,[1]Sheet1!$B$6:$C$252,2,)","v":"公办园"}]
[166,null,"深圳市龙华区欢乐童年第三幼儿园",473]
[167,null,"深圳市龙华区新宝龙幼儿园",508]
[168,null,"深圳市龙华区同胜学校附属富隆苑幼儿园",217,{"$f":"VLOOKUP(C172,[1]Sheet1!$B$6:$C$252,2,)","v":"公办园"}]
[169,null,"深圳市龙华区昊德宸星辰幼儿园",368]
[170,null,"深圳市龙华区童之星幼儿园",307]
[171,null,"深圳市龙华区英泰幼儿园",152]
[172,null,"深圳市龙华区第二外国语学校附属华美幼儿园",448,{"$f":"VLOOKUP(C176,[1]Sheet1!$B$6:$C$252,2,)","v":"公办园"}]
[173,null,"深圳市龙华区同盛幼儿园",275]
[174,null,"深圳市龙华区国耀幼儿园",180]
[175,null,"深圳市龙华区第二外国语学校附属尚美幼儿园",320,{"$f":"VLOOKUP(C179,[1]Sheet1!$B$6:$C$252,2,)","v":"公办园"}]
[176,null,"深圳市龙华区双龙星幼儿园",469]
[177,"大浪3","深圳市龙华区同胜学校附属桂冠华庭幼儿园",300,{"$f":"VLOOKUP(C181,[1]Sheet1!$B$6:$C$252,2,)","v":"公办园"}]
[178,null,"深圳市龙华区幸福花蕾幼儿园",403]
[179,null,"深圳市龙华区小牛津幼儿园",322]
[180,null,"深圳市龙华区罗屋围幼儿园",266]
[181,null,"深圳市龙华区睿华幼儿园",202]
[182,null,"深圳市龙华区大浪实验学校附属小燕子幼儿园",184,{"$f":"VLOOKUP(C186,[1]Sheet1!$B$6:$C$252,2,)","v":"公办园"}]
[183,null,"深圳市龙华区第三实验学校附属善德幼儿园",301,{"$f":"VLOOKUP(C187,[1]Sheet1!$B$6:$C$252,2,)","v":"公办园"}]
[184,null,"深圳市龙华区新围国育第一幼儿园",304]
[185,null,"深圳市龙华区博爵幼儿园（上岭排）",303]
[186,null,"深圳市龙华区大浪实验学校附属时尚幼儿园",265,{"$f":"VLOOKUP(C190,[1]Sheet1!$B$6:$C$252,2,)","v":"公办园"}]
[187,null,"深圳市龙华区第三实验学校附属善美幼儿园",224,{"$f":"VLOOKUP(C191,[1]Sheet1!$B$6:$C$252,2,)","v":"公办园"}]
[188,null,"深圳市龙华区光雅华阳幼儿园",169]
[189,"福城1","深圳市龙华区第二幼儿园",398,{"$f":"VLOOKUP(C193,[1]Sheet1!$B$6:$C$252,2,)","v":"公办园"}]
[190,null,"深圳市龙华区观澜第二小学附属福民幼儿园",192,{"$f":"VLOOKUP(C194,[1]Sheet1!$B$6:$C$252,2,)","v":"公办园"}]
[191,null,"深圳市龙华区博文幼儿园",212]
[192,null,"深圳市龙华区竹村幼儿园",372]
[193,null,"深圳市龙华区观澜第二小学附属观澜汇幼儿园",441,{"$f":"VLOOKUP(C197,[1]Sheet1!$B$6:$C$252,2,)","v":"公办园"}]
[194,null,"深圳市龙华区华英幼儿园",239]
[195,null,"深圳市龙华区皓源幼儿园",359]
[196,null,"深圳市龙华区行知学校附属锦绣观园幼儿园",389,{"$f":"VLOOKUP(C200,[1]Sheet1!$B$6:$C$252,2,)","v":"公办园"}]
[197,null,"深圳市龙华区童心大水坑幼儿园",587]
[198,null,"深圳市龙华区小哈佛幼儿园",116]
[199,null,"深圳市龙华区恒星幼儿园",650]
[200,null,"深圳市龙华区福苑贝贝幼儿园",179]
[201,null,"深圳市龙华区行知学校附属兴富幼儿园",273,{"$f":"VLOOKUP(C205,[1]Sheet1!$B$6:$C$252,2,)","v":"公办园"}]
[202,null,"深圳市龙华区鸿星宝贝第二幼儿园",460]
[203,null,"深圳市龙华区金湖湾幼儿园",185]
[204,"福城2","深圳市龙华区第六幼儿园",354,{"$f":"VLOOKUP(C208,[1]Sheet1!$B$6:$C$252,2,)","v":"公办园"}]
[205,null,"深圳市龙华区福悦幼儿园",496]
[206,null,"深圳市龙华区教科院附属学校福安雅园幼儿园",589,{"$f":"VLOOKUP(C210,[1]Sheet1!$B$6:$C$252,2,)","v":"公办园"}]
[207,null,"深圳市龙华区振能学校附属御龙山幼儿园",409,{"$f":"VLOOKUP(C211,[1]Sheet1!$B$6:$C$252,2,)","v":"公办园"}]
[208,null,"深圳市龙华区第三外国语学校附属华盛观荟幼儿园",324,{"$f":"VLOOKUP(C212,[1]Sheet1!$B$6:$C$252,2,)","v":"公办园"}]
[209,null,"深圳市龙华区百丽幼儿园",185]
[210,null,"深圳市龙华区龙澜学校附属新塘幼儿园",210,{"$f":"VLOOKUP(C214,[1]Sheet1!$B$6:$C$252,2,)","v":"公办园"}]
[211,null,"深圳市龙华区龙澜学校附属七彩虹幼儿园",211,{"$f":"VLOOKUP(C215,[1]Sheet1!$B$6:$C$252,2,)","v":"公办园"}]
[212,null,"深圳市龙华区腾飞世纪幼儿园",266]
[213,null,"深圳市龙华区东方朗育幼儿园",71]
[214,null,"深圳市龙华区教科院附属学校桂月幼儿园",349,{"$f":"VLOOKUP(C218,[1]Sheet1!$B$6:$C$252,2,)","v":"公办园"}]
[215,null,"深圳市龙华区国育幼儿园",341]
[216,null,"深圳市龙华区鸿星宝贝幼儿园",340]
[217,null,"深圳市龙华区章阁幼儿园",209]
[218,null,"深圳市龙华区荟萃幼儿园",143]
[219,"观澜1","深圳市龙华区教科院附属学校珑门名苑幼儿园",335,{"$f":"VLOOKUP(C223,[1]Sheet1!$B$6:$C$252,2,)","v":"公办园"}]
[220,null,"深圳市龙华区德风小学附属君子布幼儿园",385,{"$f":"VLOOKUP(C224,[1]Sheet1!$B$6:$C$252,2,)","v":"公办园"}]
[221,null,"深圳市龙华区广培第二幼儿园",267]
[222,null,"深圳市龙华区观澜幼教集团观禧幼儿园",61,{"$f":"VLOOKUP(C226,[1]Sheet1!$B$6:$C$252,2,)","v":"公办园"}]
[223,null,"深圳市龙华区七彩摇篮幼儿园",268]
[224,null,"深圳市龙华区新太阳第二幼儿园",224]
[225,null,"深圳市龙华区小星星幼儿园",271]
[226,null,"深圳市龙华区观澜湖幼儿园",175]
[227,null,"深圳市龙华区育蕾幼儿园",178]
[228,null,"深圳市龙华区小星星第二幼儿园",563]
[229,null,"深圳市龙华区观澜中心学校附属澜泓幼儿园",348,{"$f":"VLOOKUP(C233,[1]Sheet1!$B$6:$C$252,2,)","v":"公办园"}]
[230,null,"深圳市龙华区观澜中心学校附属澜雅幼儿园",119,{"$f":"VLOOKUP(C234,[1]Sheet1!$B$6:$C$252,2,)","v":"公办园"}]
[231,null,"深圳市龙华区观澜中心学校附属澜悦幼儿园",399,{"$f":"VLOOKUP(C235,[1]Sheet1!$B$6:$C$252,2,)","v":"公办园"}]
[232,null,"深圳市龙华区桂花小学附属宝贝星幼儿园",298,{"$f":"VLOOKUP(C236,[1]Sheet1!$B$6:$C$252,2,)","v":"公办园"}]
[233,"观澜2","深圳市龙华区碧澜外国语小学附属观湖园幼儿园",300,{"$f":"VLOOKUP(C237,[1]Sheet1!$B$6:$C$252,2,)","v":"公办园"}]
[234,null,"深圳市龙华区新起点第二幼儿园",240]
[235,null,"深圳市龙华区碧澜外国语小学附属观湖园春蕾幼儿园",231,{"$f":"VLOOKUP(C239,[1]Sheet1!$B$6:$C$252,2,)","v":"公办园"}]
[236,null,"深圳市龙华区碧澜外国语小学附属星雅幼儿园",83,{"$f":"VLOOKUP(C240,[1]Sheet1!$B$6:$C$252,2,)","v":"公办园"}]
[237,null,"深圳市龙华区桂花幼儿园",559]
[238,null,"深圳市龙华区大林幼儿园",527]
[239,null,"深圳市龙华区阳光春蕾幼儿园",187]
[240,null,"深圳市龙华区桂花小学附属企坪幼儿园",148,{"$f":"VLOOKUP(C244,[1]Sheet1!$B$6:$C$252,2,)","v":"公办园"}]
[241,null,"深圳市龙华区乐博幼儿园",270]
[242,null,"深圳市龙华区广培小学附属茗语华苑幼儿园",244,{"$f":"VLOOKUP(C246,[1]Sheet1!$B$6:$C$252,2,)","v":"公办园"}]
[243,null,"深圳市龙华区华艺幼儿园",20]
[244,null,"深圳市龙华区博蕾黎光幼儿园",119]
[245,null,"深圳市龙华区东方君逸幼儿园",67]
["合计",null,null,{"$f":"SUM(D5:D249)","v":84647}]